- Раздел: Природа
- Дата съёмки: неизвестно
- Дата загрузки фото: 15.05.2016 22:02
- Оригинальная фотография: 1920 x 1280 (1,0 Мб)
- Технические характеристики:
- Фотоаппарат: Canon EOS 5D Mark II
- Выдержка: 1/250
- Гиперфокальное расстояние: inf m
- Диафрагма: 2,8
- Светочувствительность: 100
- Фокусное расстояние: 200,0 mm (35 mm equivalent: 400,0 mm)
- Полный EXIF
- Adobe
- ColorTransform: YCbCr
- Composite
- Aperture: 2,8
- CircleOfConfusion: 0,011 mm
- DOF: inf (0,00 m - inf)
- FOV: 5,0 deg
- FocalLength35efl: 200,0 mm (35 mm equivalent: 400,0 mm)
- HyperfocalDistance: inf m
- LensID: Canon EF 70-200mm f/2.8L IS II USM
- ScaleFactor35efl: 2,9
- ShutterSpeed: 1/250
- ExifIFD
- ApertureValue: 2,8
- ColorSpace: sRGB
- CreateDate: 2016:05:15 15:42:04
- CustomRendered: Normal
- DateTimeOriginal: 2016:05:15 15:42:04
- ExifImageHeight: 1280
- ExifImageWidth: 1920
- ExposureCompensation: 0
- ExposureMode: Auto
- ExposureProgram: Aperture-priority AE
- ExposureTime: 1/250
- FNumber: 2,8
- Flash: Off, Did not fire
- FocalLength: 200,0 mm
- ISO: 100
- LensInfo: 70-200mm f/?
- LensModel: EF70-200mm f/2.8L IS II USM
- MaxApertureValue: 2,8
- MeteringMode: Multi-segment
- SceneCaptureType: Standard
- SensitivityType: Unknown
- SerialNumber: 3331628136
- ShutterSpeedValue: 1/250
- SubjectDistance: 1,71 m
- WhiteBalance: Auto
- ICC-header
- ICC-meas
- ICC-view
- IFD0
- Artist: Photographer: Kazarenko Andrey
- BitsPerSample: 8 8 8
- ImageHeight: 3744
- ImageWidth: 5616
- Make: Canon
- Model: Canon EOS 5D Mark II
- ModifyDate: 2016:05:15 21:44:26
- Orientation: Horizontal (normal)
- PhotometricInterpretation: RGB
- SamplesPerPixel: 3
- IFD1
- IPTC
- By-line: Photographer: Kazarenko Andrey
- DateCreated: 2016:05:15
- System
- XMP-aux
- ApproximateFocusDistance: 1,71
- Firmware: 2.0.9
- FlashCompensation: 0
- ImageNumber: 0
- Lens: EF70-200mm f/2.8L IS II USM
- LensID: 251
- XMP-crs
- AlreadyApplied: True
- BlueHue: 0
- BlueSaturation: 0
- Brightness: +50
- ChromaticAberrationB: 0
- ChromaticAberrationR: 0
- Clarity: 0
- ColorNoiseReduction: 25
- ColorNoiseReductionDetail: 50
- ColorTemperature: 4300
- Contrast: +25
- ConvertToGrayscale: False
- Defringe: 0
- Exposure: 0.00
- FillLight: 5
- GrainAmount: 0
- GreenHue: 0
- GreenSaturation: 0
- HasCrop: False
- HasSettings: True
- HighlightRecovery: 0
- HueAdjustmentAqua: 0
- HueAdjustmentBlue: 0
- HueAdjustmentGreen: 0
- HueAdjustmentMagenta: 0
- HueAdjustmentOrange: 0
- HueAdjustmentPurple: 0
- HueAdjustmentRed: 0
- HueAdjustmentYellow: 0
- LensManualDistortionAmount: 0
- LensProfileEnable: 0
- LensProfileSetup: LensDefaults
- LuminanceAdjustmentAqua: 0
- LuminanceAdjustmentBlue: 0
- LuminanceAdjustmentGreen: 0
- LuminanceAdjustmentMagenta: 0
- LuminanceAdjustmentOrange: 0
- LuminanceAdjustmentPurple: 0
- LuminanceAdjustmentRed: 0
- LuminanceAdjustmentYellow: 0
- LuminanceSmoothing: 0
- ParametricDarks: 0
- ParametricHighlightSplit: 75
- ParametricHighlights: 0
- ParametricLights: 0
- ParametricMidtoneSplit: 50
- ParametricShadowSplit: 25
- ParametricShadows: 0
- PerspectiveHorizontal: 0
- PerspectiveRotate: 0.0
- PerspectiveScale: 100
- PerspectiveVertical: 0
- PostCropVignetteAmount: 0
- ProcessVersion: 5.7
- RedHue: 0
- RedSaturation: 0
- Saturation: +5
- SaturationAdjustmentAqua: 0
- SaturationAdjustmentBlue: 0
- SaturationAdjustmentGreen: 0
- SaturationAdjustmentMagenta: 0
- SaturationAdjustmentOrange: 0
- SaturationAdjustmentPurple: 0
- SaturationAdjustmentRed: 0
- SaturationAdjustmentYellow: 0
- ShadowTint: 0
- Shadows: 5
- SharpenDetail: 25
- SharpenEdgeMasking: 0
- SharpenRadius: +1.0
- Sharpness: 25
- SplitToningBalance: 0
- SplitToningHighlightHue: 0
- SplitToningHighlightSaturation: 0
- SplitToningShadowHue: 0
- SplitToningShadowSaturation: 0
- Tint: +7
- ToneCurve: 0, 0, 32, 22, 64, 56, 128, 128, 192, 196, 255, 255
- ToneCurveName: Medium Contrast
- Version: 6.3
- Vibrance: +10
- VignetteAmount: 0
- WhiteBalance: As Shot
- XMP-dc
- Creator: Photographer: Kazarenko Andrey
- Format: image/jpeg
- XMP-xmp
- CreateDate: 2016:05:15 15:42:04.26+04:00
- ModifyDate: 2016:05:15 21:44:26+04:00
- XMP-xmpMM
- Просмотров: 235
- Рейтинг: голосов еще нет
- Отзывов: 0