- Раздел: Цветы
- Дата съёмки: 31.07.2007 21:51
- Дата загрузки фото: 31.07.2007 22:04
- Оригинальная фотография: 800 x 600 (111 Кб)
- Технические характеристики:
- Фотоаппарат: Pentax K100D
- Выдержка: 1/60
- Гиперфокальное расстояние: 7,51 m
- Диафрагма: 20,0
- Светочувствительность: 800
- Фокусное расстояние: 55,0mm (35mm эквивалент: 82,0mm)
- Полный EXIF
- ColorTransform: YCbCr
- Composite
- Aperture: 20,0
- CircleOfConfusion: 0,020 mm
- EV: 11,6
- FocalLength35efl: 55,0mm (35mm equivalent: 82,0mm)
- HyperfocalDistance: 7,51 m
- ScaleFactor35efl: 1,5
- ShutterSpeed: 1/60
- ExifIFD
- ApertureValue: 20,0
- ColorSpace: sRGB
- Contrast: Normal
- CreateDate: 2007:06:30 18:08:00
- CustomRendered: Normal
- DateTimeOriginal: 2007:06:30 18:08:00
- ExifImageLength: 600
- ExifImageWidth: 800
- ExposureCompensation: 0
- ExposureMode: Auto
- ExposureProgram: Aperture-priority AE
- ExposureTime: 1/60
- FNumber: 20,0
- Flash: Off
- FocalLength: 55,0mm
- FocalLengthIn35mmFormat: 82
- ISO: 800
- MeteringMode: Multi-segment
- Saturation: Normal
- SceneCaptureType: Standard
- SceneType: Directly photographed
- SensingMethod: One-chip color area
- Sharpness: Normal
- ShutterSpeedValue: 1/60
- SubjectDistanceRange: Distant
- WhiteBalance: Auto
- ICC-header
- ICC-meas
- ICC-view
- IFD0
- Make: PENTAX Corporation
- Model: PENTAX K100D
- ModifyDate: 2007:07:31 21:51:54
- Orientation: Horizontal (normal)
- TimeZoneOffset: 4 4
- IFD1
- IPTC
- XMP-aux
- Lens: smc PENTAX-DA 18-55mm F3.5-5.6 AL
- LensID: 4 252
- LensInfo: 18
- XMP-crs
- AlreadyApplied: True
- BlueHue: 0
- BlueSaturation: 0
- Brightness: +5
- CameraProfile: Embedded
- ChromaticAberrationB: 0
- ChromaticAberrationR: 0
- Clarity: 0
- ColorNoiseReduction: 15
- Contrast: 0
- ConvertToGrayscale: False
- Defringe: 0
- Exposure: 0.00
- FillLight: 5
- GreenHue: 0
- GreenSaturation: 0
- HasCrop: False
- HasSettings: True
- HighlightRecovery: 10
- HueAdjustmentAqua: 0
- HueAdjustmentBlue: 0
- HueAdjustmentGreen: 0
- HueAdjustmentMagenta: 0
- HueAdjustmentOrange: 0
- HueAdjustmentPurple: 0
- HueAdjustmentRed: 0
- HueAdjustmentYellow: 0
- IncrementalTemperature: -12
- IncrementalTint: -9
- LuminanceAdjustmentAqua: 0
- LuminanceAdjustmentBlue: 0
- LuminanceAdjustmentGreen: 0
- LuminanceAdjustmentMagenta: 0
- LuminanceAdjustmentOrange: 0
- LuminanceAdjustmentPurple: 0
- LuminanceAdjustmentRed: 0
- LuminanceAdjustmentYellow: 0
- LuminanceSmoothing: 18
- ParametricDarks: 0
- ParametricHighlightSplit: 75
- ParametricHighlights: 0
- ParametricLights: 0
- ParametricMidtoneSplit: 50
- ParametricShadowSplit: 25
- ParametricShadows: 0
- RawFileName: IMGP1042.JPG
- RedHue: 0
- RedSaturation: 0
- Saturation: 0
- SaturationAdjustmentAqua: 0
- SaturationAdjustmentBlue: 0
- SaturationAdjustmentGreen: 0
- SaturationAdjustmentMagenta: 0
- SaturationAdjustmentOrange: 0
- SaturationAdjustmentPurple: 0
- SaturationAdjustmentRed: 0
- SaturationAdjustmentYellow: 0
- ShadowTint: 0
- Shadows: 0
- SharpenDetail: 25
- SharpenEdgeMasking: 0
- SharpenRadius: +1.0
- Sharpness: 0
- SplitToningBalance: -8
- SplitToningHighlightHue: 0
- SplitToningHighlightSaturation: 10
- SplitToningShadowHue: 2
- SplitToningShadowSaturation: 2
- ToneCurve: 0, 0, 255, 255
- ToneCurveName: Linear
- Version: 4.1
- Vibrance: 0
- VignetteAmount: 0
- WhiteBalance: Custom
- XMP-dc
- XMP-exif
- DateTimeDigitized: 2007:06:30 18:08:00+04:00
- DateTimeOriginal: 2007:06:30 18:08:00+04:00
- ExifImageHeight: 600
- FlashFired: False
- FlashFunction: False
- FlashMode: Off
- FlashRedEyeMode: False
- FlashReturn: No return detection
- XMP-tiff
- XMP-xmp
- CreateDate: 2007:07:31 21:51:54+04:00
- ModifyDate: 2007:07:31 21:51:54+04:00
- Rating: 0
- XMP-xmpMM
- Просмотров: 252
- Рейтинг: голосов еще нет
- Отзывов: 0