- Раздел: Другое, разное
- Дата съёмки: 31.07.2007 22:27
- Дата загрузки фото: 31.07.2007 23:30
- Оригинальная фотография: 800 x 533 (105 Кб)
- Технические характеристики:
- Фотоаппарат: Canon EOS 20D
- Выдержка: 1/25
- Гиперфокальное расстояние: 116,75 m
- Диафрагма: 5,0
- Светочувствительность: 100
- Фокусное расстояние: 50,0mm (35mm эквивалент: 350,8mm)
- Экспокоррекция: +2/3
- Полный EXIF
- ColorTransform: YCbCr
- Composite
- Aperture: 5,0
- CircleOfConfusion: 0,004 mm
- EV: 9,3
- FocalLength35efl: 50,0mm (35mm equivalent: 350,8mm)
- HyperfocalDistance: 116,75 m
- ScaleFactor35efl: 7,0
- ShutterSpeed: 1/25
- ExifIFD
- ApertureValue: 5,0
- ColorSpace: sRGB
- CreateDate: 2007:07:21 07:32:31
- CustomRendered: Normal
- DateTimeOriginal: 2007:07:21 07:32:31
- ExifImageLength: 533
- ExifImageWidth: 800
- ExposureCompensation: +2/3
- ExposureMode: Auto
- ExposureProgram: Aperture-priority AE
- ExposureTime: 1/25
- FNumber: 5,0
- Flash: Off
- FocalLength: 50,0mm
- ISO: 100
- MaxApertureValue: 1,8
- MeteringMode: Multi-segment
- SceneCaptureType: Standard
- ShutterSpeedValue: 1/25
- WhiteBalance: Auto
- ICC-header
- ICC-meas
- ICC-view
- IFD0
- Artist: Alexei Kireev
- Make: Canon
- Model: Canon EOS 20D
- ModifyDate: 2007:07:31 22:27:52
- Orientation: Horizontal (normal)
- TimeZoneOffset: 3 3
- IFD1
- IPTC
- By-line: Alexei Kireev
- XMP-aux
- Firmware: 2.0.3
- FlashCompensation: 0
- ImageNumber: 138
- Lens: 50.0 mm
- LensInfo: 50
- OwnerName: Alexei Kireev
- SerialNumber: 1320706735
- XMP-crs
- AlreadyApplied: True
- BlueHue: 0
- BlueSaturation: 0
- Brightness: +50
- CameraProfile: ACR 2.4
- ChromaticAberrationB: 0
- ChromaticAberrationR: 0
- Clarity: 0
- ColorNoiseReduction: 2
- Contrast: 0
- ConvertToGrayscale: False
- Defringe: 0
- Exposure: -0.10
- FillLight: 0
- GreenHue: 0
- GreenSaturation: 0
- HasCrop: False
- HasSettings: True
- HighlightRecovery: 15
- HueAdjustmentAqua: 0
- HueAdjustmentBlue: 0
- HueAdjustmentGreen: 0
- HueAdjustmentMagenta: 0
- HueAdjustmentOrange: 0
- HueAdjustmentPurple: 0
- HueAdjustmentRed: 0
- HueAdjustmentYellow: 0
- LuminanceAdjustmentAqua: 0
- LuminanceAdjustmentBlue: 0
- LuminanceAdjustmentGreen: 0
- LuminanceAdjustmentMagenta: 0
- LuminanceAdjustmentOrange: 0
- LuminanceAdjustmentPurple: 0
- LuminanceAdjustmentRed: 0
- LuminanceAdjustmentYellow: 0
- LuminanceSmoothing: 0
- ParametricDarks: 0
- ParametricHighlightSplit: 75
- ParametricHighlights: 0
- ParametricLights: 0
- ParametricMidtoneSplit: 50
- ParametricShadowSplit: 25
- ParametricShadows: 0
- RawFileName: IMG_0138.CR2
- RedHue: 0
- RedSaturation: 0
- Saturation: +10
- SaturationAdjustmentAqua: 0
- SaturationAdjustmentBlue: 0
- SaturationAdjustmentGreen: 0
- SaturationAdjustmentMagenta: 0
- SaturationAdjustmentOrange: 0
- SaturationAdjustmentPurple: 0
- SaturationAdjustmentRed: 0
- SaturationAdjustmentYellow: 0
- ShadowTint: 0
- Shadows: 0
- SharpenDetail: 25
- SharpenEdgeMasking: 1
- SharpenRadius: +0.5
- Sharpness: 20
- SplitToningBalance: 0
- SplitToningHighlightHue: 0
- SplitToningHighlightSaturation: 0
- SplitToningShadowHue: 0
- SplitToningShadowSaturation: 0
- Temperature: 3500
- Tint: 0
- ToneCurve: 0, 0, 32, 22, 64, 56, 128, 128, 192, 196, 255, 255
- ToneCurveName: Medium Contrast
- Version: 4.1
- Vibrance: +10
- VignetteAmount: 0
- WhiteBalance: Custom
- XMP-dc
- Creator: Alexei Kireev
- Format: image/jpeg
- XMP-exif
- DateTimeDigitized: 2007:07:21 07:32:31+03:00
- DateTimeOriginal: 2007:07:21 07:32:31+03:00
- ExifImageHeight: 533
- FlashFired: False
- FlashFunction: False
- FlashMode: Off
- FlashRedEyeMode: False
- FlashReturn: No return detection
- XMP-tiff
- ImageHeight: 2336
- ImageWidth: 3504
- XMP-xmp
- CreateDate: 2007:07:31 22:27:52+03:00
- ModifyDate: 2007:07:31 22:27:52+03:00
- Rating: 0
- XMP-xmpMM
- DerivedFrom:
- Просмотров: 439
- Рейтинг: голосов еще нет
- Отзывов: 0