3Вт/300 руб DIY LED свет из HDD. CV50MX модули для MR16.
Круглые MCPCB платы d=50 мм куплены в начале 2012 г. у начинающего питерского конструктора Андрея Миронова (пользователь breaker на форуме ledway.ru, breaker2 на forumhouse.ru).
Два сложенных алюминиевых "блина" от б/у 3.5" НЖМД охлаждают 3*1 Вт светодиодов Cree MX6 с линейным драйвером NUD4001 и 24В питанием, которое лучше снижать до 22,5В. Были и версии на 12V (Cree MX3s), но с худшим КПД.
2 алюминиевых уголка скрепляют 5 таких модулей в общую, хорошо вентилируемую "раму".
Цена 15 Вт MCPCB без оптики, алюминиевых уголков и AC/DC SPMS (Mean Well) была 1500 р.
Прогревается эта конструкция макс. до 43°С.
Один диск от старого индукционного электросчётчика. Алюм. уголки - покупные в мебельном магазине. Рассеиватели с ebay.
Радиопомех и пульсаций нет, сохнуть нечему, защита от перегрева в микросхеме расположена близко к светодиодам.
"L70 tested" изготовителем светодиоды за >7 лет службы на глаз не потускнели, люксметра не было тогда.
Внутри каждого одноваттника имеется защитный TVS-кристалл против перенапряжений и электростатических разрядов, т.е. они если и сдохнут, то с закороткой, а не обрывом, как в попсятине.
- Раздел: Компьютеры, железо
- Дата съёмки: 24.02.2012 21:49
- Дата загрузки фото: 02.11.2020 19:26
- Оригинальная фотография: 3072 x 2304 (3,1 Мб)
- Технические характеристики:
- Фотоаппарат: Canon PowerShot A550
- Выдержка: 0,0
- Гиперфокальное расстояние: inf m
- Диафрагма: 2,7
- Светочувствительность: 183
- Фокусное расстояние: 5,0 mm (35 mm equivalent: 35,0 mm)
- Полный EXIF
- Adobe
- ColorTransform: YCbCr
- Composite
- Aperture: 2,7
- CircleOfConfusion: 0,004 mm
- FOV: 54,0 deg
- FocalLength35efl: 5,0 mm (35 mm equivalent: 35,0 mm)
- HyperfocalDistance: inf m
- Megapixels: 7,1
- ScaleFactor35efl: 7,0
- ShutterSpeed: 0,0
- ExifIFD
- ApertureValue: 2,0
- ColorSpace: Uncalibrated
- DateTimeOriginal: 2012:02:24 21:49:27
- ExifImageHeight: 2304
- ExifImageWidth: 3072
- ExposureCompensation: 0
- ExposureProgram: Not Defined
- ExposureTime: 0,0
- FNumber: 2,7
- Flash: Off, Did not fire
- FocalLength: 5,0 mm
- FocalLengthIn35mmFormat: 35 mm
- ISO: 183
- MaxApertureValue: 2,0
- MeteringMode: Multi-segment
- ShutterSpeedValue: 1/32
- ICC-header
- IFD0
- Make: Canon
- Model: Canon PowerShot A550
- ModifyDate: 2020:11:02 16:25:50
- Orientation: Horizontal (normal)
- IFD1
- IPTC
- DateCreated: 2012:02:24
- System
- XMP-crs
- AlreadyApplied: True
- AutoLateralCA: 0
- BlueHue: 0
- BlueSaturation: 0
- Brightness: +50
- CameraProfile: Embedded
- Clarity: +3
- ColorNoiseReduction: 25
- ColorTemperature: 4600
- Contrast: +25
- ConvertToGrayscale: False
- DefringeGreenAmount: 0
- DefringeGreenHueHi: 60
- DefringeGreenHueLo: 40
- DefringePurpleAmount: 0
- DefringePurpleHueHi: 70
- DefringePurpleHueLo: 30
- Exposure: 0.00
- FillLight: 0
- GrainAmount: 0
- GreenHue: 0
- GreenSaturation: 0
- HasCrop: False
- HasSettings: True
- HighlightRecovery: 0
- HueAdjustmentAqua: 0
- HueAdjustmentBlue: 0
- HueAdjustmentGreen: 0
- HueAdjustmentMagenta: 0
- HueAdjustmentOrange: 0
- HueAdjustmentPurple: 0
- HueAdjustmentRed: 0
- HueAdjustmentYellow: 0
- LensManualDistortionAmount: 0
- LensProfileEnable: 0
- LensProfileSetup: LensDefaults
- LuminanceAdjustmentAqua: 0
- LuminanceAdjustmentBlue: 0
- LuminanceAdjustmentGreen: 0
- LuminanceAdjustmentMagenta: 0
- LuminanceAdjustmentOrange: 0
- LuminanceAdjustmentPurple: 0
- LuminanceAdjustmentRed: 0
- LuminanceAdjustmentYellow: 0
- LuminanceSmoothing: 0
- OverrideLookVignette: False
- ParametricDarks: 0
- ParametricHighlightSplit: 75
- ParametricHighlights: 0
- ParametricLights: 0
- ParametricMidtoneSplit: 50
- ParametricShadowSplit: 25
- ParametricShadows: 0
- PerspectiveAspect: 0
- PerspectiveHorizontal: 0
- PerspectiveRotate: 0.0
- PerspectiveScale: 100
- PerspectiveUpright: 0
- PerspectiveVertical: 0
- PerspectiveX: 0.00
- PerspectiveY: 0.00
- PostCropVignetteAmount: 0
- ProcessVersion: 5.0
- RawFileName: IMG_5515.DNG
- RedHue: 0
- RedSaturation: 0
- Saturation: +3
- SaturationAdjustmentAqua: 0
- SaturationAdjustmentBlue: 0
- SaturationAdjustmentGreen: 0
- SaturationAdjustmentMagenta: 0
- SaturationAdjustmentOrange: 0
- SaturationAdjustmentPurple: 0
- SaturationAdjustmentRed: 0
- SaturationAdjustmentYellow: 0
- ShadowTint: 0
- Shadows: 0
- SharpenDetail: 25
- SharpenEdgeMasking: 0
- SharpenRadius: +1.0
- Sharpness: 25
- SplitToningBalance: 0
- SplitToningHighlightHue: 0
- SplitToningHighlightSaturation: 0
- SplitToningShadowHue: 0
- SplitToningShadowSaturation: 0
- Tint: +25
- ToneCurve: 0, 0, 32, 22, 64, 56, 128, 128, 192, 196, 255, 255
- ToneCurveBlue: 0, 0, 255, 255
- ToneCurveGreen: 0, 0, 255, 255
- ToneCurveName: Medium Contrast
- ToneCurveName2012: Linear
- ToneCurvePV2012: 0, 0, 255, 255
- ToneCurvePV2012Blue: 0, 0, 255, 255
- ToneCurvePV2012Green: 0, 0, 255, 255
- ToneCurvePV2012Red: 0, 0, 255, 255
- ToneCurveRed: 0, 0, 255, 255
- Version: 10.5
- Vibrance: +4
- VignetteAmount: 0
- WhiteBalance: As Shot
- XMP-dc
- XMP-xmp
- CreateDate: 2012:02:24 21:49:27
- CreatorTool: CHDK ver. 0.9.9-1218
- ModifyDate: 2020:11:02 16:25:50Z
- Rating: 0
- XMP-xmpMM
- Просмотров: 1071
- Рейтинг: голосов еще нет
- Отзывов: 0
Получить код для блога
Вставка фотографии в текущем разрешении |
Вставка миниатюры |
HTML (для вставки в блог):
BBCode (для вставки в форум):
Ссылка на фото:
Ссылка на миниатюру:
- Послать ссылку другу
Комментарии к фотографии |