- Раздел: Тесты фототехники
- Дата съёмки: неизвестно
- Дата загрузки фото: 27.09.2016 21:17
- Оригинальная фотография: 2667 x 4000 (3,7 Мб)
- Технические характеристики:
- Фотоаппарат: FujiFilm X-Pro2
- Выдержка: 1/125
- Гиперфокальное расстояние: inf m
- Диафрагма: 7,1
- Светочувствительность: 200
- Фокусное расстояние: 27,0 mm (35 mm equivalent: 27,0 mm)
- Полный EXIF
- Adobe
- ColorTransform: Unknown (RGB or CMYK)
- Composite
- Aperture: 7,1
- CircleOfConfusion: 0,020 mm
- FOV: 67,0 deg
- FocalLength35efl: 27,0 mm (35 mm equivalent: 27,0 mm)
- HyperfocalDistance: inf m
- ScaleFactor35efl: 1,5
- ShutterSpeed: 1/125
- ExifIFD
- ApertureValue: 7,1
- BrightnessValue: 6,11
- ColorSpace: Uncalibrated
- CreateDate: 2016:06:26 14:21:43
- CustomRendered: Custom
- DateTimeOriginal: 2016:06:26 14:21:43
- ExifImageHeight: 4000
- ExifImageWidth: 2667
- ExposureCompensation: 0
- ExposureMode: Manual
- ExposureProgram: Manual
- ExposureTime: 1/125
- FNumber: 7,1
- Flash: Off, Did not fire
- FocalLength: 27,0 mm
- FocalLengthIn35mmFormat: 41 mm
- ISO: 200
- LensInfo: 27mm f/2.8
- LensMake: FUJIFILM
- LensModel: XF27mmF2.8
- LensSerialNumber: 32A00741
- LightSource: Unknown
- MaxApertureValue: 2,8
- MeteringMode: Center-weighted average
- SceneCaptureType: Standard
- SceneType: Directly photographed
- SensingMethod: One-chip color area
- SensitivityType: Standard Output Sensitivity
- Sharpness: Normal
- ShutterSpeedValue: 1/125
- SubjectDistanceRange: Unknown
- WhiteBalance: Auto
- ICC-header
- IFD0
- Make: FUJIFILM
- Model: X-Pro2
- ModifyDate: 2016:07:24 16:03:31
- Orientation: Horizontal (normal)
- IFD1
- IPTC
- DateCreated: 2016:06:26
- System
- XMP-aux
- DistortionCorrectionAlreadyApplied: True
- LateralChromaticAberrationCorrectionAlreadyApplied: True
- Lens: XF27mmF2.8
- VignetteCorrectionAlreadyApplied: True
- XMP-crs
- AlreadyApplied: True
- AutoLateralCA: 1
- AutoWhiteVersion: 134348800
- Blacks2012: 0
- BlueHue: 0
- BlueSaturation: 0
- Clarity2012: 0
- ColorNoiseReduction: 25
- ColorNoiseReductionDetail: 50
- ColorNoiseReductionSmoothness: 50
- ColorTemperature: 4900
- Contrast2012: 0
- ConvertToGrayscale: True
- Dehaze: +13
- Exposure2012: 0.00
- GrainAmount: 0
- GrayMixerAqua: -17
- GrayMixerBlue: +12
- GrayMixerGreen: +40
- GrayMixerMagenta: +4
- GrayMixerOrange: -19
- GrayMixerPurple: +17
- GrayMixerRed: -10
- GrayMixerYellow: -23
- GreenHue: 0
- GreenSaturation: 0
- HasCrop: False
- HasSettings: True
- Highlights2012: 0
- LensManualDistortionAmount: 0
- LensProfileEnable: 0
- LensProfileSetup: LensDefaults
- LuminanceSmoothing: 0
- ParametricDarks: 0
- ParametricHighlightSplit: 75
- ParametricHighlights: 0
- ParametricLights: 0
- ParametricMidtoneSplit: 50
- ParametricShadowSplit: 25
- ParametricShadows: 0
- PerspectiveAspect: 0
- PerspectiveHorizontal: 0
- PerspectiveRotate: 0.0
- PerspectiveScale: 100
- PerspectiveUpright: 0
- PerspectiveVertical: 0
- PostCropVignetteAmount: -13
- PostCropVignetteFeather: 50
- PostCropVignetteHighlightContrast: 0
- PostCropVignetteMidpoint: 50
- PostCropVignetteRoundness: 0
- PostCropVignetteStyle: 1
- ProcessVersion: 6.7
- RawFileName: DSCF0175.RAF
- RedHue: 0
- RedSaturation: 0
- ShadowTint: 0
- Shadows2012: +14
- SharpenDetail: 25
- SharpenEdgeMasking: 0
- SharpenRadius: +1.0
- Sharpness: 25
- SplitToningBalance: 0
- SplitToningHighlightHue: 0
- SplitToningHighlightSaturation: 0
- SplitToningShadowHue: 0
- SplitToningShadowSaturation: 0
- Tint: +15
- ToneCurve: 0, 0, 32, 22, 64, 56, 128, 128, 192, 196, 255, 255
- ToneCurveBlue: 0, 0, 255, 255
- ToneCurveGreen: 0, 0, 255, 255
- ToneCurveName: Medium Contrast
- ToneCurveName2012: Linear
- ToneCurvePV2012: 0, 0, 255, 255
- ToneCurvePV2012Blue: 0, 0, 255, 255
- ToneCurvePV2012Green: 0, 0, 255, 255
- ToneCurvePV2012Red: 0, 0, 255, 255
- ToneCurveRed: 0, 0, 255, 255
- ToneMapStrength: 0
- Version: 9.4
- VignetteAmount: 0
- WhiteBalance: As Shot
- Whites2012: 0
- XMP-dc
- XMP-xmp
- ModifyDate: 2016:07:24 16:03:31+03:00
- Rating: 0
- XMP-xmpMM
- Просмотров: 509
- Рейтинг: голосов еще нет
- Отзывов: 0