- Раздел: Тесты фототехники
- Дата съёмки: неизвестно
- Дата загрузки фото: 20.10.2016 21:31
- Оригинальная фотография: 2160 x 3836 (2,2 Мб)
- Технические характеристики:
- Фотоаппарат: Lenovo K920
- Диафрагма: 1,0
- Фокусное расстояние: 4,0 mm
- Полный EXIF
- Adobe
- ColorTransform: YCbCr
- Composite
- Aperture: 1,0
- FocalLength35efl: 4,0 mm
- ExifIFD
- ApertureValue: 1,0
- ColorSpace: Uncalibrated
- ExifImageHeight: 3836
- ExifImageWidth: 2160
- FNumber: 1,0
- Flash: No Flash
- FocalLength: 4,3 mm
- IFD0
- ImageDescription: 0
- Make: LENOVO
- Model: Lenovo K920
- ModifyDate: 2016:10:20 23:29:57
- Orientation: Horizontal (normal)
- IFD1
- IPTC
- Caption-Abstract: 0
- System
- XMP-crs
- AlreadyApplied: True
- AutoLateralCA: 1
- Blacks2012: 0
- BlueHue: 0
- BlueSaturation: 0
- Brightness: +50
- CameraProfile: Embedded
- Clarity: 0
- Clarity2012: +12
- ColorNoiseReduction: 50
- ColorNoiseReductionDetail: 50
- ColorTemperature: 5100
- Contrast: +25
- Contrast2012: 0
- ConvertToGrayscale: False
- Defringe: 0
- Exposure: 0.00
- Exposure2012: +0.30
- FillLight: 0
- GrainAmount: 0
- GreenHue: 0
- GreenSaturation: 0
- HasCrop: False
- HasSettings: True
- HighlightRecovery: 17
- Highlights2012: -50
- HueAdjustmentAqua: 0
- HueAdjustmentBlue: 0
- HueAdjustmentGreen: 0
- HueAdjustmentMagenta: 0
- HueAdjustmentOrange: 0
- HueAdjustmentPurple: 0
- HueAdjustmentRed: 0
- HueAdjustmentYellow: 0
- LensManualDistortionAmount: 0
- LensProfileEnable: 0
- LensProfileSetup: LensDefaults
- LuminanceAdjustmentAqua: 0
- LuminanceAdjustmentBlue: 0
- LuminanceAdjustmentGreen: 0
- LuminanceAdjustmentMagenta: 0
- LuminanceAdjustmentOrange: 0
- LuminanceAdjustmentPurple: 0
- LuminanceAdjustmentRed: 0
- LuminanceAdjustmentYellow: 0
- LuminanceNoiseReductionContrast: 0
- LuminanceNoiseReductionDetail: 50
- LuminanceSmoothing: 20
- ParametricDarks: 0
- ParametricHighlightSplit: 75
- ParametricHighlights: 0
- ParametricLights: 0
- ParametricMidtoneSplit: 50
- ParametricShadowSplit: 25
- ParametricShadows: 0
- PerspectiveHorizontal: 0
- PerspectiveRotate: 0.0
- PerspectiveScale: 100
- PerspectiveVertical: 0
- PostCropVignetteAmount: 0
- ProcessVersion: 5.7
- RawFileName: IMG_2016_10_20_13_33_21.dng
- RedHue: 0
- RedSaturation: 0
- Saturation: 0
- SaturationAdjustmentAqua: 0
- SaturationAdjustmentBlue: 0
- SaturationAdjustmentGreen: 0
- SaturationAdjustmentMagenta: 0
- SaturationAdjustmentOrange: 0
- SaturationAdjustmentPurple: 0
- SaturationAdjustmentRed: 0
- SaturationAdjustmentYellow: 0
- ShadowTint: 0
- Shadows: 5
- Shadows2012: +50
- SharpenDetail: 100
- SharpenEdgeMasking: 50
- SharpenRadius: +2.0
- Sharpness: 25
- SplitToningBalance: 0
- SplitToningHighlightHue: 0
- SplitToningHighlightSaturation: 0
- SplitToningShadowHue: 0
- SplitToningShadowSaturation: 0
- Tint: +35
- ToneCurve: 0, 0, 32, 22, 64, 56, 128, 128, 192, 196, 255, 255
- ToneCurveBlue: 0, 0, 255, 255
- ToneCurveGreen: 0, 0, 255, 255
- ToneCurveName: Medium Contrast
- ToneCurveName2012: Linear
- ToneCurvePV2012: 0, 0, 255, 255
- ToneCurvePV2012Blue: 0, 0, 255, 255
- ToneCurvePV2012Green: 0, 0, 255, 255
- ToneCurvePV2012Red: 0, 0, 255, 255
- ToneCurveRed: 0, 0, 255, 255
- Version: 6.7
- Vibrance: +30
- VignetteAmount: 0
- WhiteBalance: Custom
- Whites2012: 0
- XMP-dc
- Description: 0
- Format: image/jpeg
- XMP-xmp
- CreateDate: 2016:10:20 23:04:28+05:00
- CreatorTool: FreedCam by Troop
- ModifyDate: 2016:10:20 23:29:57+05:00
- Rating: 0
- XMP-xmpMM
- Просмотров: 711
- Рейтинг: голосов еще нет
- Отзывов: 2