- Раздел: Другое, разное
- Дата съёмки: 05.08.2007 15:37
- Дата загрузки фото: 08.08.2007 02:29
- Оригинальная фотография: 1748 x 2618 (1008 Кб)
- Технические характеристики:
- Фотоаппарат: Pentax K100D
- Выдержка: 1/125
- Гиперфокальное расстояние: 76,83 m
- Диафрагма: 5,6
- Светочувствительность: 200
- Фокусное расстояние: 93,0mm (35mm эквивалент: 139,0mm)
- Полный EXIF
- ColorTransform: YCbCr
- Composite
- Aperture: 5,6
- CircleOfConfusion: 0,020 mm
- EV: 10,9
- FocalLength35efl: 93,0mm (35mm equivalent: 139,0mm)
- HyperfocalDistance: 76,83 m
- ScaleFactor35efl: 1,5
- ShutterSpeed: 1/125
- ExifIFD
- ApertureValue: 5,6
- CFAPattern: [Red,Green][Green,Blue]
- Contrast: Normal
- CreateDate: 2007:08:05 15:37:22
- CustomRendered: Normal
- DateTimeOriginal: 2007:08:05 15:37:22
- ExposureCompensation: 0
- ExposureMode: Auto
- ExposureProgram: Aperture-priority AE
- ExposureTime: 1/125
- FNumber: 5,6
- Flash: Off
- FocalLength: 93,0mm
- FocalLengthIn35mmFormat: 139
- ISO: 200
- MeteringMode: Center-weighted average
- Saturation: Normal
- SceneCaptureType: Standard
- SceneType: Directly photographed
- SensingMethod: One-chip color area
- Sharpness: Normal
- ShutterSpeedValue: 1/125
- SubjectDistanceRange: Distant
- WhiteBalance: Auto
- ICC-header
- ICC-meas
- ICC-view
- IFD0
- Make: PENTAX Corporation
- Model: PENTAX K100D
- ModifyDate: 2007:08:08 02:28:01
- Software: K100D Ver 1.00
- TimeZoneOffset: 4 4
- XMP-aux
- XMP-crs
- AlreadyApplied: True
- BlueHue: +1
- BlueSaturation: 0
- Brightness: +50
- CameraProfile: ACR 3.6
- ChromaticAberrationB: 0
- ChromaticAberrationR: 0
- Clarity: 0
- ColorNoiseReduction: 0
- Contrast: +25
- ConvertToGrayscale: False
- CropAngle: 0
- CropBottom: 1
- CropHeight: 1748
- CropLeft: 0
- CropRight: 0.87046
- CropTop: 0.12954
- CropUnit: 0
- CropWidth: 2618
- Defringe: 0
- Exposure: 0.00
- FillLight: 13
- GreenHue: +22
- GreenSaturation: 0
- HasCrop: True
- HasSettings: True
- HighlightRecovery: 0
- HueAdjustmentAqua: 0
- HueAdjustmentBlue: 0
- HueAdjustmentGreen: 0
- HueAdjustmentMagenta: 0
- HueAdjustmentOrange: 0
- HueAdjustmentPurple: 0
- HueAdjustmentRed: 0
- HueAdjustmentYellow: 0
- LuminanceAdjustmentAqua: 0
- LuminanceAdjustmentBlue: 0
- LuminanceAdjustmentGreen: 0
- LuminanceAdjustmentMagenta: 0
- LuminanceAdjustmentOrange: 0
- LuminanceAdjustmentPurple: 0
- LuminanceAdjustmentRed: 0
- LuminanceAdjustmentYellow: 0
- LuminanceSmoothing: 0
- ParametricDarks: 0
- ParametricHighlightSplit: 75
- ParametricHighlights: 0
- ParametricLights: 0
- ParametricMidtoneSplit: 50
- ParametricShadowSplit: 25
- ParametricShadows: 0
- RedHue: -9
- RedSaturation: 0
- Saturation: 0
- SaturationAdjustmentAqua: 0
- SaturationAdjustmentBlue: 0
- SaturationAdjustmentGreen: 0
- SaturationAdjustmentMagenta: 0
- SaturationAdjustmentOrange: 0
- SaturationAdjustmentPurple: 0
- SaturationAdjustmentRed: 0
- SaturationAdjustmentYellow: 0
- ShadowTint: 0
- Shadows: 5
- SharpenDetail: 26
- SharpenEdgeMasking: 0
- SharpenRadius: +0.5
- Sharpness: 0
- SplitToningBalance: 0
- SplitToningHighlightHue: 0
- SplitToningHighlightSaturation: 0
- SplitToningShadowHue: 0
- SplitToningShadowSaturation: 0
- Temperature: 4987
- Tint: -21
- ToneCurve: 0, 0, 32, 22, 64, 56, 128, 128, 192, 196, 255, 255
- ToneCurveName: Medium Contrast
- Version: 1.0
- Vibrance: 0
- VignetteAmount: 0
- WhiteBalance: Custom
- XMP-exif
- DateTimeDigitized: 2007:08:05 15:37:22+04:00
- DateTimeOriginal: 2007:08:05 15:37:22+04:00
- FlashFired: False
- FlashFunction: False
- FlashMode: Off
- FlashRedEyeMode: False
- FlashReturn: No return detection
- XMP-tiff
- ImageHeight: 2618
- ImageWidth: 1748
- XMP-xmp
- Label: Red
- ModifyDate: 2007:08:08 02:28:01+04:00