- Раздел: Тесты фототехники
- Дата съёмки: неизвестно
- Дата загрузки фото: 01.03.2017 17:10
- Оригинальная фотография: 6720 x 4480 (14,4 Мб)
- Технические характеристики:
- Фотоаппарат: Canon EOS 5D Mark IV
- Выдержка: 0,0
- Гиперфокальное расстояние: inf m
- Диафрагма: 6,3
- Светочувствительность: 2500
- Фокусное расстояние: 85,0 mm
- Полный EXIF
- Adobe
- ColorTransform: YCbCr
- Composite
- Aperture: 6,3
- CircleOfConfusion: 0,030 mm
- FocalLength35efl: 85,0 mm
- HyperfocalDistance: inf m
- LensID: Canon EF 24-105mm f/4L IS II USM
- Megapixels: 30,1
- ScaleFactor35efl: 1,0
- ShutterSpeed: 0,0
- ExifIFD
- ApertureValue: 5,7
- ColorSpace: sRGB
- CreateDate: 2017:02:19 15:02:55
- CustomRendered: Normal
- DateTimeOriginal: 2017:02:19 15:02:55
- ExifImageHeight: 4480
- ExifImageWidth: 6720
- ExposureCompensation: 0
- ExposureMode: Manual
- ExposureProgram: Manual
- ExposureTime: 0,0
- FNumber: 6,3
- Flash: Off, Did not fire
- FocalLength: 85,0 mm
- ISO: 2500
- LensInfo: 24-105mm f/?
- LensModel: EF24-105mm f/4L IS II USM
- LensSerialNumber: 4503000481
- MaxApertureValue: 4,0
- MeteringMode: Multi-segment
- RecommendedExposureIndex: 2500
- SceneCaptureType: Standard
- SensitivityType: Recommended Exposure Index
- SerialNumber: 023021008421
- ShutterSpeedValue: 1/64
- WhiteBalance: Manual
- ICC-header
- ICC-meas
- ICC-view
- IFD0
- Artist: MIR
- BitsPerSample: 8 8 8
- ImageHeight: 4480
- ImageWidth: 6720
- Make: Canon
- Model: Canon EOS 5D Mark IV
- ModifyDate: 2017:03:01 13:11:16
- Orientation: Horizontal (normal)
- PhotometricInterpretation: RGB
- SamplesPerPixel: 3
- IFD1
- IPTC
- By-line: MIR
- DateCreated: 2017:02:19
- System
- XMP-aux
- ApproximateFocusDistance: 0,7
- Firmware: 1.0.1
- FlashCompensation: 0
- ImageNumber: 0
- Lens: EF24-105mm f/4L IS II USM
- LensID: 752
- XMP-crs
- AlreadyApplied: True
- AutoLateralCA: 0
- AutoWhiteVersion: 134348800
- Blacks2012: 0
- BlueHue: 0
- BlueSaturation: 0
- Clarity2012: +3
- ColorNoiseReduction: 25
- ColorNoiseReductionDetail: 50
- ColorNoiseReductionSmoothness: 50
- ColorTemperature: 6000
- Contrast2012: +9
- ConvertToGrayscale: True
- Dehaze: 0
- Exposure2012: 0.00
- GrainAmount: 0
- GrayMixerAqua: -19
- GrayMixerBlue: +8
- GrayMixerGreen: -26
- GrayMixerMagenta: +4
- GrayMixerOrange: -31
- GrayMixerPurple: +14
- GrayMixerRed: -13
- GrayMixerYellow: -21
- GreenHue: 0
- GreenSaturation: 0
- HasCrop: False
- HasSettings: True
- Highlights2012: -67
- LensManualDistortionAmount: 0
- LensProfileEnable: 0
- LensProfileSetup: LensDefaults
- LuminanceSmoothing: 0
- ParametricDarks: 0
- ParametricHighlightSplit: 75
- ParametricHighlights: 0
- ParametricLights: 0
- ParametricMidtoneSplit: 50
- ParametricShadowSplit: 25
- ParametricShadows: 0
- PerspectiveAspect: 0
- PerspectiveHorizontal: 0
- PerspectiveRotate: 0.0
- PerspectiveScale: 100
- PerspectiveUpright: 0
- PerspectiveVertical: 0
- PerspectiveX: 0.00
- PerspectiveY: 0.00
- PostCropVignetteAmount: 0
- ProcessVersion: 6.7
- RawFileName: _E1A4244.CR2
- RedHue: 0
- RedSaturation: 0
- ShadowTint: 0
- Shadows2012: 0
- SharpenDetail: 25
- SharpenEdgeMasking: 0
- SharpenRadius: +1.0
- Sharpness: 25
- SplitToningBalance: 0
- SplitToningHighlightHue: 0
- SplitToningHighlightSaturation: 0
- SplitToningShadowHue: 0
- SplitToningShadowSaturation: 0
- Tint: +10
- ToneCurve: 0, 0, 32, 22, 64, 56, 128, 128, 192, 196, 255, 255
- ToneCurveBlue: 0, 0, 255, 255
- ToneCurveGreen: 0, 0, 255, 255
- ToneCurveName: Medium Contrast
- ToneCurveName2012: Linear
- ToneCurvePV2012: 0, 0, 255, 255
- ToneCurvePV2012Blue: 0, 0, 255, 255
- ToneCurvePV2012Green: 0, 0, 255, 255
- ToneCurvePV2012Red: 0, 0, 255, 255
- ToneCurveRed: 0, 0, 255, 255
- ToneMapStrength: 0
- Version: 9.8
- VignetteAmount: 0
- WhiteBalance: As Shot
- Whites2012: 0
- XMP-dc
- Creator: MIR
- Format: image/jpeg
- XMP-xmp
- Label: Секунда
- ModifyDate: 2017:03:01 13:11:16+03:00
- Rating: 5
- XMP-xmpMM
- Просмотров: 1350
- Рейтинг: голосов еще нет
- Отзывов: 0