- Раздел: Другое, разное
- Дата съёмки: неизвестно
- Дата загрузки фото: 08.04.2017 18:31
- Оригинальная фотография: 4608 x 3072 (4,4 Мб)
- Технические характеристики:
- Фотоаппарат: Nikon 1 V2
- Выдержка: 0,0
- Гиперфокальное расстояние: inf m
- Диафрагма: 1,4
- Светочувствительность: 400
- Фокусное расстояние: 30,0 mm (35 mm equivalent: 60,0 mm)
- Полный EXIF
- Adobe
- ColorTransform: YCbCr
- Composite
- Aperture: 1,4
- CircleOfConfusion: 0,011 mm
- FOV: 33,0 deg
- FocalLength35efl: 30,0 mm (35 mm equivalent: 60,0 mm)
- HyperfocalDistance: inf m
- Megapixels: 14,2
- ScaleFactor35efl: 2,7
- ShutterSpeed: 0,0
- ExifIFD
- ApertureValue: 1,0
- CFAPattern: [Red,Green][Green,Blue]
- ColorSpace: Uncalibrated
- Contrast: Normal
- CreateDate: 2017:02:18 21:58:11
- CustomRendered: Normal
- DateTimeOriginal: 2017:02:18 21:58:11
- DigitalZoomRatio: 1
- ExifImageHeight: 3072
- ExifImageWidth: 4608
- ExposureCompensation: 0
- ExposureMode: Auto
- ExposureProgram: Aperture-priority AE
- ExposureTime: 0,0
- FNumber: 1,4
- Flash: No Flash
- FocalLength: 30,0 mm
- FocalLengthIn35mmFormat: 81 mm
- GainControl: Low gain up
- ISO: 400
- LensInfo: 30mm f/1.4
- LensModel: 30mm f/1.4G
- LightSource: Unknown
- MaxApertureValue: 1,4
- MeteringMode: Center-weighted average
- Saturation: Normal
- SceneCaptureType: Standard
- SceneType: Directly photographed
- SensingMethod: One-chip color area
- SensitivityType: Recommended Exposure Index
- SerialNumber: 21009545
- Sharpness: Normal
- ShutterSpeedValue: 1/32
- SubjectDistanceRange: Unknown
- WhiteBalance: Auto
- ICC-header
- IFD0
- Make: NIKON CORPORATION
- Model: NIKON 1 V2
- ModifyDate: 2017:02:19 15:10:48
- Orientation: Horizontal (normal)
- IFD1
- IPTC
- DateCreated: 2017:02:18
- System
- XMP-aux
- ImageNumber: 53154
- Lens: 30mm f/1.4G
- XMP-crs
- AlreadyApplied: True
- AutoLateralCA: 1
- AutoWhiteVersion: 134348800
- Blacks2012: -12
- BlueHue: 0
- BlueSaturation: 0
- Clarity2012: 0
- ColorNoiseReduction: 40
- ColorNoiseReductionDetail: 50
- ColorNoiseReductionSmoothness: 50
- ColorTemperature: 2850
- Contrast2012: +2
- ConvertToGrayscale: False
- DefringeGreenAmount: 0
- DefringeGreenHueHi: 60
- DefringeGreenHueLo: 40
- DefringePurpleAmount: 6
- DefringePurpleHueHi: 70
- DefringePurpleHueLo: 30
- Exposure2012: +1.00
- GrainAmount: 0
- GreenHue: 0
- GreenSaturation: 0
- HasCrop: False
- HasSettings: True
- Highlights2012: -18
- HueAdjustmentAqua: 0
- HueAdjustmentBlue: 0
- HueAdjustmentGreen: 0
- HueAdjustmentMagenta: 0
- HueAdjustmentOrange: 0
- HueAdjustmentPurple: 0
- HueAdjustmentRed: 0
- HueAdjustmentYellow: 0
- LensManualDistortionAmount: 0
- LensProfileChromaticAberrationScale: 100
- LensProfileDistortionScale: 100
- LensProfileEnable: 1
- LensProfileFilename: NIKON CORPORATION (SIGMA 30mm F1.4 DC HSM A013) - RAW.lcp
- LensProfileSetup: Custom
- LensProfileVignettingScale: 100
- LuminanceAdjustmentAqua: -2
- LuminanceAdjustmentBlue: -2
- LuminanceAdjustmentGreen: -1
- LuminanceAdjustmentMagenta: -1
- LuminanceAdjustmentOrange: +51
- LuminanceAdjustmentPurple: -2
- LuminanceAdjustmentRed: +35
- LuminanceAdjustmentYellow: +18
- LuminanceNoiseReductionContrast: 0
- LuminanceNoiseReductionDetail: 50
- LuminanceSmoothing: 27
- ParametricDarks: 0
- ParametricHighlightSplit: 75
- ParametricHighlights: 0
- ParametricLights: 0
- ParametricMidtoneSplit: 50
- ParametricShadowSplit: 25
- ParametricShadows: 0
- PerspectiveAspect: 0
- PerspectiveHorizontal: 0
- PerspectiveRotate: 0.0
- PerspectiveScale: 100
- PerspectiveUpright: 0
- PerspectiveVertical: 0
- PostCropVignetteAmount: 0
- ProcessVersion: 6.7
- RawFileName: _DSC1776.NEF
- RedHue: 0
- RedSaturation: 0
- Saturation: 0
- SaturationAdjustmentAqua: -1
- SaturationAdjustmentBlue: 0
- SaturationAdjustmentGreen: -1
- SaturationAdjustmentMagenta: 0
- SaturationAdjustmentOrange: -77
- SaturationAdjustmentPurple: -99
- SaturationAdjustmentRed: +68
- SaturationAdjustmentYellow: +58
- ShadowTint: 0
- Shadows2012: +18
- SharpenDetail: 25
- SharpenEdgeMasking: 0
- SharpenRadius: +1.0
- Sharpness: 25
- SplitToningBalance: 0
- SplitToningHighlightHue: 0
- SplitToningHighlightSaturation: 0
- SplitToningShadowHue: 0
- SplitToningShadowSaturation: 0
- Tint: 0
- ToneCurve: 0, 0, 32, 22, 64, 56, 128, 128, 192, 196, 255, 255
- ToneCurveBlue: 0, 0, 255, 255
- ToneCurveGreen: 0, 0, 255, 255
- ToneCurveName: Medium Contrast
- ToneCurveName2012: Linear
- ToneCurvePV2012: 0, 0, 255, 255
- ToneCurvePV2012Blue: 0, 0, 255, 255
- ToneCurvePV2012Green: 0, 0, 255, 255
- ToneCurvePV2012Red: 0, 0, 255, 255
- ToneCurveRed: 0, 0, 255, 255
- Version: 8.7
- Vibrance: 0
- VignetteAmount: 0
- WhiteBalance: Tungsten
- Whites2012: +3
- XMP-dc
- XMP-xmp
- CreatorTool: Ver.1.21
- ModifyDate: 2017:02:19 15:10:48+02:00
- Rating: 0
- XMP-xmpMM
- Просмотров: 290
- Рейтинг: голосов еще нет
- Отзывов: 0