- Раздел: Путешествия
- Дата съёмки: неизвестно
- Дата загрузки фото: 13.04.2017 19:55
- Оригинальная фотография: 2400 x 1600 (4,1 Мб)
- Технические характеристики:
- Фотоаппарат: Canon EOS 5D Mark III
- Выдержка: 0,0
- Гиперфокальное расстояние: inf m
- Диафрагма: 5,0
- Светочувствительность: 200
- Фокусное расстояние: 35,0 mm (35 mm equivalent: 70,0 mm)
- Полный EXIF
- Adobe
- ColorTransform: YCbCr
- Composite
- Aperture: 5,0
- CircleOfConfusion: 0,013 mm
- FOV: 28,0 deg
- FocalLength35efl: 35,0 mm (35 mm equivalent: 70,0 mm)
- HyperfocalDistance: inf m
- LensID: Canon EF 35mm f/1.4L or Other Lens
- Megapixels: 3,8
- ScaleFactor35efl: 2,4
- ShutterSpeed: 0,0
- ExifIFD
- ApertureValue: 4,0
- ColorSpace: sRGB
- CreateDate: 2017:02:17 11:15:14
- CustomRendered: Normal
- DateTimeOriginal: 2017:02:17 11:15:14
- ExifImageHeight: 1600
- ExifImageWidth: 2400
- ExposureCompensation: 0
- ExposureMode: Auto
- ExposureProgram: Aperture-priority AE
- ExposureTime: 0,0
- FNumber: 5,0
- Flash: Off, Did not fire
- FocalLength: 35,0 mm
- ISO: 200
- LensInfo: 35mm f/?
- LensModel: EF35mm f/1.4L USM
- LensSerialNumber: 0000000000
- MaxApertureValue: 1,4
- MeteringMode: Multi-segment
- RecommendedExposureIndex: 200
- SceneCaptureType: Standard
- SensitivityType: Recommended Exposure Index
- SerialNumber: 053024002875
- ShutterSpeedValue: 1/512
- WhiteBalance: Auto
- ICC-header
- ICC-meas
- ICC-view
- IFD0
- Artist: aliko
- Copyright: zavains@yahoo.com
- Make: Canon
- Model: Canon EOS 5D Mark III
- ModifyDate: 2017:02:28 05:54:01
- Orientation: Horizontal (normal)
- IFD1
- IPTC
- By-line: aliko
- CopyrightNotice: zavains@yahoo.com
- DateCreated: 2017:02:17
- System
- XMP-aux
- ApproximateFocusDistance: 4294967295
- DistortionCorrectionAlreadyApplied: True
- Firmware: 1.3.3
- FlashCompensation: 0
- ImageNumber: 0
- LateralChromaticAberrationCorrectionAlreadyApplied: True
- Lens: EF35mm f/1.4L USM
- LensID: 180
- VignetteCorrectionAlreadyApplied: True
- XMP-crs
- AlreadyApplied: True
- AutoLateralCA: 1
- AutoWhiteVersion: 134348800
- Blacks2012: 0
- BlueHue: 0
- BlueSaturation: 0
- Clarity2012: +10
- ColorNoiseReduction: 25
- ColorNoiseReductionDetail: 50
- ColorNoiseReductionSmoothness: 50
- ColorTemperature: 4900
- Contrast2012: 0
- ConvertToGrayscale: False
- CropAngle: -0.945692
- CropBottom: 0.971709
- CropConstrainToWarp: 1
- CropLeft: 0.010992
- CropRight: 0.989008
- CropTop: 0.028291
- DefringeGreenAmount: 12
- DefringeGreenHueHi: 59
- DefringeGreenHueLo: 40
- DefringePurpleAmount: 17
- DefringePurpleHueHi: 74
- DefringePurpleHueLo: 48
- Dehaze: 0
- Exposure2012: 0.00
- GrainAmount: 0
- GreenHue: 0
- GreenSaturation: 0
- HasCrop: True
- HasSettings: True
- Highlights2012: -59
- HueAdjustmentAqua: 0
- HueAdjustmentBlue: 0
- HueAdjustmentGreen: 0
- HueAdjustmentMagenta: 0
- HueAdjustmentOrange: 0
- HueAdjustmentPurple: 0
- HueAdjustmentRed: 0
- HueAdjustmentYellow: 0
- LensManualDistortionAmount: 0
- LensProfileChromaticAberrationScale: 100
- LensProfileDistortionScale: 100
- LensProfileEnable: 1
- LensProfileFilename: Canon EOS 5D Mark II (Canon EF 35mm f1.4L USM) - RAW.lcp
- LensProfileSetup: Custom
- LensProfileVignettingScale: 119
- LuminanceAdjustmentAqua: 0
- LuminanceAdjustmentBlue: 0
- LuminanceAdjustmentGreen: 0
- LuminanceAdjustmentMagenta: 0
- LuminanceAdjustmentOrange: 0
- LuminanceAdjustmentPurple: 0
- LuminanceAdjustmentRed: 0
- LuminanceAdjustmentYellow: 0
- LuminanceSmoothing: 0
- PaintCorrectionActive: true
- PaintCorrectionAmount: 1.000000
- PaintCorrectionBrightness: 0.000000
- PaintCorrectionClarity: 0.000000
- PaintCorrectionClarity2012: 0.000000
- PaintCorrectionContrast: 0.000000
- PaintCorrectionContrast2012: -0.020000
- PaintCorrectionDefringe: 0.000000
- PaintCorrectionExposure: 0.000000
- PaintCorrectionExposure2012: 0.125000
- PaintCorrectionHighlights2012: -0.680000
- PaintCorrectionHue: 0.000000
- PaintCorrectionLocalBlacks2012: 0.000000
- PaintCorrectionLocalDehaze: 0.080000
- PaintCorrectionLocalWhites2012: -0.490000
- PaintCorrectionLuminanceNoise: 0.000000
- PaintCorrectionMaskCenterWeight: 0.000000
- PaintCorrectionMaskFlow: 0.888889
- PaintCorrectionMaskRadius: 0.191057
- PaintCorrectionMaskValue: 1.000000
- PaintCorrectionMaskWhat: Mask/Paint
- PaintCorrectionMoire: 0.000000
- PaintCorrectionSaturation: 0.000000
- PaintCorrectionShadows2012: 0.000000
- PaintCorrectionSharpness: 0.000000
- PaintCorrectionTemperature: 0.000000
- PaintCorrectionTint: 0.000000
- PaintCorrectionWhat: Correction
- ParametricDarks: 0
- ParametricHighlightSplit: 75
- ParametricHighlights: 0
- ParametricLights: 0
- ParametricMidtoneSplit: 50
- ParametricShadowSplit: 25
- ParametricShadows: 0
- PerspectiveAspect: 0
- PerspectiveHorizontal: 0
- PerspectiveRotate: 0.0
- PerspectiveScale: 100
- PerspectiveUpright: 0
- PerspectiveVertical: 0
- PerspectiveX: 0.00
- PerspectiveY: 0.00
- PostCropVignetteAmount: 0
- ProcessVersion: 6.7
- RawFileName: IMG_0826.CR2
- RedHue: 0
- RedSaturation: 0
- Saturation: 0
- SaturationAdjustmentAqua: 0
- SaturationAdjustmentBlue: 0
- SaturationAdjustmentGreen: 0
- SaturationAdjustmentMagenta: 0
- SaturationAdjustmentOrange: 0
- SaturationAdjustmentPurple: 0
- SaturationAdjustmentRed: 0
- SaturationAdjustmentYellow: 0
- ShadowTint: 0
- Shadows2012: -21
- SharpenDetail: 25
- SharpenEdgeMasking: 0
- SharpenRadius: +1.0
- Sharpness: 25
- SplitToningBalance: 0
- SplitToningHighlightHue: 0
- SplitToningHighlightSaturation: 0
- SplitToningShadowHue: 0
- SplitToningShadowSaturation: 0
- Tint: +9
- ToneCurve: 0, 0, 32, 22, 64, 56, 128, 128, 192, 196, 255, 255
- ToneCurveBlue: 0, 0, 255, 255
- ToneCurveGreen: 0, 0, 255, 255
- ToneCurveName: Medium Contrast
- ToneCurveName2012: Linear
- ToneCurvePV2012: 0, 0, 255, 255
- ToneCurvePV2012Blue: 0, 0, 255, 255
- ToneCurvePV2012Green: 0, 0, 255, 255
- ToneCurvePV2012Red: 0, 0, 255, 255
- ToneCurveRed: 0, 0, 255, 255
- ToneMapStrength: 0
- Version: 9.7
- Vibrance: +5
- VignetteAmount: +20
- VignetteMidpoint: 50
- WhiteBalance: As Shot
- Whites2012: -38
- XMP-dc
- Creator: aliko
- Format: image/jpeg
- Rights: zavains@yahoo.com
- XMP-xmp
- ModifyDate: 2017:02:28 05:54:01Z
- Rating: 0
- XMP-xmpMM
- Просмотров: 112
- Рейтинг: голосов еще нет
- Отзывов: 0