- Раздел: Другое, разное
- Дата съёмки: неизвестно
- Дата загрузки фото: 03.05.2017 16:37
- Оригинальная фотография: 2000 x 1341 (3,0 Мб)
- Технические характеристики:
- Фотоаппарат: Nikon D7100
- Выдержка: 0,0
- Гиперфокальное расстояние: inf m
- Диафрагма: 7,1
- Светочувствительность: 100
- Фокусное расстояние: 70,0 mm (35 mm equivalent: 70,0 mm)
- Полный EXIF
- Composite
- Aperture: 7,1
- CircleOfConfusion: 0,020 mm
- FOV: 28,0 deg
- FocalLength35efl: 70,0 mm (35 mm equivalent: 70,0 mm)
- HyperfocalDistance: inf m
- LensID: AF-S VR Zoom-Nikkor 70-300mm f/4.5-5.6G IF-ED
- Megapixels: 2,7
- ScaleFactor35efl: 1,5
- ShutterSpeed: 0,0
- ExifIFD
- ApertureValue: 5,7
- CFAPattern: [Red,Green][Green,Blue]
- ColorSpace: sRGB
- Contrast: Normal
- CreateDate: 2017:05:03 11:48:19
- CustomRendered: Normal
- DateTimeOriginal: 2017:05:03 11:48:19
- DigitalZoomRatio: 1
- ExifImageHeight: 1341
- ExifImageWidth: 2000
- ExposureCompensation: 0
- ExposureMode: Auto
- ExposureProgram: Aperture-priority AE
- ExposureTime: 0,0
- FNumber: 7,1
- Flash: Off, Did not fire
- FocalLength: 70,0 mm
- FocalLengthIn35mmFormat: 105 mm
- GainControl: None
- ISO: 100
- LensInfo: 70-300mm f/4.5-5.6
- LightSource: Unknown
- MaxApertureValue: 4,0
- MeteringMode: Multi-segment
- Saturation: Normal
- SceneCaptureType: Standard
- SceneType: Directly photographed
- SensingMethod: One-chip color area
- SensitivityType: Recommended Exposure Index
- SerialNumber: 4388785
- Sharpness: Hard
- ShutterSpeedValue: 1/256
- SubjectDistanceRange: Unknown
- WhiteBalance: Auto
- IFD0
- Copyright: Belov VA
- FillOrder: Normal
- Make: NIKON CORPORATION
- Model: NIKON D7100
- ModifyDate: 2017:05:03 14:49:57
- Orientation: Horizontal (normal)
- PageNumber: 0 1
- PrimaryChromaticities: 0, 6399999858 0, 3300000132 0, 300000012 0, 600000024 0, 150000006 0, 05999999867
- Software: DxO OpticsPro 11.3
- WhitePoint: 0,3127000035 0,3289999963
- IFD1
- IPTC
- CopyrightNotice: Belov VA
- DateCreated: 2017:05:03
- System
- XMP-aux
- ApproximateFocusDistance: 3,55
- ImageNumber: 4063
- LensID: 141
- XMP-crs
- AlreadyApplied: True
- BlueHue: 0
- BlueSaturation: 0
- ColorNoiseReduction: 25
- ColorNoiseReductionDetail: 50
- ColorTemperature: 4750
- ConvertToGrayscale: False
- GrainAmount: 0
- GreenHue: 0
- GreenSaturation: 0
- HasCrop: False
- HasSettings: True
- HueAdjustmentAqua: 0
- HueAdjustmentBlue: 0
- HueAdjustmentGreen: +30
- HueAdjustmentMagenta: 0
- HueAdjustmentOrange: 0
- HueAdjustmentPurple: 0
- HueAdjustmentRed: 0
- HueAdjustmentYellow: 0
- LensManualDistortionAmount: 0
- LensProfileChromaticAberrationScale: 100
- LensProfileDistortionScale: 100
- LensProfileEnable: 1
- LensProfileFilename: NIKON D700 (Nikon FX 70-300mm f4.5-5.6 G IF-ED VR) - RAW.lcp
- LensProfileSetup: LensDefaults
- LensProfileVignettingScale: 100
- LuminanceAdjustmentAqua: 0
- LuminanceAdjustmentBlue: -19
- LuminanceAdjustmentGreen: 0
- LuminanceAdjustmentMagenta: 0
- LuminanceAdjustmentOrange: -61
- LuminanceAdjustmentPurple: 0
- LuminanceAdjustmentRed: -4
- LuminanceAdjustmentYellow: 0
- LuminanceSmoothing: 0
- ParametricDarks: 0
- ParametricHighlightSplit: 75
- ParametricHighlights: 0
- ParametricLights: 0
- ParametricMidtoneSplit: 50
- ParametricShadowSplit: 25
- ParametricShadows: 0
- PerspectiveHorizontal: 0
- PerspectiveRotate: 0.0
- PerspectiveScale: 100
- PerspectiveVertical: 0
- PostCropVignetteAmount: 0
- ProcessVersion: 6.7
- RedHue: 0
- RedSaturation: 0
- SaturationAdjustmentAqua: 0
- SaturationAdjustmentBlue: +26
- SaturationAdjustmentGreen: +46
- SaturationAdjustmentMagenta: 0
- SaturationAdjustmentOrange: +42
- SaturationAdjustmentPurple: 0
- SaturationAdjustmentRed: +33
- SaturationAdjustmentYellow: 0
- ShadowTint: 0
- SharpenDetail: 25
- SharpenEdgeMasking: 0
- SharpenRadius: +1.0
- SplitToningBalance: 0
- SplitToningHighlightHue: 0
- SplitToningHighlightSaturation: 0
- SplitToningShadowHue: 0
- SplitToningShadowSaturation: 0
- Tint: +2
- ToneCurve: 0, 0, 255, 255
- ToneCurveName: Linear
- Version: 9.5
- Vibrance: +8
- VignetteAmount: 0
- XMP-dc
- Format: image/tiff
- Rights: Belov VA
- XMP-exif
- Saturation: Low
- XMP-x
- XMP-xmp
- CreateDate: 2017:05:03 11:48:19.10
- ModifyDate: 2017:05:03 14:49:57+03:00
- XMP-xmpMM
- Просмотров: 75
- Рейтинг: голосов еще нет
- Отзывов: отключены