- Раздел: Отдых, развлечения
- Дата съёмки: неизвестно
- Дата загрузки фото: 10.06.2017 00:56
- Оригинальная фотография: 2862 x 3816 (8,1 Мб)
- Технические характеристики:
- Фотоаппарат: Apple iPhone 6s Plus
- Выдержка: 0,0
- Гиперфокальное расстояние: inf m
- Диафрагма: 2,2
- Светочувствительность: 25
- Фокусное расстояние: 4,0 mm (35 mm equivalent: 28,0 mm)
- Полный EXIF
- Adobe
- ColorTransform: YCbCr
- Composite
- Aperture: 2,2
- CircleOfConfusion: 0,004 mm
- FOV: 65,0 deg
- FocalLength35efl: 4,0 mm (35 mm equivalent: 28,0 mm)
- GPSLatitude: 55 deg 52' 51,00" N
- GPSLongitude: 40 deg 29' 18,00" E
- GPSPosition: 55 deg 52' 51,00" N, 40 deg 29' 18,00" E
- HyperfocalDistance: inf m
- Megapixels: 10,9
- ScaleFactor35efl: 7,2
- ShutterSpeed: 0,0
- ExifIFD
- ApertureValue: 2,0
- BrightnessValue: 6,277111161
- ColorSpace: sRGB
- CreateDate: 2017:05:23 20:00:26
- DateTimeOriginal: 2017:05:23 20:00:26
- DigitalZoomRatio: 1
- ExifImageHeight: 3816
- ExifImageWidth: 2862
- ExposureCompensation: 0
- ExposureMode: Auto
- ExposureProgram: Program AE
- ExposureTime: 0,0
- FNumber: 2,2
- Flash: Off, Did not fire
- FocalLength: 4,0 mm
- FocalLengthIn35mmFormat: 29 mm
- ISO: 25
- LensInfo: 4.15mm f/2.2
- LensMake: Apple
- LensModel: iPhone 6s Plus back camera 4.15mm f/2.2
- MeteringMode: Multi-segment
- SceneType: Directly photographed
- SensingMethod: One-chip color area
- ShutterSpeedValue: 1/64
- SubjectArea: 2015 1511 2217 1330
- WhiteBalance: Auto
- GPS
- GPSLatitude: 55 deg 52' 51,00"
- GPSLatitudeRef: North
- GPSLongitude: 40 deg 29' 18,00"
- GPSLongitudeRef: East
- ICC-header
- ICC-meas
- ICC-view
- IFD0
- Make: Apple
- Model: iPhone 6s Plus
- ModifyDate: 2017:06:09 20:19:14
- Orientation: Horizontal (normal)
- IFD1
- IPTC
- DateCreated: 2017:05:23
- System
- XMP-aux
- DistortionCorrectionAlreadyApplied: True
- Lens: iPhone 6s Plus back camera 4.15mm f/2.2
- VignetteCorrectionAlreadyApplied: True
- XMP-crs
- AlreadyApplied: True
- AutoLateralCA: 0
- AutoWhiteVersion: 134348800
- Blacks2012: 0
- BlueHue: 0
- BlueSaturation: 0
- CameraProfile: Camera Default
- Clarity2012: 0
- ColorNoiseReduction: 8
- ColorNoiseReductionDetail: 50
- ColorNoiseReductionSmoothness: 50
- ColorTemperature: 4400
- Contrast2012: 0
- ConvertToGrayscale: False
- CropAngle: 2.478789
- CropBottom: 1
- CropConstrainToWarp: 1
- CropLeft: 0.042633
- CropRight: 0.957367
- CropTop: 0
- DefringeGreenAmount: 0
- DefringeGreenHueHi: 60
- DefringeGreenHueLo: 40
- DefringePurpleAmount: 0
- DefringePurpleHueHi: 70
- DefringePurpleHueLo: 30
- Dehaze: 0
- Exposure2012: 0.00
- GrainAmount: 0
- GreenHue: 0
- GreenSaturation: 0
- HasCrop: True
- HasSettings: True
- Highlights2012: -23
- HueAdjustmentAqua: 0
- HueAdjustmentBlue: 0
- HueAdjustmentGreen: 0
- HueAdjustmentMagenta: 0
- HueAdjustmentOrange: +8
- HueAdjustmentPurple: 0
- HueAdjustmentRed: 0
- HueAdjustmentYellow: 0
- LensManualDistortionAmount: 0
- LensProfileChromaticAberrationScale: 100
- LensProfileDistortionScale: 100
- LensProfileEnable: 1
- LensProfileFilename: iPhone 6s Plus (iPhone 6s Plus back camera 4.15mm f2.2) - RAW.lcp
- LensProfileSetup: LensDefaults
- LensProfileVignettingScale: 100
- LuminanceAdjustmentAqua: 0
- LuminanceAdjustmentBlue: 0
- LuminanceAdjustmentGreen: 0
- LuminanceAdjustmentMagenta: 0
- LuminanceAdjustmentOrange: 0
- LuminanceAdjustmentPurple: 0
- LuminanceAdjustmentRed: 0
- LuminanceAdjustmentYellow: 0
- LuminanceSmoothing: 0
- ParametricDarks: 0
- ParametricHighlightSplit: 75
- ParametricHighlights: 0
- ParametricLights: 0
- ParametricMidtoneSplit: 50
- ParametricShadowSplit: 25
- ParametricShadows: 0
- PerspectiveAspect: 0
- PerspectiveHorizontal: 0
- PerspectiveRotate: 0.0
- PerspectiveScale: 100
- PerspectiveUpright: 0
- PerspectiveVertical: 0
- PerspectiveX: 0.00
- PerspectiveY: 0.00
- PostCropVignetteAmount: 0
- ProcessVersion: 6.7
- RawFileName: IMG_2956.dng
- RedHue: +2
- RedSaturation: 0
- Saturation: 0
- SaturationAdjustmentAqua: 0
- SaturationAdjustmentBlue: 0
- SaturationAdjustmentGreen: 0
- SaturationAdjustmentMagenta: 0
- SaturationAdjustmentOrange: 0
- SaturationAdjustmentPurple: 0
- SaturationAdjustmentRed: 0
- SaturationAdjustmentYellow: 0
- ShadowTint: 0
- Shadows2012: 0
- SharpenDetail: 25
- SharpenEdgeMasking: 0
- SharpenRadius: +0.9
- Sharpness: 11
- SplitToningBalance: 0
- SplitToningHighlightHue: 0
- SplitToningHighlightSaturation: 0
- SplitToningShadowHue: 0
- SplitToningShadowSaturation: 0
- Tint: +11
- ToneCurve: 0, 0, 32, 22, 64, 56, 128, 128, 192, 196, 255, 255
- ToneCurveBlue: 0, 0, 255, 255
- ToneCurveGreen: 0, 0, 255, 255
- ToneCurveName: Medium Contrast
- ToneCurveName2012: Linear
- ToneCurvePV2012: 0, 0, 255, 255
- ToneCurvePV2012Blue: 0, 0, 255, 255
- ToneCurvePV2012Green: 0, 0, 255, 255
- ToneCurvePV2012Red: 0, 0, 255, 255
- ToneCurveRed: 0, 0, 255, 255
- ToneMapStrength: 0
- Version: 9.10.1
- Vibrance: +11
- VignetteAmount: 0
- WhiteBalance: As Shot
- Whites2012: +15
- XMP-dc
- XMP-exifEX
- PhotographicSensitivity: 25
- XMP-xmp
- CreatorTool: ProCam 8.8
- ModifyDate: 2017:06:09 20:19:14+03:00
- Rating: 0
- XMP-xmpMM
- Просмотров: 179
- Рейтинг: голосов еще нет
- Отзывов: 0