- Раздел: Тесты фототехники
- Дата съёмки: неизвестно
- Дата загрузки фото: 20.06.2017 01:25
- Оригинальная фотография: 6000 x 4000 (2,5 Мб)
- Технические характеристики:
- Фотоаппарат: FujiFilm X-T20
- Выдержка: 0,0
- Гиперфокальное расстояние: inf m
- Диафрагма: 2,0
- Светочувствительность: 200
- Фокусное расстояние: 35,0 mm (35 mm equivalent: 35,0 mm)
- Полный EXIF
- Adobe
- ColorTransform: YCbCr
- Composite
- Aperture: 2,0
- CircleOfConfusion: 0,020 mm
- FOV: 54,0 deg
- FocalLength35efl: 35,0 mm (35 mm equivalent: 35,0 mm)
- HyperfocalDistance: inf m
- Megapixels: 24,0
- ScaleFactor35efl: 1,5
- ShutterSpeed: 0,0
- ExifIFD
- ApertureValue: 2,0
- BrightnessValue: 4,47
- ColorSpace: sRGB
- CreateDate: 2017:04:08 12:48:51
- CustomRendered: Normal
- DateTimeOriginal: 2017:04:08 12:48:51
- ExifImageHeight: 4000
- ExifImageWidth: 6000
- ExposureCompensation: 0
- ExposureMode: Auto
- ExposureProgram: Aperture-priority AE
- ExposureTime: 0,0
- FNumber: 2,0
- Flash: No Flash
- FocalLength: 35,0 mm
- FocalLengthIn35mmFormat: 53 mm
- ISO: 200
- LensInfo: 35mm f/2
- LensMake: FUJIFILM
- LensModel: XF35mmF2 R WR
- LensSerialNumber: 57A11034
- LightSource: Unknown
- MaxApertureValue: 2,0
- MeteringMode: Center-weighted average
- SceneCaptureType: Standard
- SceneType: Directly photographed
- SensingMethod: One-chip color area
- SensitivityType: Standard Output Sensitivity
- SerialNumber: 7AQ00115
- Sharpness: Normal
- ShutterSpeedValue: 1/256
- SubjectDistanceRange: Unknown
- WhiteBalance: Auto
- ICC-header
- ICC-meas
- ICC-view
- IFD0
- Artist: Mikhail Rybakov
- BitsPerSample: 8 8 8
- ImageHeight: 4000
- ImageWidth: 6000
- Make: FUJIFILM
- Model: X-T20
- ModifyDate: 2017:05:21 02:14:52
- Orientation: Horizontal (normal)
- PhotometricInterpretation: RGB
- SamplesPerPixel: 3
- IFD1
- IPTC
- By-line: Mikhail Rybakov
- DateCreated: 2017:04:08
- System
- XMP-aux
- DistortionCorrectionAlreadyApplied: True
- LateralChromaticAberrationCorrectionAlreadyApplied: True
- Lens: XF35mmF2 R WR
- VignetteCorrectionAlreadyApplied: True
- XMP-crs
- AlreadyApplied: True
- AutoLateralCA: 1
- AutoWhiteVersion: 134348800
- Blacks2012: -26
- BlueHue: 0
- BlueSaturation: 0
- Clarity2012: +10
- ColorNoiseReduction: 25
- ColorNoiseReductionDetail: 50
- ColorNoiseReductionSmoothness: 50
- ColorTemperature: 3150
- Contrast2012: +3
- ConvertToGrayscale: False
- DefringeGreenAmount: 0
- DefringeGreenHueHi: 60
- DefringeGreenHueLo: 40
- DefringePurpleAmount: 0
- DefringePurpleHueHi: 70
- DefringePurpleHueLo: 30
- Dehaze: 0
- Exposure2012: +0.70
- GrainAmount: 0
- GreenHue: 0
- GreenSaturation: 0
- HasCrop: False
- HasSettings: True
- Highlights2012: -72
- HueAdjustmentAqua: 0
- HueAdjustmentBlue: 0
- HueAdjustmentGreen: 0
- HueAdjustmentMagenta: 0
- HueAdjustmentOrange: 0
- HueAdjustmentPurple: 0
- HueAdjustmentRed: 0
- HueAdjustmentYellow: 0
- LensManualDistortionAmount: 0
- LensProfileEnable: 0
- LensProfileSetup: LensDefaults
- LuminanceAdjustmentAqua: 0
- LuminanceAdjustmentBlue: 0
- LuminanceAdjustmentGreen: 0
- LuminanceAdjustmentMagenta: 0
- LuminanceAdjustmentOrange: 0
- LuminanceAdjustmentPurple: 0
- LuminanceAdjustmentRed: 0
- LuminanceAdjustmentYellow: 0
- LuminanceSmoothing: 0
- ParametricDarks: 0
- ParametricHighlightSplit: 75
- ParametricHighlights: 0
- ParametricLights: 0
- ParametricMidtoneSplit: 50
- ParametricShadowSplit: 25
- ParametricShadows: 0
- PerspectiveAspect: 0
- PerspectiveHorizontal: 0
- PerspectiveRotate: 0.0
- PerspectiveScale: 100
- PerspectiveUpright: 0
- PerspectiveVertical: 0
- PerspectiveX: 0.00
- PerspectiveY: 0.00
- PostCropVignetteAmount: 0
- ProcessVersion: 6.7
- RawFileName: DSCF0318.RAF
- RedHue: 0
- RedSaturation: 0
- Saturation: 0
- SaturationAdjustmentAqua: 0
- SaturationAdjustmentBlue: 0
- SaturationAdjustmentGreen: -100
- SaturationAdjustmentMagenta: +6
- SaturationAdjustmentOrange: 0
- SaturationAdjustmentPurple: -1
- SaturationAdjustmentRed: 0
- SaturationAdjustmentYellow: 0
- ShadowTint: 0
- Shadows2012: 0
- SharpenDetail: 25
- SharpenEdgeMasking: 0
- SharpenRadius: +1.0
- Sharpness: 0
- SplitToningBalance: 0
- SplitToningHighlightHue: 0
- SplitToningHighlightSaturation: 0
- SplitToningShadowHue: 0
- SplitToningShadowSaturation: 0
- Tint: +25
- ToneCurve: 0, 0, 32, 22, 64, 56, 128, 128, 192, 196, 255, 255
- ToneCurveBlue: 0, 0, 255, 255
- ToneCurveGreen: 0, 0, 255, 255
- ToneCurveName: Medium Contrast
- ToneCurveName2012: Linear
- ToneCurvePV2012: 0, 0, 255, 255
- ToneCurvePV2012Blue: 0, 0, 255, 255
- ToneCurvePV2012Green: 0, 0, 255, 255
- ToneCurvePV2012Red: 0, 0, 255, 255
- ToneCurveRed: 0, 0, 255, 255
- ToneMapStrength: 0
- Version: 9.9
- Vibrance: +13
- VignetteAmount: 0
- WhiteBalance: Custom
- Whites2012: +45
- XMP-dc
- Creator: Mikhail Rybakov
- Format: image/jpeg
- XMP-xmp
- ModifyDate: 2017:05:21 02:14:52+03:00
- Rating: 0
- XMP-xmpMM
- Просмотров: 153
- Рейтинг: голосов еще нет
- Отзывов: отключены