- Раздел: Тесты фототехники
- Дата съёмки: неизвестно
- Дата загрузки фото: 28.09.2017 20:53
- Оригинальная фотография: 6240 x 4160 (6,6 Мб)
- Технические характеристики:
- Фотоаппарат: Canon EOS 6D Mark II
- Выдержка: 0,0
- Гиперфокальное расстояние: inf m
- Диафрагма: 4,0
- Светочувствительность: 400
- Фокусное расстояние: 100,0 mm (35 mm equivalent: 100,0 mm)
- Полный EXIF
- Adobe
- ColorTransform: YCbCr
- Composite
- Aperture: 4,0
- CircleOfConfusion: 0,030 mm
- FOV: 20,0 deg
- FocalLength35efl: 100,0 mm (35 mm equivalent: 100,0 mm)
- HyperfocalDistance: inf m
- LensID: Canon EF 70-200mm f/4L IS
- Megapixels: 26,0
- ScaleFactor35efl: 1,0
- ShutterSpeed: 0,0
- ExifIFD
- ApertureValue: 4,0
- ColorSpace: sRGB
- CreateDate: 2017:09:26 16:45:47
- CustomRendered: Normal
- DateTimeOriginal: 2017:09:26 16:45:47
- ExposureCompensation: 0
- ExposureMode: Auto
- ExposureProgram: Aperture-priority AE
- ExposureTime: 0,0
- FNumber: 4,0
- Flash: Off, Did not fire
- FocalLength: 100,0 mm
- ISO: 400
- LensInfo: 70-200mm f/?
- LensModel: EF70-200mm f/4L IS USM
- LensSerialNumber: 000083cd18
- MaxApertureValue: 4,0
- MeteringMode: Multi-segment
- RecommendedExposureIndex: 400
- SceneCaptureType: Standard
- SensitivityType: Recommended Exposure Index
- SerialNumber: 043051001869
- ShutterSpeedValue: 1/64
- WhiteBalance: Auto
- ICC-header
- ICC-meas
- ICC-view
- IFD0
- Artist: Mikhail Rybakov
- Copyright: Mikhail Rybakov
- Make: Canon
- Model: Canon EOS 6D Mark II
- ModifyDate: 2017:09:28 19:58:17
- IFD1
- IPTC
- By-line: Mikhail Rybakov
- CopyrightNotice: Mikhail Rybakov
- DateCreated: 2017:09:26
- System
- XMP-aux
- ApproximateFocusDistance: 1,85
- DistortionCorrectionAlreadyApplied: True
- Firmware: 1.0.2
- FlashCompensation: 0
- ImageNumber: 0
- LateralChromaticAberrationCorrectionAlreadyApplied: True
- Lens: EF70-200mm f/4L IS USM
- LensID: 242
- VignetteCorrectionAlreadyApplied: True
- XMP-crs
- AlreadyApplied: True
- AutoLateralCA: 1
- Blacks2012: -11
- BlueHue: 0
- BlueSaturation: 0
- Clarity2012: 0
- ColorNoiseReduction: 25
- ColorNoiseReductionDetail: 50
- ColorNoiseReductionSmoothness: 50
- ColorTemperature: 5550
- Contrast2012: +16
- ConvertToGrayscale: False
- DefringeGreenAmount: 0
- DefringeGreenHueHi: 60
- DefringeGreenHueLo: 40
- DefringePurpleAmount: 0
- DefringePurpleHueHi: 70
- DefringePurpleHueLo: 30
- Dehaze: 0
- Exposure2012: -0.80
- GrainAmount: 0
- GreenHue: 0
- GreenSaturation: 0
- HasCrop: False
- HasSettings: True
- Highlights2012: -23
- HueAdjustmentAqua: 0
- HueAdjustmentBlue: 0
- HueAdjustmentGreen: 0
- HueAdjustmentMagenta: 0
- HueAdjustmentOrange: 0
- HueAdjustmentPurple: 0
- HueAdjustmentRed: 0
- HueAdjustmentYellow: 0
- LensManualDistortionAmount: 0
- LensProfileChromaticAberrationScale: 100
- LensProfileDistortionScale: 100
- LensProfileEnable: 1
- LensProfileFilename: Canon EOS 5D Mark II (Canon EF 70-200mm f4L IS USM) - RAW.lcp
- LensProfileSetup: LensDefaults
- LensProfileVignettingScale: 100
- LuminanceAdjustmentAqua: 0
- LuminanceAdjustmentBlue: 0
- LuminanceAdjustmentGreen: -3
- LuminanceAdjustmentMagenta: 0
- LuminanceAdjustmentOrange: 0
- LuminanceAdjustmentPurple: 0
- LuminanceAdjustmentRed: 0
- LuminanceAdjustmentYellow: +48
- LuminanceSmoothing: 0
- ParametricDarks: 0
- ParametricHighlightSplit: 75
- ParametricHighlights: 0
- ParametricLights: 0
- ParametricMidtoneSplit: 50
- ParametricShadowSplit: 25
- ParametricShadows: 0
- PerspectiveAspect: 0
- PerspectiveHorizontal: 0
- PerspectiveRotate: 0.0
- PerspectiveScale: 119
- PerspectiveUpright: 0
- PerspectiveVertical: 0
- PerspectiveX: +9.00
- PerspectiveY: +8.00
- PostCropVignetteAmount: 0
- ProcessVersion: 6.7
- RawFileName: _MG_0265.CR2
- RedHue: 0
- RedSaturation: 0
- Saturation: 0
- SaturationAdjustmentAqua: 0
- SaturationAdjustmentBlue: 0
- SaturationAdjustmentGreen: 0
- SaturationAdjustmentMagenta: 0
- SaturationAdjustmentOrange: 0
- SaturationAdjustmentPurple: 0
- SaturationAdjustmentRed: 0
- SaturationAdjustmentYellow: 0
- ShadowTint: 0
- Shadows2012: -23
- SharpenDetail: 25
- SharpenEdgeMasking: 0
- SharpenRadius: +1.0
- Sharpness: 25
- SplitToningBalance: 0
- SplitToningHighlightHue: 0
- SplitToningHighlightSaturation: 0
- SplitToningShadowHue: 0
- SplitToningShadowSaturation: 0
- Tint: +20
- ToneCurve: 0, 0, 32, 22, 64, 56, 128, 128, 192, 196, 255, 255
- ToneCurveBlue: 0, 0, 255, 255
- ToneCurveGreen: 0, 0, 255, 255
- ToneCurveName: Medium Contrast
- ToneCurveName2012: Linear
- ToneCurvePV2012: 0, 0, 255, 255
- ToneCurvePV2012Blue: 0, 0, 255, 255
- ToneCurvePV2012Green: 0, 0, 255, 255
- ToneCurvePV2012Red: 0, 0, 255, 255
- ToneCurveRed: 0, 0, 255, 255
- ToneMapStrength: 0
- Version: 9.12.1
- Vibrance: 0
- VignetteAmount: 0
- WhiteBalance: As Shot
- Whites2012: +20
- XMP-dc
- Creator: Mikhail Rybakov
- Format: image/jpeg
- Rights: Mikhail Rybakov
- XMP-xmp
- CreateDate: 2017:09:26 16:45:47.66
- ModifyDate: 2017:09:28 19:58:17+03:00
- XMP-xmpMM
- Просмотров: 637
- Рейтинг: голосов еще нет
- Отзывов: отключены