- Раздел: Другое, разное
- Дата съёмки: неизвестно
- Дата загрузки фото: 16.10.2017 02:41
- Оригинальная фотография: 4000 x 1674 (5,0 Мб)
- Технические характеристики:
- Фотоаппарат: Canon EOS 6D
- Выдержка: 0,0
- Диафрагма: 3,2
- Светочувствительность: 50
- Фокусное расстояние: 42,0 mm
- Полный EXIF
- Adobe
- ColorTransform: YCbCr
- Composite
- Aperture: 3,2
- FocalLength35efl: 42,0 mm
- LensID: Canon EF 35mm f/2
- Megapixels: 6,7
- ShutterSpeed: 0,0
- ExifIFD
- ApertureValue: 2,8
- ColorSpace: sRGB
- CreateDate: 2017:08:07 20:15:09
- CustomRendered: Normal
- DateTimeOriginal: 2017:08:07 20:15:09
- ExifImageHeight: 1674
- ExifImageWidth: 4000
- ExposureCompensation: 0
- ExposureMode: Manual
- ExposureProgram: Manual
- ExposureTime: 0,0
- FNumber: 3,2
- Flash: Off, Did not fire
- FocalLength: 42,0 mm
- ISO: 50
- LensInfo: 28-70mm f/?
- LensModel: 28-70mm
- LensSerialNumber: 0000000000
- MaxApertureValue: 2,8
- MeteringMode: Multi-segment
- RecommendedExposureIndex: 50
- SceneCaptureType: Standard
- SensitivityType: Recommended Exposure Index
- SerialNumber: 211020000677
- ShutterSpeedValue: 1/128
- WhiteBalance: Auto
- ICC-header
- ICC-meas
- ICC-view
- IFD0
- Artist: Alpatova
- BitsPerSample: 16 16 16
- Copyright: Alpatova
- ImageHeight: 1674
- ImageWidth: 4000
- Make: Canon
- Model: Canon EOS 6D
- ModifyDate: 2017:09:29 23:45:42
- Orientation: Horizontal (normal)
- PhotometricInterpretation: RGB
- PlanarConfiguration: Chunky
- SamplesPerPixel: 3
- IFD1
- IPTC
- By-line: Alpatova
- CopyrightNotice: Alpatova
- DateCreated: 2017:08:07
- System
- XMP-aux
- Firmware: 1.1.4
- FlashCompensation: 0
- ImageNumber: 0
- Lens: 28-70mm
- LensID: 11
- XMP-crs
- AlreadyApplied: True
- AutoLateralCA: 1
- AutoWhiteVersion: 134348800
- Blacks2012: 0
- BlueHue: 0
- BlueSaturation: 0
- CameraProfile: // Fuji Pro 400H (Frontier)
- CircGradBasedCorrActive: true
- CircGradBasedCorrAmount: 1.000000
- CircGradBasedCorrBrightness: 0.000000
- CircGradBasedCorrClarity2012: 0.000000
- CircGradBasedCorrContrast2012: 0.000000
- CircGradBasedCorrDefringe: 0.000000
- CircGradBasedCorrExposure2012: 0.000000
- CircGradBasedCorrHighlights2012: 0.000000
- CircGradBasedCorrHue: 240.000000
- CircGradBasedCorrLuminanceNoise: 0.000000
- CircGradBasedCorrMaskAngle: 0.000000
- CircGradBasedCorrMaskBottom: 0.532306
- CircGradBasedCorrMaskFeather: +50
- CircGradBasedCorrMaskFlipped: false
- CircGradBasedCorrMaskLeft: 0.466631
- CircGradBasedCorrMaskMidpoint: +50
- CircGradBasedCorrMaskRight: 0.470331
- CircGradBasedCorrMaskRoundness: 0
- CircGradBasedCorrMaskTop: 0.499579
- CircGradBasedCorrMaskValue: 1.000000
- CircGradBasedCorrMaskVersion: +2
- CircGradBasedCorrMaskWhat: Mask/CircularGradient
- CircGradBasedCorrMoire: 0.000000
- CircGradBasedCorrSaturation: 0.000000
- CircGradBasedCorrShadows2012: 0.000000
- CircGradBasedCorrSharpness: 0.000000
- CircGradBasedCorrTemperature: 0.000000
- CircGradBasedCorrTint: 0.000000
- CircGradBasedCorrWhat: Correction
- Clarity2012: +70
- ColorNoiseReduction: 0
- ColorTemperature: 5250
- Contrast2012: -8
- ConvertToGrayscale: False
- CropAngle: 0
- CropBottom: 0.726096
- CropConstrainToWarp: 1
- CropLeft: 0.00586
- CropRight: 0.99407
- CropTop: 0.10588
- DefringeGreenAmount: 0
- DefringeGreenHueHi: 60
- DefringeGreenHueLo: 40
- DefringePurpleAmount: 0
- DefringePurpleHueHi: 70
- DefringePurpleHueLo: 30
- Exposure2012: +0.48
- GradientBasedCorrActive: true
- GradientBasedCorrAmount: 1.000000
- GradientBasedCorrBrightness: 0.000000
- GradientBasedCorrClarity2012: 0.000000
- GradientBasedCorrContrast2012: 0.000000
- GradientBasedCorrDefringe: 0.000000
- GradientBasedCorrExposure2012: 0.008224
- GradientBasedCorrHighlights2012: 0.000000
- GradientBasedCorrHue: 240.000000
- GradientBasedCorrLuminanceNoise: 0.000000
- GradientBasedCorrMaskFullX: 1.116640
- GradientBasedCorrMaskFullY: 1.019110
- GradientBasedCorrMaskValue: 1.000000
- GradientBasedCorrMaskWhat: Mask/Gradient
- GradientBasedCorrMaskZeroX: 1.116640
- GradientBasedCorrMaskZeroY: 1.022930
- GradientBasedCorrMoire: 0.000000
- GradientBasedCorrSaturation: 0.000000
- GradientBasedCorrShadows2012: 0.000000
- GradientBasedCorrSharpness: 0.000000
- GradientBasedCorrTemperature: 0.000000
- GradientBasedCorrTint: 0.000000
- GradientBasedCorrWhat: Correction
- GrainAmount: 0
- GreenHue: 0
- GreenSaturation: 0
- HasCrop: True
- HasSettings: True
- Highlights2012: -100
- HueAdjustmentAqua: 0
- HueAdjustmentBlue: 0
- HueAdjustmentGreen: 0
- HueAdjustmentMagenta: 0
- HueAdjustmentOrange: 0
- HueAdjustmentPurple: 0
- HueAdjustmentRed: 0
- HueAdjustmentYellow: 0
- LensManualDistortionAmount: 0
- LensProfileChromaticAberrationScale: 100
- LensProfileDistortionScale: 100
- LensProfileEnable: 1
- LensProfileFilename: Canon EOS 5D Mark II (Canon EF 28-70mm f2.8 L USM) - RAW.lcp
- LensProfileSetup: Custom
- LensProfileVignettingScale: 100
- LuminanceAdjustmentAqua: 0
- LuminanceAdjustmentBlue: 0
- LuminanceAdjustmentGreen: 0
- LuminanceAdjustmentMagenta: 0
- LuminanceAdjustmentOrange: +19
- LuminanceAdjustmentPurple: 0
- LuminanceAdjustmentRed: +19
- LuminanceAdjustmentYellow: 0
- LuminanceNoiseReductionContrast: 0
- LuminanceNoiseReductionDetail: 50
- LuminanceSmoothing: 30
- ParametricDarks: 0
- ParametricHighlightSplit: 75
- ParametricHighlights: 0
- ParametricLights: 0
- ParametricMidtoneSplit: 50
- ParametricShadowSplit: 25
- ParametricShadows: -13
- PerspectiveAspect: 0
- PerspectiveHorizontal: 0
- PerspectiveRotate: 0.0
- PerspectiveScale: 100
- PerspectiveUpright: 1
- PerspectiveVertical: +5
- PostCropVignetteAmount: -25
- PostCropVignetteFeather: 99
- PostCropVignetteHighlightContrast: 100
- PostCropVignetteMidpoint: 8
- PostCropVignetteRoundness: -70
- PostCropVignetteStyle: 1
- ProcessVersion: 6.7
- RawFileName: IMG_5123-4.tif
- RedHue: 0
- RedSaturation: 0
- Saturation: -8
- SaturationAdjustmentAqua: 0
- SaturationAdjustmentBlue: 0
- SaturationAdjustmentGreen: 0
- SaturationAdjustmentMagenta: 0
- SaturationAdjustmentOrange: +68
- SaturationAdjustmentPurple: 0
- SaturationAdjustmentRed: +3
- SaturationAdjustmentYellow: +11
- ShadowTint: 0
- Shadows2012: +14
- SharpenDetail: 100
- SharpenEdgeMasking: 0
- SharpenRadius: +1.0
- Sharpness: 25
- SplitToningBalance: +81
- SplitToningHighlightHue: 69
- SplitToningHighlightSaturation: 13
- SplitToningShadowHue: 235
- SplitToningShadowSaturation: 30
- Tint: +15
- ToneCurve: 0, 0, 255, 255
- ToneCurveBlue: 0, 0, 255, 255
- ToneCurveGreen: 0, 0, 255, 255
- ToneCurveName: Linear
- ToneCurveName2012: Custom
- ToneCurvePV2012: 0, 27, 60, 67, 166, 173, 212, 211, 255, 233
- ToneCurvePV2012Blue: 0, 0, 255, 255
- ToneCurvePV2012Green: 0, 0, 255, 255
- ToneCurvePV2012Red: 0, 0, 255, 255
- ToneCurveRed: 0, 0, 255, 255
- Version: 9.0
- Vibrance: -44
- VignetteAmount: 0
- WhiteBalance: Custom
- Whites2012: -25
- XMP-dc
- Creator: Alpatova
- Format: image/jpeg
- Rights: Alpatova
- XMP-xmp
- ModifyDate: 2017:09:29 23:45:42+03:00
- XMP-xmpMM
- Просмотров: 195
- Рейтинг: голосов еще нет
- Отзывов: 0