- Раздел: Другое, разное
- Дата съёмки: неизвестно
- Дата загрузки фото: 16.10.2017 02:41
- Оригинальная фотография: 4000 x 2667 (3,0 Мб)
- Технические характеристики:
- Фотоаппарат: Canon EOS 6D
- Выдержка: 0,0
- Гиперфокальное расстояние: inf m
- Диафрагма: 3,2
- Светочувствительность: 50
- Фокусное расстояние: 70,0 mm (35 mm equivalent: 70,0 mm)
- Полный EXIF
- Adobe
- ColorTransform: YCbCr
- Composite
- Aperture: 3,2
- CircleOfConfusion: 0,022 mm
- FOV: 28,0 deg
- FocalLength35efl: 70,0 mm (35 mm equivalent: 70,0 mm)
- HyperfocalDistance: inf m
- LensID: Canon EF 35mm f/2
- Megapixels: 10,7
- ScaleFactor35efl: 1,4
- ShutterSpeed: 0,0
- ExifIFD
- ApertureValue: 2,8
- ColorSpace: sRGB
- CreateDate: 2017:08:07 20:16:45
- CustomRendered: Normal
- DateTimeOriginal: 2017:08:07 20:16:45
- ExifImageHeight: 2667
- ExifImageWidth: 4000
- ExposureCompensation: 0
- ExposureMode: Manual
- ExposureProgram: Manual
- ExposureTime: 0,0
- FNumber: 3,2
- Flash: Off, Did not fire
- FocalLength: 70,0 mm
- ISO: 50
- LensInfo: 28-70mm f/?
- LensModel: 28-70mm
- LensSerialNumber: 0000000000
- MaxApertureValue: 2,8
- MeteringMode: Multi-segment
- RecommendedExposureIndex: 50
- SceneCaptureType: Standard
- SensitivityType: Recommended Exposure Index
- SerialNumber: 211020000677
- ShutterSpeedValue: 1/1024
- WhiteBalance: Auto
- ICC-header
- ICC-meas
- ICC-view
- IFD0
- Artist: Alpatova
- BitsPerSample: 16 16 16
- Copyright: Alpatova
- ImageHeight: 2667
- ImageWidth: 4000
- Make: Canon
- Model: Canon EOS 6D
- ModifyDate: 2017:09:25 18:18:57
- Orientation: Horizontal (normal)
- PhotometricInterpretation: RGB
- PlanarConfiguration: Chunky
- SamplesPerPixel: 3
- IFD1
- IPTC
- By-line: Alpatova
- CopyrightNotice: Alpatova
- DateCreated: 2017:08:07
- System
- XMP-aux
- Firmware: 1.1.4
- FlashCompensation: 0
- ImageNumber: 0
- Lens: 28-70mm
- LensID: 11
- XMP-crs
- AlreadyApplied: True
- AutoLateralCA: 1
- AutoWhiteVersion: 134348800
- Blacks2012: +12
- BlueHue: -10
- BlueSaturation: +10
- CameraProfile: Camera Neutral
- Clarity2012: +44
- ColorNoiseReduction: 73
- ColorNoiseReductionDetail: 50
- ColorNoiseReductionSmoothness: 50
- ColorTemperature: 4250
- Contrast2012: +42
- ConvertToGrayscale: False
- CropAngle: 0
- CropBottom: 0.994963
- CropConstrainToWarp: 1
- CropLeft: 0.005043
- CropRight: 0.99499
- CropTop: 0.005017
- DefringeGreenAmount: 0
- DefringeGreenHueHi: 60
- DefringeGreenHueLo: 40
- DefringePurpleAmount: 0
- DefringePurpleHueHi: 70
- DefringePurpleHueLo: 30
- Exposure2012: +1.78
- GrainAmount: 0
- GreenHue: +5
- GreenSaturation: -5
- HasCrop: True
- HasSettings: True
- Highlights2012: -66
- HueAdjustmentAqua: 0
- HueAdjustmentBlue: 0
- HueAdjustmentGreen: 0
- HueAdjustmentMagenta: 0
- HueAdjustmentOrange: 0
- HueAdjustmentPurple: 0
- HueAdjustmentRed: 0
- HueAdjustmentYellow: 0
- LensManualDistortionAmount: 0
- LensProfileChromaticAberrationScale: 100
- LensProfileDistortionScale: 100
- LensProfileEnable: 1
- LensProfileFilename: Canon EOS 5D Mark II (Canon EF 28-70mm f2.8 L USM) - RAW.lcp
- LensProfileSetup: Custom
- LensProfileVignettingScale: 100
- LuminanceAdjustmentAqua: +4
- LuminanceAdjustmentBlue: 0
- LuminanceAdjustmentGreen: 0
- LuminanceAdjustmentMagenta: 0
- LuminanceAdjustmentOrange: 0
- LuminanceAdjustmentPurple: 0
- LuminanceAdjustmentRed: 0
- LuminanceAdjustmentYellow: 0
- LuminanceSmoothing: 0
- PaintCorrectionActive: true
- PaintCorrectionAmount: 1.000000
- PaintCorrectionBrightness: 0.000000
- PaintCorrectionClarity2012: 0.734690
- PaintCorrectionContrast2012: 0.042550
- PaintCorrectionDefringe: 0.000000
- PaintCorrectionExposure2012: 0.036250
- PaintCorrectionHighlights2012: -0.122450
- PaintCorrectionHue: 50.000000
- PaintCorrectionLuminanceNoise: 0.000000
- PaintCorrectionMaskCenterWeight: 0.052200
- PaintCorrectionMaskFlow: 0.546000
- PaintCorrectionMaskRadius: 0.009911
- PaintCorrectionMaskValue: 1.000000
- PaintCorrectionMaskWhat: Mask/Paint
- PaintCorrectionMoire: 0.000000
- PaintCorrectionSaturation: 0.000000
- PaintCorrectionShadows2012: 0.040820
- PaintCorrectionSharpness: 0.040000
- PaintCorrectionTemperature: 0.000820
- PaintCorrectionTint: 0.000000
- PaintCorrectionWhat: Correction
- ParametricDarks: 0
- ParametricHighlightSplit: 75
- ParametricHighlights: 0
- ParametricLights: 0
- ParametricMidtoneSplit: 50
- ParametricShadowSplit: 25
- ParametricShadows: 0
- PerspectiveAspect: 0
- PerspectiveHorizontal: 0
- PerspectiveRotate: +0.4
- PerspectiveScale: 100
- PerspectiveUpright: 1
- PerspectiveVertical: 0
- PostCropVignetteAmount: 0
- ProcessVersion: 6.7
- RawFileName: IMG_5130-3.tif
- RedHue: -5
- RedSaturation: +10
- Saturation: -10
- SaturationAdjustmentAqua: +2
- SaturationAdjustmentBlue: 0
- SaturationAdjustmentGreen: 0
- SaturationAdjustmentMagenta: 0
- SaturationAdjustmentOrange: 0
- SaturationAdjustmentPurple: 0
- SaturationAdjustmentRed: 0
- SaturationAdjustmentYellow: 0
- ShadowTint: -10
- Shadows2012: +25
- SharpenDetail: 72
- SharpenEdgeMasking: 0
- SharpenRadius: +1.5
- Sharpness: 41
- SplitToningBalance: +18
- SplitToningHighlightHue: 37
- SplitToningHighlightSaturation: 7
- SplitToningShadowHue: 225
- SplitToningShadowSaturation: 7
- Tint: 0
- ToneCurve: 0, 0, 255, 255
- ToneCurveBlue: 0, 0, 255, 255
- ToneCurveGreen: 0, 0, 255, 255
- ToneCurveName: Linear
- ToneCurveName2012: Custom
- ToneCurvePV2012: 0, 0, 160, 179, 255, 255
- ToneCurvePV2012Blue: 0, 0, 255, 255
- ToneCurvePV2012Green: 0, 0, 255, 255
- ToneCurvePV2012Red: 0, 0, 255, 255
- ToneCurveRed: 0, 0, 255, 255
- Version: 9.0
- Vibrance: +20
- VignetteAmount: 0
- Whites2012: +14
- XMP-dc
- Creator: Alpatova
- Format: image/jpeg
- Rights: Alpatova
- XMP-xmp
- ModifyDate: 2017:09:25 18:18:57+03:00
- XMP-xmpMM
- Просмотров: 205
- Рейтинг: голосов еще нет
- Отзывов: 0