- Раздел: Животные
- Дата съёмки: неизвестно
- Дата загрузки фото: 31.12.2017 15:44
- Оригинальная фотография: 3000 x 2000 (1,1 Мб)
- Технические характеристики:
- Фотоаппарат: Panasonic DMC-FZ150
- Выдержка: 0,0
- Гиперфокальное расстояние: inf m
- Диафрагма: 4,5
- Светочувствительность: 100
- Фокусное расстояние: 72,0 mm (35 mm equivalent: 360,0 mm)
- Полный EXIF
- Adobe
- ColorTransform: YCbCr
- Composite
- Aperture: 4,5
- CircleOfConfusion: 0,005 mm
- FOV: 5,0 deg
- FocalLength35efl: 72,0 mm (35 mm equivalent: 360,0 mm)
- HyperfocalDistance: inf m
- Megapixels: 6,0
- ScaleFactor35efl: 5,6
- ShutterSpeed: 0,0
- ExifIFD
- ApertureValue: 4,0
- ColorSpace: sRGB
- Contrast: Low
- CreateDate: 2017:12:25 12:24:51
- CustomRendered: Custom
- DateTimeOriginal: 2017:12:25 12:24:51
- DigitalZoomRatio: 0
- ExifImageHeight: 2000
- ExifImageWidth: 3000
- ExposureCompensation: 0
- ExposureMode: Auto
- ExposureProgram: Aperture-priority AE
- ExposureTime: 0,0
- FNumber: 4,5
- Flash: Off, Did not fire
- FocalLength: 72,0 mm
- FocalLengthIn35mmFormat: 405 mm
- GainControl: None
- ISO: 100
- LightSource: Cloudy
- MaxApertureValue: 4,0
- MeteringMode: Center-weighted average
- Saturation: Normal
- SceneCaptureType: Standard
- SceneType: Directly photographed
- SensingMethod: One-chip color area
- Sharpness: Normal
- ShutterSpeedValue: 1/64
- WhiteBalance: Manual
- ICC-header
- ICC-meas
- ICC-view
- IFD0
- Make: Panasonic
- Model: DMC-FZ150
- ModifyDate: 2017:12:31 12:34:22
- Orientation: Horizontal (normal)
- IFD1
- IPTC
- DateCreated: 2017:12:25
- System
- XMP-aux
- DistortionCorrectionAlreadyApplied: True
- LateralChromaticAberrationCorrectionAlreadyApplied: True
- XMP-crs
- AlreadyApplied: True
- AutoLateralCA: 1
- AutoWhiteVersion: 134348800
- Blacks2012: 0
- BlueHue: 0
- BlueSaturation: 0
- Clarity2012: -10
- ColorNoiseReduction: 15
- ColorNoiseReductionDetail: 50
- ColorNoiseReductionSmoothness: 50
- ColorTemperature: 6400
- Contrast2012: +15
- ConvertToGrayscale: False
- CropAngle: 0
- CropBottom: 1
- CropConstrainToWarp: 1
- CropHeight: 3
- CropLeft: 0
- CropRight: 1
- CropTop: 0.111111
- CropUnit: Unknown (3)
- CropWidth: 2
- DefringeGreenAmount: 1
- DefringeGreenHueHi: 80
- DefringeGreenHueLo: 20
- DefringePurpleAmount: 1
- DefringePurpleHueHi: 70
- DefringePurpleHueLo: 30
- Dehaze: 0
- Exposure2012: 0.00
- GrainAmount: 0
- GreenHue: 0
- GreenSaturation: 0
- HasCrop: True
- HasSettings: True
- Highlights2012: 0
- HueAdjustmentAqua: 0
- HueAdjustmentBlue: 0
- HueAdjustmentGreen: 0
- HueAdjustmentMagenta: 0
- HueAdjustmentOrange: 0
- HueAdjustmentPurple: 0
- HueAdjustmentRed: 0
- HueAdjustmentYellow: 0
- LensManualDistortionAmount: 0
- LensProfileEnable: 0
- LensProfileSetup: LensDefaults
- LuminanceAdjustmentAqua: 0
- LuminanceAdjustmentBlue: 0
- LuminanceAdjustmentGreen: 0
- LuminanceAdjustmentMagenta: 0
- LuminanceAdjustmentOrange: 0
- LuminanceAdjustmentPurple: 0
- LuminanceAdjustmentRed: 0
- LuminanceAdjustmentYellow: 0
- LuminanceSmoothing: 0
- ParametricDarks: 0
- ParametricHighlightSplit: 75
- ParametricHighlights: 0
- ParametricLights: 0
- ParametricMidtoneSplit: 50
- ParametricShadowSplit: 25
- ParametricShadows: 0
- PerspectiveAspect: 0
- PerspectiveHorizontal: 0
- PerspectiveRotate: 0.0
- PerspectiveScale: 100
- PerspectiveUpright: 0
- PerspectiveVertical: 0
- PostCropVignetteAmount: 0
- ProcessVersion: 6.7
- RawFileName: P1000094.RW2
- RedHue: 0
- RedSaturation: 0
- Saturation: +7
- SaturationAdjustmentAqua: 0
- SaturationAdjustmentBlue: 0
- SaturationAdjustmentGreen: 0
- SaturationAdjustmentMagenta: 0
- SaturationAdjustmentOrange: 0
- SaturationAdjustmentPurple: 0
- SaturationAdjustmentRed: 0
- SaturationAdjustmentYellow: 0
- ShadowTint: 0
- Shadows2012: 0
- SharpenDetail: 0
- SharpenEdgeMasking: 0
- SharpenRadius: +0.5
- Sharpness: 0
- SplitToningBalance: 0
- SplitToningHighlightHue: 0
- SplitToningHighlightSaturation: 0
- SplitToningShadowHue: 0
- SplitToningShadowSaturation: 0
- Tint: +8
- ToneCurve: 0, 0, 32, 22, 64, 56, 128, 128, 192, 196, 255, 255
- ToneCurveBlue: 0, 0, 255, 255
- ToneCurveGreen: 0, 0, 255, 255
- ToneCurveName: Medium Contrast
- ToneCurveName2012: Linear
- ToneCurvePV2012: 0, 0, 255, 255
- ToneCurvePV2012Blue: 0, 0, 255, 255
- ToneCurvePV2012Green: 0, 0, 255, 255
- ToneCurvePV2012Red: 0, 0, 255, 255
- ToneCurveRed: 0, 0, 255, 255
- ToneMapStrength: 0
- Version: 9.2
- Vibrance: +7
- VignetteAmount: 0
- WhiteBalance: Custom
- Whites2012: 0
- XMP-dc
- XMP-xmp
- ModifyDate: 2017:12:31 12:34:22+03:00
- Rating: 0
- XMP-xmpMM