Красавчик
Зима,январь,мороз,птицы,снегирь.
- Раздел: Животные
- Дата съёмки: неизвестно
- Дата загрузки фото: 24.01.2018 20:48
- Оригинальная фотография: 2400 x 1965 (3,3 Мб)
- Технические характеристики:
- Фотоаппарат: Canon PowerShot SX50 HS
- Выдержка: 0,0
- Гиперфокальное расстояние: inf m
- Диафрагма: 6,3
- Светочувствительность: 100
- Фокусное расстояние: 112,0 mm (35 mm equivalent: 560,0 mm)
- Экспокоррекция: -1/3
- Полный EXIF
- Adobe
- ColorTransform: YCbCr
- Composite
- Aperture: 6,3
- CircleOfConfusion: 0,005 mm
- FOV: 3,0 deg
- Flash: Off, Did not fire
- FocalLength35efl: 112,0 mm (35 mm equivalent: 560,0 mm)
- HyperfocalDistance: inf m
- Megapixels: 4,7
- ScaleFactor35efl: 5,6
- ShutterSpeed: 0,0
- ExifIFD
- ApertureValue: 5,7
- ColorSpace: sRGB
- CreateDate: 2018:01:20 13:47:16
- CustomRendered: Normal
- DateTimeOriginal: 2018:01:20 13:47:16
- DigitalZoomRatio: 1
- ExifImageHeight: 1965
- ExifImageWidth: 2400
- ExposureCompensation: 0
- ExposureMode: Manual
- ExposureTime: 0,0
- FNumber: 6,3
- FocalLength: 112,0 mm
- ISO: 100
- LensInfo: 4.3-215mm f/?
- LensModel: 4.3-215.0 mm
- MaxApertureValue: 4,0
- MeteringMode: Multi-segment
- SceneCaptureType: Standard
- SensingMethod: One-chip color area
- SensitivityType: Standard Output Sensitivity and Recommended Exposure Index
- ShutterSpeedValue: 1/64
- WhiteBalance: Manual
- ICC-header
- ICC-meas
- ICC-view
- IFD0
- Artist: ALEKSANDR SMIRNOV
- Copyright: tondra@yandex.ru
- Make: Canon
- Model: Canon PowerShot SX50 HS
- ModifyDate: 2018:01:24 22:38:42
- Orientation: Horizontal (normal)
- IFD1
- IPTC
- By-line: ALEKSANDR SMIRNOV
- CopyrightNotice: tondra@yandex.ru
- DateCreated: 2018:01:20
- System
- XMP-aux
- ApproximateFocusDistance: 2,89
- Firmware: 1.00
- FlashCompensation: 0
- Lens: 4.3-215.0 mm
- XMP-crs
- AlreadyApplied: True
- AutoLateralCA: 1
- AutoWhiteVersion: 134348800
- Blacks2012: +50
- BlueHue: 0
- BlueSaturation: 0
- CameraProfile: Embedded
- Clarity2012: +32
- ColorNoiseReduction: 0
- Contrast2012: 0
- ConvertToGrayscale: False
- DefringeGreenAmount: 0
- DefringeGreenHueHi: 60
- DefringeGreenHueLo: 40
- DefringePurpleAmount: 2
- DefringePurpleHueHi: 89
- DefringePurpleHueLo: 6
- Exposure2012: 0.00
- GrainAmount: 0
- GreenHue: 0
- GreenSaturation: 0
- HasCrop: False
- HasSettings: True
- Highlights2012: -2
- HueAdjustmentAqua: 0
- HueAdjustmentBlue: 0
- HueAdjustmentGreen: 0
- HueAdjustmentMagenta: 0
- HueAdjustmentOrange: -18
- HueAdjustmentPurple: 0
- HueAdjustmentRed: -5
- HueAdjustmentYellow: 0
- IncrementalTemperature: +3
- IncrementalTint: -10
- LensManualDistortionAmount: 0
- LensProfileEnable: 0
- LensProfileSetup: LensDefaults
- LuminanceAdjustmentAqua: 0
- LuminanceAdjustmentBlue: 0
- LuminanceAdjustmentGreen: 0
- LuminanceAdjustmentMagenta: 0
- LuminanceAdjustmentOrange: 0
- LuminanceAdjustmentPurple: 0
- LuminanceAdjustmentRed: 0
- LuminanceAdjustmentYellow: 0
- LuminanceSmoothing: 0
- ParametricDarks: 0
- ParametricHighlightSplit: 75
- ParametricHighlights: 0
- ParametricLights: 0
- ParametricMidtoneSplit: 50
- ParametricShadowSplit: 25
- ParametricShadows: 0
- PerspectiveAspect: 0
- PerspectiveHorizontal: 0
- PerspectiveRotate: 0.0
- PerspectiveScale: 100
- PerspectiveUpright: 0
- PerspectiveVertical: 0
- PostCropVignetteAmount: 0
- ProcessVersion: 6.7
- RawFileName: 036.JPG
- RedHue: 0
- RedSaturation: 0
- Saturation: 0
- SaturationAdjustmentAqua: -18
- SaturationAdjustmentBlue: -20
- SaturationAdjustmentGreen: 0
- SaturationAdjustmentMagenta: 0
- SaturationAdjustmentOrange: +22
- SaturationAdjustmentPurple: 0
- SaturationAdjustmentRed: +20
- SaturationAdjustmentYellow: -15
- ShadowTint: 0
- Shadows2012: +54
- SharpenDetail: 25
- SharpenEdgeMasking: 0
- SharpenRadius: +1.0
- Sharpness: 0
- SplitToningBalance: 0
- SplitToningHighlightHue: 0
- SplitToningHighlightSaturation: 0
- SplitToningShadowHue: 0
- SplitToningShadowSaturation: 0
- ToneCurveName2012: Linear
- ToneCurvePV2012: 0, 0, 255, 255
- ToneCurvePV2012Blue: 0, 0, 255, 255
- ToneCurvePV2012Green: 0, 0, 255, 255
- ToneCurvePV2012Red: 0, 0, 255, 255
- Version: 8.2
- Vibrance: +22
- VignetteAmount: 0
- WhiteBalance: Custom
- Whites2012: -31
- XMP-dc
- Creator: ALEKSANDR SMIRNOV
- Format: image/jpeg
- Rights: tondra@yandex.ru
- XMP-exif
- ApertureValue: 6,3
- DateTimeDigitized: 2018:01:20 13:47:16+05:00
- DateTimeOriginal: 2018:01:20 13:47:16+05:00
- ExposureCompensation: -1/3
- ExposureTime: 1/100
- FlashFired: False
- FlashFunction: False
- FlashMode: Off
- FlashRedEyeMode: False
- FlashReturn: No return detection
- FocalLength: 112,1 mm
- MaxApertureValue: 5,6
- ShutterSpeedValue: 1/100
- XMP-microsoft
- DateAcquired: 2018:01:20 14:28:06.096
- XMP-rdf
- XMP-tiff
- XMP-x
- XMP-xmp
- CreateDate: 2018:01:24 22:38:42+05:00
- ModifyDate: 2018:01:24 22:38:42+05:00
- XMP-xmpMM
Получить код для блога
Вставка фотографии в текущем разрешении |
Вставка миниатюры |
HTML (для вставки в блог):
BBCode (для вставки в форум):
Ссылка на фото:
Ссылка на миниатюру:
- Послать ссылку другу
Комментарии к фотографии |