- Раздел: Другое, разное
- Дата съёмки: 06.08.2007 08:01
- Дата загрузки фото: 21.08.2007 21:40
- Оригинальная фотография: 2269 x 1513 (499 Кб)
- Технические характеристики:
- Фотоаппарат: Canon EOS 30D
- Выдержка: 1/800
- Гиперфокальное расстояние: 1851,90 m
- Диафрагма: 4,0
- Светочувствительность: 200
- Фокусное расстояние: 300,0mm (35mm эквивалент: 741,9mm)
- Полный EXIF
- ColorTransform: YCbCr
- Composite
- Aperture: 4,0
- CircleOfConfusion: 0,012 mm
- EV: 12,6
- FocalLength35efl: 300,0mm (35mm equivalent: 741,9mm)
- HyperfocalDistance: 1851,90 m
- ScaleFactor35efl: 2,5
- ShutterSpeed: 1/800
- ExifIFD
- ApertureValue: 4,0
- CreateDate: 2007:08:06 08:01:27
- CustomRendered: Normal
- DateTimeOriginal: 2007:08:06 08:01:27
- ExposureCompensation: 0
- ExposureMode: Auto
- ExposureProgram: Aperture-priority AE
- ExposureTime: 1/800
- FNumber: 4,0
- Flash: Off
- FocalLength: 300,0mm
- ISO: 200
- MaxApertureValue: 4,0
- MeteringMode: Multi-segment
- SceneCaptureType: Standard
- ShutterSpeedValue: 1/800
- WhiteBalance: Auto
- ICC-header
- ICC-meas
- ICC-view
- IFD0
- Artist: Leonid Liss
- Make: Canon
- Model: Canon EOS 30D
- ModifyDate: 2007:08:21 21:38:11
- TimeZoneOffset: 4 4
- IPTC
- By-line: Leonid Liss
- XMP-aux
- Firmware: 1.0.5
- FlashCompensation: 0
- ImageNumber: 192
- Lens: EF300mm f/4L IS USM
- LensInfo: 300
- OwnerName: Leonid Liss
- SerialNumber: 1530901649
- XMP-crs
- AlreadyApplied: True
- BlueHue: +5
- BlueSaturation: -15
- Brightness: +100
- CameraProfile: ACR 3.4
- ChromaticAberrationB: 0
- ChromaticAberrationR: 0
- Clarity: 0
- ColorNoiseReduction: 25
- Contrast: +25
- ConvertToGrayscale: False
- CropAngle: -5.809332
- CropBottom: 0.757919
- CropHeight: 1513
- CropLeft: 0.264047
- CropRight: 0.951804
- CropTop: 0.21214
- CropUnit: 0
- CropWidth: 2269
- Defringe: 0
- Exposure: -1.00
- FillLight: 0
- GreenHue: -10
- GreenSaturation: -10
- HasCrop: True
- HasSettings: True
- HighlightRecovery: 0
- HueAdjustmentAqua: 0
- HueAdjustmentBlue: 0
- HueAdjustmentGreen: 0
- HueAdjustmentMagenta: -2
- HueAdjustmentOrange: -18
- HueAdjustmentPurple: -7
- HueAdjustmentRed: 0
- HueAdjustmentYellow: 0
- LuminanceAdjustmentAqua: 0
- LuminanceAdjustmentBlue: 0
- LuminanceAdjustmentGreen: 0
- LuminanceAdjustmentMagenta: 0
- LuminanceAdjustmentOrange: 0
- LuminanceAdjustmentPurple: 0
- LuminanceAdjustmentRed: 0
- LuminanceAdjustmentYellow: 0
- LuminanceSmoothing: 0
- ParametricDarks: 0
- ParametricHighlightSplit: 75
- ParametricHighlights: 0
- ParametricLights: 0
- ParametricMidtoneSplit: 50
- ParametricShadowSplit: 25
- ParametricShadows: 0
- RedHue: 0
- RedSaturation: +20
- Saturation: 0
- SaturationAdjustmentAqua: -35
- SaturationAdjustmentBlue: 0
- SaturationAdjustmentGreen: 0
- SaturationAdjustmentMagenta: +10
- SaturationAdjustmentOrange: -5
- SaturationAdjustmentPurple: 0
- SaturationAdjustmentRed: 0
- SaturationAdjustmentYellow: -10
- ShadowTint: 0
- Shadows: 9
- SharpenDetail: 9
- SharpenEdgeMasking: 0
- SharpenRadius: +1.0
- Sharpness: 12
- SplitToningBalance: 0
- SplitToningHighlightHue: 0
- SplitToningHighlightSaturation: 0
- SplitToningShadowHue: 0
- SplitToningShadowSaturation: 0
- Temperature: 4600
- Tint: -7
- ToneCurve: 0, 0, 32, 22, 64, 56, 128, 128, 192, 196, 255, 255
- ToneCurveName: Medium Contrast
- Version: 1.0
- Vibrance: +10
- VignetteAmount: 0
- WhiteBalance: As Shot
- XMP-dc
- XMP-exif
- DateTimeDigitized: 2007:08:06 08:01:27+04:00
- DateTimeOriginal: 2007:08:06 08:01:27+04:00
- FlashFired: False
- FlashFunction: False
- FlashMode: Off
- FlashRedEyeMode: False
- FlashReturn: No return detection
- XMP-tiff
- ImageHeight: 1513
- ImageWidth: 2269
- XMP-xmp
- ModifyDate: 2007:08:21 21:38:11+04:00