- : ,
- :
- : 17.02.2018 19:16
- : 3514 x 2343 (1,1 )
- : Canon EOS 40D
- : 0,0
- : inf m
- : 5,6
- : 400
- : 32,0 mm (35 mm equivalent: 32,0 mm)
- EXIF
- Adobe
- ColorTransform: YCbCr
- Composite
- Aperture: 5,6
- CircleOfConfusion: 0,019 mm
- FOV: 58,0 deg
- Flash: Off, Did not fire
- FocalLength35efl: 32,0 mm (35 mm equivalent: 32,0 mm)
- HyperfocalDistance: inf m
- LensID: Canon EF 28-70mm f/2.8L or Sigma or Tamron Lens
- Megapixels: 8,2
- ScaleFactor35efl: 1,6
- ShutterSpeed: 0,0
- ExifIFD
- ApertureValue: 4,0
- CreateDate: 2016:10:07 16:45:57
- CustomRendered: Normal
- DateTimeOriginal: 2016:10:07 16:45:57
- ExifImageHeight: 2343
- ExifImageWidth: 3514
- ExposureCompensation: 0
- ExposureMode: Manual
- ExposureProgram: Manual
- ExposureTime: 0,0
- FNumber: 5,6
- FocalLength: 32,0 mm
- ISO: 400
- MaxApertureValue: 2,8
- MeteringMode: Center-weighted average
- SceneCaptureType: Standard
- ShutterSpeedValue: 1/64
- WhiteBalance: Manual
- ICC-header
- ICC-meas
- ICC-view
- IFD0
- Make: Canon
- Model: Canon EOS 40D
- ModifyDate: 2018:01:21 11:44:07
- Software: Picasa
- IFD1
- IPTC
- System
- XMP-aux
- Firmware: 1.0.8
- FlashCompensation: 0
- ImageNumber: 0
- Lens: 17-50mm
- LensID: 161
- LensInfo: 17-50mm f/?
- SerialNumber: 620421187
- XMP-crs
- AlreadyApplied: True
- BlueHue: 0
- BlueSaturation: 0
- Brightness: +50
- ChromaticAberrationB: 0
- ChromaticAberrationR: 0
- Clarity: 0
- ColorNoiseReduction: 25
- ColorNoiseReductionDetail: 50
- ColorTemperature: 5000
- Contrast: +25
- ConvertToGrayscale: False
- CropAngle: 0.801929
- CropBottom: 0.932154
- CropHeight: 3
- CropLeft: 0.096197
- CropRight: 0.991566
- CropTop: 0.009375
- CropUnit: Unknown (3)
- CropWidth: 2
- Defringe: 0
- Exposure: +0.35
- FillLight: 0
- GrainAmount: 0
- GreenHue: 0
- GreenSaturation: 0
- HasCrop: True
- HasSettings: True
- HighlightRecovery: 0
- HueAdjustmentAqua: 0
- HueAdjustmentBlue: 0
- HueAdjustmentGreen: 0
- HueAdjustmentMagenta: 0
- HueAdjustmentOrange: 0
- HueAdjustmentPurple: 0
- HueAdjustmentRed: 0
- HueAdjustmentYellow: 0
- LuminanceAdjustmentAqua: 0
- LuminanceAdjustmentBlue: 0
- LuminanceAdjustmentGreen: 0
- LuminanceAdjustmentMagenta: 0
- LuminanceAdjustmentOrange: 0
- LuminanceAdjustmentPurple: 0
- LuminanceAdjustmentRed: 0
- LuminanceAdjustmentYellow: 0
- LuminanceSmoothing: 0
- ParametricDarks: 0
- ParametricHighlightSplit: 75
- ParametricHighlights: 0
- ParametricLights: 0
- ParametricMidtoneSplit: 50
- ParametricShadowSplit: 25
- ParametricShadows: 0
- PostCropVignetteAmount: 0
- ProcessVersion: 5.7
- RawFileName: IMG_6373.CR2
- RedHue: 0
- RedSaturation: 0
- Saturation: +5
- SaturationAdjustmentAqua: 0
- SaturationAdjustmentBlue: 0
- SaturationAdjustmentGreen: 0
- SaturationAdjustmentMagenta: 0
- SaturationAdjustmentOrange: 0
- SaturationAdjustmentPurple: 0
- SaturationAdjustmentRed: 0
- SaturationAdjustmentYellow: 0
- ShadowTint: 0
- Shadows: 5
- SharpenDetail: 25
- SharpenEdgeMasking: 0
- SharpenRadius: +1.0
- Sharpness: 25
- SplitToningBalance: 0
- SplitToningHighlightHue: 0
- SplitToningHighlightSaturation: 0
- SplitToningShadowHue: 0
- SplitToningShadowSaturation: 0
- Tint: +2
- ToneCurve: 0, 0, 32, 16, 64, 50, 128, 128, 192, 202, 255, 255
- ToneCurveName: Strong Contrast
- Version: 6.0
- Vibrance: +15
- VignetteAmount: 0
- WhiteBalance: As Shot
- XMP-exif
- ApertureValue: 5,6
- DateTimeOriginal: 2016:10:07 16:45:57.95+03:00
- ExposureTime: 1/80
- FlashFired: False
- FlashFunction: False
- FlashMode: Off
- FlashRedEyeMode: False
- FlashReturn: No return detection
- ShutterSpeedValue: 1/80
- XMP-mwg-rs
- RegionAppliedToDimensionsH: 2343
- RegionAppliedToDimensionsUnit: pixel
- RegionAppliedToDimensionsW: 3514
- RegionAreaH: 0.0840803, 0.0742638, 0.0593256, 0.0524968, 0.0661545, 0.0665813, 0.0516432, 0.0802391, 0.0665813, 0.0580452, 0.0507896, 0.0533504, 0.0618864, 0.0571916, 0.047802, 0.0610329, 0.0695689, 0.0627401, 0.0657277, 0.0516432, 0.0469484, 0.047802, 0.0554844, 0.0550576, 0.0516432, 0.0469483, 0.0682885, 0.056338, 0.0554844, 0.0524968
- RegionAreaUnit: normalized, normalized, normalized, normalized, normalized, normalized, normalized, normalized, normalized, normalized, normalized, normalized, normalized, normalized, normalized, normalized, normalized, normalized, normalized, normalized, normalized, normalized, normalized, normalized, normalized, normalized, normalized, normalized, normalized, normalized
- RegionAreaW: 0.046955, 0.0406944, 0.0324417, 0.0298805, 0.0369949, 0.0369949, 0.0287422, 0.044963, 0.0367103, 0.0318725, 0.028173, 0.0293113, 0.0344337, 0.0327262, 0.0267501, 0.03358, 0.0389869, 0.0344337, 0.0361412, 0.0287422, 0.026181, 0.026181, 0.0307342, 0.0307342, 0.0287422, 0.0264655, 0.0381331, 0.0307342, 0.0313033, 0.0290267
- RegionAreaX: 0.724104, 0.651537, 0.184405, 0.336796, 0.910928, 0.821571, 0.195646, 0.559476, 0.266505, 0.669038, 0.377775, 0.660359, 0.427291, 0.514371, 0.324132, 0.49687, 0.721258, 0.631047, 0.371229, 0.285003, 0.507399, 0.423734, 0.43967, 0.19152, 0.617388, 0.561895, 0.779169, 0.375925, 0.396983, 0.566875
- RegionAreaY: 0.648528, 0.665813, 0.610542, 0.470551, 0.399701, 0.503628, 0.493598, 0.631669, 0.627401, 0.503201, 0.409518, 0.423175, 0.627187, 0.516005, 0.413572, 0.484208, 0.480794, 0.457746, 0.589415, 0.423175, 0.425523, 0.413572, 0.498079, 0.461588, 0.418481, 0.42723, 0.522407, 0.484422, 0.512164, 0.465002
- RegionType: Face, Face, Face, Face, Face, Face, Face, Face, Face, Face, Face, Face, Face, Face, Face, Face, Face, Face, Face, Face, Face, Face, Face, Face, Face, Face, Face, Face, Face, Face
- XMP-tiff
- ImageHeight: 2343
- ImageWidth: 3514
- XMP-x
- XMP-xmp
- CreateDate: 2016:10:07 16:45:57.95+03:00
- ModifyDate: 2018:01:21 11:44:07+03:00
- Rating: 0