- Раздел: Другое, разное
- Дата съёмки: неизвестно
- Дата загрузки фото: 11.10.2018 15:37
- Оригинальная фотография: 2048 x 1373 (1,5 Мб)
- Технические характеристики:
- Фотоаппарат: Nikon D7100
- Выдержка: 0,0
- Гиперфокальное расстояние: inf m
- Диафрагма: 7,1
- Светочувствительность: 100
- Фокусное расстояние: 30,0 mm (35 mm equivalent: 30,0 mm)
- Полный EXIF
- Composite
- Aperture: 7,1
- CircleOfConfusion: 0,020 mm
- FOV: 61,0 deg
- FocalLength35efl: 30,0 mm (35 mm equivalent: 30,0 mm)
- HyperfocalDistance: inf m
- LensID: AF-S DX VR Zoom-Nikkor 16-85mm f/3.5-5.6G ED
- Megapixels: 2,8
- ScaleFactor35efl: 1,5
- ShutterSpeed: 0,0
- ExifIFD
- ApertureValue: 5,7
- CFAPattern: [Red,Green][Green,Blue]
- ColorSpace: sRGB
- Contrast: Normal
- CreateDate: 2018:10:11 12:11:48
- CustomRendered: Normal
- DateTimeOriginal: 2018:10:11 12:11:48
- DigitalZoomRatio: 1
- ExifImageHeight: 1373
- ExifImageWidth: 2048
- ExposureCompensation: 0
- ExposureMode: Auto
- ExposureProgram: Aperture-priority AE
- ExposureTime: 0,0
- FNumber: 7,1
- Flash: Off, Did not fire
- FocalLength: 30,0 mm
- FocalLengthIn35mmFormat: 45 mm
- GainControl: None
- ISO: 100
- LensInfo: 16-85mm f/3.5-5.6
- LightSource: Unknown
- MaxApertureValue: 4,0
- MeteringMode: Spot
- Saturation: Normal
- SceneCaptureType: Standard
- SceneType: Directly photographed
- SensingMethod: One-chip color area
- SensitivityType: Recommended Exposure Index
- SerialNumber: 4388785
- Sharpness: Hard
- ShutterSpeedValue: 1/8
- SubjectDistanceRange: Unknown
- WhiteBalance: Auto
- IFD0
- Copyright: Belov VA
- FillOrder: Normal
- Make: NIKON CORPORATION
- Model: NIKON D7100
- ModifyDate: 2018:10:11 14:35:07
- Orientation: Horizontal (normal)
- PageNumber: 0 1
- PrimaryChromaticities: 0, 6399999858 0, 3300000132 0, 300000012 0, 600000024 0, 150000006 0, 05999999867
- Software: DxO OpticsPro 11.3
- WhitePoint: 0,3127000035 0,3289999963
- IFD1
- IPTC
- CopyrightNotice: Belov VA
- DateCreated: 2018:10:11
- System
- XMP-aux
- ApproximateFocusDistance: 9,44
- ImageNumber: 5386
- LensID: 153
- XMP-crs
- AlreadyApplied: True
- BlueHue: 0
- BlueSaturation: 0
- ColorNoiseReduction: 25
- ColorNoiseReductionDetail: 50
- ColorTemperature: 3850
- ConvertToGrayscale: False
- CropAngle: 0
- CropBottom: 0.937137
- CropConstrainToWarp: 1
- CropLeft: 0.041131
- CropRight: 0.904881
- CropTop: 0.073387
- GrainAmount: 0
- GreenHue: 0
- GreenSaturation: 0
- HasCrop: True
- HasSettings: True
- HueAdjustmentAqua: 0
- HueAdjustmentBlue: 0
- HueAdjustmentGreen: 0
- HueAdjustmentMagenta: 0
- HueAdjustmentOrange: 0
- HueAdjustmentPurple: 0
- HueAdjustmentRed: 0
- HueAdjustmentYellow: 0
- LensManualDistortionAmount: 0
- LensProfileChromaticAberrationScale: 100
- LensProfileDistortionScale: 100
- LensProfileEnable: 1
- LensProfileFilename: NIKON D90 (Nikon AF-S DX NIKKOR 16-85mm f3.5-5.6G ED VR) - RAW.lcp
- LensProfileSetup: LensDefaults
- LensProfileVignettingScale: 100
- LuminanceAdjustmentAqua: 0
- LuminanceAdjustmentBlue: 0
- LuminanceAdjustmentGreen: 0
- LuminanceAdjustmentMagenta: 0
- LuminanceAdjustmentOrange: -21
- LuminanceAdjustmentPurple: 0
- LuminanceAdjustmentRed: 0
- LuminanceAdjustmentYellow: +14
- LuminanceSmoothing: 0
- ParametricDarks: 0
- ParametricHighlightSplit: 75
- ParametricHighlights: 0
- ParametricLights: 0
- ParametricMidtoneSplit: 50
- ParametricShadowSplit: 25
- ParametricShadows: 0
- PerspectiveHorizontal: 0
- PerspectiveRotate: 0.0
- PerspectiveScale: 100
- PerspectiveVertical: 0
- PostCropVignetteAmount: 0
- ProcessVersion: 6.7
- RedHue: 0
- RedSaturation: 0
- SaturationAdjustmentAqua: 0
- SaturationAdjustmentBlue: 0
- SaturationAdjustmentGreen: 0
- SaturationAdjustmentMagenta: 0
- SaturationAdjustmentOrange: +77
- SaturationAdjustmentPurple: 0
- SaturationAdjustmentRed: +5
- SaturationAdjustmentYellow: +32
- ShadowTint: 0
- SharpenDetail: 25
- SharpenEdgeMasking: 0
- SharpenRadius: +1.0
- SplitToningBalance: 0
- SplitToningHighlightHue: 0
- SplitToningHighlightSaturation: 0
- SplitToningShadowHue: 0
- SplitToningShadowSaturation: 0
- Tint: +12
- ToneCurve: 0, 0, 255, 255
- ToneCurveName: Linear
- Version: 9.5
- Vibrance: 0
- VignetteAmount: 0
- XMP-dc
- Format: image/tiff
- Rights: Belov VA
- XMP-exif
- XMP-x
- XMP-xmp
- CreateDate: 2018:10:11 12:11:48.40
- ModifyDate: 2018:10:11 14:35:07+03:00
- XMP-xmpMM
- Просмотров: 94
- Рейтинг: голосов еще нет
- Отзывов: отключены