Пары, пары... |
Пары, пары...
- Раздел: Тесты фототехники
- Дата съёмки: неизвестно
- Дата загрузки фото: 17.10.2018 21:46
- Оригинальная фотография: 4160 x 6240 (9,0 Мб)
- Технические характеристики:
- Фотоаппарат: FujiFilm X-T3
- Выдержка: 0,0
- Гиперфокальное расстояние: inf m
- Диафрагма: 11,0
- Светочувствительность: 160
- Фокусное расстояние: 26,0 mm (35 mm equivalent: 26,0 mm)
- Экспокоррекция: +1
- Полный EXIF
- Adobe
- ColorTransform: YCbCr
- Composite
- Aperture: 11,0
- CircleOfConfusion: 0,020 mm
- FOV: 69,0 deg
- FocalLength35efl: 26,0 mm (35 mm equivalent: 26,0 mm)
- HyperfocalDistance: inf m
- Megapixels: 26,0
- ScaleFactor35efl: 1,5
- ShutterSpeed: 0,0
- ExifIFD
- ApertureValue: 8,0
- BrightnessValue: 11,25
- ColorSpace: sRGB
- CreateDate: 2018:10:16 12:46:02
- CustomRendered: Custom
- DateTimeOriginal: 2018:10:16 12:46:02
- ExposureCompensation: +1
- ExposureMode: Auto bracket
- ExposureProgram: Aperture-priority AE
- ExposureTime: 0,0
- FNumber: 11,0
- Flash: No Flash
- FocalLength: 26,0 mm
- FocalLengthIn35mmFormat: 40 mm
- ISO: 160
- LensInfo: 16-55mm f/2.8
- LensMake: FUJIFILM
- LensModel: XF16-55mmF2.8 R LM WR
- LensSerialNumber: 85B31459
- LightSource: Unknown
- MaxApertureValue: 2,8
- MeteringMode: Multi-segment
- SceneCaptureType: Standard
- SceneType: Directly photographed
- SensingMethod: One-chip color area
- SensitivityType: Standard Output Sensitivity
- SerialNumber: 8CQ00136
- ShutterSpeedValue: 1/128
- SubjectDistanceRange: Unknown
- ICC-header
- ICC-meas
- ICC-view
- IFD0
- Make: FUJIFILM
- Model: X-T3
- ModifyDate: 2018:10:17 00:18:53
- IFD1
- IPTC
- DateCreated: 2018:10:16
- System
- XMP-aux
- Lens: XF16-55mmF2.8 R LM WR
- XMP-crs
- AlreadyApplied: True
- AutoLateralCA: 0
- Blacks2012: -14
- BlueHue: 0
- BlueSaturation: 0
- CameraProfile: Embedded
- Clarity2012: 0
- ColorNoiseReduction: 0
- Contrast2012: 0
- ConvertToGrayscale: False
- DefringeGreenAmount: 0
- DefringeGreenHueHi: 60
- DefringeGreenHueLo: 40
- DefringePurpleAmount: 0
- DefringePurpleHueHi: 70
- DefringePurpleHueLo: 30
- Dehaze: +39
- Exposure2012: -0.20
- GrainAmount: 0
- GreenHue: 0
- GreenSaturation: 0
- HasCrop: False
- HasSettings: True
- Highlights2012: -8
- HueAdjustmentAqua: 0
- HueAdjustmentBlue: 0
- HueAdjustmentGreen: 0
- HueAdjustmentMagenta: 0
- HueAdjustmentOrange: 0
- HueAdjustmentPurple: 0
- HueAdjustmentRed: 0
- HueAdjustmentYellow: 0
- IncrementalTemperature: 0
- IncrementalTint: 0
- LensManualDistortionAmount: 0
- LensProfileEnable: 0
- LensProfileSetup: LensDefaults
- LookName:
- LuminanceAdjustmentAqua: 0
- LuminanceAdjustmentBlue: 0
- LuminanceAdjustmentGreen: 0
- LuminanceAdjustmentMagenta: 0
- LuminanceAdjustmentOrange: 0
- LuminanceAdjustmentPurple: 0
- LuminanceAdjustmentRed: 0
- LuminanceAdjustmentYellow: 0
- LuminanceSmoothing: 0
- OverrideLookVignette: False
- ParametricDarks: 0
- ParametricHighlightSplit: 75
- ParametricHighlights: 0
- ParametricLights: 0
- ParametricMidtoneSplit: 50
- ParametricShadowSplit: 25
- ParametricShadows: 0
- PerspectiveAspect: 0
- PerspectiveHorizontal: 0
- PerspectiveRotate: 0.0
- PerspectiveScale: 100
- PerspectiveUpright: 0
- PerspectiveVertical: 0
- PerspectiveX: 0.00
- PerspectiveY: 0.00
- PostCropVignetteAmount: 0
- ProcessVersion: 10.0
- RawFileName: _DSF1320.tif
- RedHue: 0
- RedSaturation: 0
- Saturation: 0
- SaturationAdjustmentAqua: 0
- SaturationAdjustmentBlue: 0
- SaturationAdjustmentGreen: 0
- SaturationAdjustmentMagenta: 0
- SaturationAdjustmentOrange: 0
- SaturationAdjustmentPurple: 0
- SaturationAdjustmentRed: 0
- SaturationAdjustmentYellow: 0
- ShadowTint: 0
- Shadows2012: -10
- SharpenDetail: 25
- SharpenEdgeMasking: 0
- SharpenRadius: +1.0
- Sharpness: 0
- SplitToningBalance: 0
- SplitToningHighlightHue: 0
- SplitToningHighlightSaturation: 0
- SplitToningShadowHue: 0
- SplitToningShadowSaturation: 0
- ToneCurve: 0, 0, 255, 255
- ToneCurveBlue: 0, 0, 255, 255
- ToneCurveGreen: 0, 0, 255, 255
- ToneCurveName: Linear
- ToneCurveName2012: Linear
- ToneCurvePV2012: 0, 0, 255, 255
- ToneCurvePV2012Blue: 0, 0, 255, 255
- ToneCurvePV2012Green: 0, 0, 255, 255
- ToneCurvePV2012Red: 0, 0, 255, 255
- ToneCurveRed: 0, 0, 255, 255
- ToneMapStrength: 0
- Version: 10.4
- Vibrance: 0
- VignetteAmount: 0
- WhiteBalance: As Shot
- Whites2012: 0
- XMP-dc
- XMP-xmp
- ModifyDate: 2018:10:17 00:18:53+03:00
- XMP-xmpMM
- Просмотров: 140
- Рейтинг: голосов еще нет
- Отзывов: отключены
Получить код для блога
Вставка фотографии в текущем разрешении |
Вставка миниатюры |
HTML (для вставки в блог):
BBCode (для вставки в форум):
Ссылка на фото:
Ссылка на миниатюру:
- Послать ссылку другу
Комментарии к фотографии |