- Раздел: Путешествия
- Дата съёмки: неизвестно
- Дата загрузки фото: 13.02.2019 00:59
- Оригинальная фотография: 6000 x 4000 (17,8 Мб)
- Технические характеристики:
- Фотоаппарат: Nikon D5500
- Выдержка: 3,0
- Гиперфокальное расстояние: inf m
- Диафрагма: 5,6
- Светочувствительность: 400
- Фокусное расстояние: 11,0 mm (35 mm equivalent: 11,0 mm)
- Полный EXIF
- Adobe
- ColorTransform: YCbCr
- Composite
- Aperture: 5,6
- CircleOfConfusion: 0,021 mm
- FOV: 117,0 deg
- FocalLength35efl: 11,0 mm (35 mm equivalent: 11,0 mm)
- HyperfocalDistance: inf m
- LensID: Tokina AT-X 116 PRO DX II (AF 11-16mm f/2.8)
- LightValue: 1,1
- Megapixels: 24,0
- ScaleFactor35efl: 1,5
- ShutterSpeed: 3,0
- ExifIFD
- ApertureValue: 4,0
- CFAPattern: [Red,Green][Green,Blue]
- Contrast: Normal
- CreateDate: 2019:02:09 20:50:18
- CustomRendered: Normal
- DateTimeOriginal: 2019:02:09 20:50:18
- DigitalZoomRatio: 1
- ExposureCompensation: 0
- ExposureMode: Auto
- ExposureProgram: Aperture-priority AE
- ExposureTime: 3,0
- FNumber: 5,6
- Flash: Off, Did not fire
- FocalLength: 11,0 mm
- FocalLengthIn35mmFormat: 16 mm
- GainControl: Low gain up
- ISO: 400
- LensInfo: 11-16mm f/2.8
- LensModel: 11.0-16.0 mm f/2.8
- LightSource: Unknown
- MaxApertureValue: 2,8
- MeteringMode: Center-weighted average
- Saturation: Normal
- SceneCaptureType: Standard
- SceneType: Directly photographed
- SensingMethod: One-chip color area
- SensitivityType: Recommended Exposure Index
- SerialNumber: 4310214
- Sharpness: Normal
- ShutterSpeedValue: 2,0
- SubjectDistanceRange: Unknown
- WhiteBalance: Auto
- ICC-header
- IFD0
- Make: NIKON CORPORATION
- Model: NIKON D5500
- ModifyDate: 2019:02:12 18:46:43
- IFD1
- IPTC
- DateCreated: 2019:02:09
- System
- XMP-aux
- ApproximateFocusDistance: 4294967295
- ImageNumber: 17438
- Lens: 11.0-16.0 mm f/2.8
- LensID: 122
- XMP-crs
- AlreadyApplied: True
- AutoLateralCA: 0
- Blacks2012: -23
- BlueHue: 0
- BlueSaturation: 0
- Clarity2012: +33
- ColorNoiseReduction: 25
- ColorNoiseReductionDetail: 50
- ColorTemperature: 3650
- Contrast2012: -58
- ConvertToGrayscale: False
- CropAngle: 0
- CropBottom: 1
- CropConstrainToWarp: 1
- CropLeft: 0
- CropRight: 1
- CropTop: 0
- DefringeGreenAmount: 0
- DefringeGreenHueHi: 60
- DefringeGreenHueLo: 40
- DefringePurpleAmount: 0
- DefringePurpleHueHi: 70
- DefringePurpleHueLo: 30
- Exposure2012: -1.65
- GrainAmount: 0
- GreenHue: 0
- GreenSaturation: 0
- HasCrop: True
- HasSettings: True
- Highlights2012: 0
- HueAdjustmentAqua: 0
- HueAdjustmentBlue: 0
- HueAdjustmentGreen: 0
- HueAdjustmentMagenta: 0
- HueAdjustmentOrange: 0
- HueAdjustmentPurple: 0
- HueAdjustmentRed: 0
- HueAdjustmentYellow: 0
- LensManualDistortionAmount: 0
- LensProfileEnable: 0
- LensProfileSetup: LensDefaults
- LuminanceAdjustmentAqua: 0
- LuminanceAdjustmentBlue: 0
- LuminanceAdjustmentGreen: 0
- LuminanceAdjustmentMagenta: 0
- LuminanceAdjustmentOrange: 0
- LuminanceAdjustmentPurple: 0
- LuminanceAdjustmentRed: 0
- LuminanceAdjustmentYellow: 0
- LuminanceSmoothing: 0
- ParametricDarks: 0
- ParametricHighlightSplit: 75
- ParametricHighlights: 0
- ParametricLights: 0
- ParametricMidtoneSplit: 50
- ParametricShadowSplit: 25
- ParametricShadows: 0
- PerspectiveAspect: 0
- PerspectiveHorizontal: 0
- PerspectiveRotate: 0.0
- PerspectiveScale: 100
- PerspectiveUpright: 0
- PerspectiveVertical: 0
- PostCropVignetteAmount: 0
- ProcessVersion: 6.7
- RawFileName: DUBAI 01-02.2019_6954.dng
- RedHue: 0
- RedSaturation: 0
- Saturation: +30
- SaturationAdjustmentAqua: 0
- SaturationAdjustmentBlue: 0
- SaturationAdjustmentGreen: 0
- SaturationAdjustmentMagenta: 0
- SaturationAdjustmentOrange: 0
- SaturationAdjustmentPurple: 0
- SaturationAdjustmentRed: 0
- SaturationAdjustmentYellow: 0
- ShadowTint: 0
- Shadows2012: +61
- SharpenDetail: 35
- SharpenEdgeMasking: 2
- SharpenRadius: +2.0
- Sharpness: 107
- SplitToningBalance: 0
- SplitToningHighlightHue: 0
- SplitToningHighlightSaturation: 0
- SplitToningShadowHue: 0
- SplitToningShadowSaturation: 0
- Tint: 0
- ToneCurveName2012: Linear
- ToneCurvePV2012: 0, 0, 255, 255
- ToneCurvePV2012Blue: 0, 0, 255, 255
- ToneCurvePV2012Green: 0, 0, 255, 255
- ToneCurvePV2012Red: 0, 0, 255, 255
- Version: 8.1
- Vibrance: +23
- VignetteAmount: 0
- Whites2012: +48
- XMP-dc
- XMP-xmp
- CreateDate: 2019:02:09 20:50:18.23
- ModifyDate: 2019:02:12 18:46:43+03:00
- XMP-xmpMM
- Просмотров: 96
- Рейтинг: голосов еще нет
- Отзывов: 0