- Раздел: Город
- Дата съёмки: неизвестно
- Дата загрузки фото: 14.04.2019 21:36
- Оригинальная фотография: 3997 x 2998 (5,7 Мб)
- Технические характеристики:
- Фотоаппарат: Samsung SM-G930F
- Выдержка: 0,0
- Гиперфокальное расстояние: inf m
- Диафрагма: 1,7
- Светочувствительность: 50
- Фокусное расстояние: 4,0 mm (35 mm equivalent: 24,0 mm)
- Полный EXIF
- Adobe
- ColorTransform: YCbCr
- Composite
- Aperture: 1,7
- CircleOfConfusion: 0,005 mm
- FOV: 73,0 deg
- FocalLength35efl: 4,0 mm (35 mm equivalent: 24,0 mm)
- GPSAltitude: 186 m Above Sea Level
- GPSDateTime: 2019:04:09 15:12:01Z
- GPSLatitude: 55 deg 36' 52,00" N
- GPSLongitude: 37 deg 39' 27,00" E
- GPSPosition: 55 deg 36' 52,00" N, 37 deg 39' 27,00" E
- HyperfocalDistance: inf m
- Megapixels: 12,0
- ScaleFactor35efl: 6,5
- ShutterSpeed: 0,0
- ExifIFD
- ApertureValue: 1,4
- BrightnessValue: 7,09
- ColorSpace: sRGB
- CreateDate: 2019:04:09 18:12:13
- DateTimeOriginal: 2019:04:09 18:12:13
- ExposureCompensation: 0
- ExposureMode: Auto
- ExposureProgram: Program AE
- ExposureTime: 0,0
- FNumber: 1,7
- Flash: No Flash
- FocalLength: 4,0 mm
- FocalLengthIn35mmFormat: 26 mm
- ISO: 50
- LensModel: Samsung Galaxy S7 Rear Camera
- MaxApertureValue: 1,4
- MeteringMode: Spot
- SceneCaptureType: Standard
- ShutterSpeedValue: 1/512
- WhiteBalance: Auto
- GPS
- GPSAltitude: 186 m
- GPSAltitudeRef: Above Sea Level
- GPSDateStamp: 2019:04:09
- GPSLatitude: 55 deg 36' 52,00"
- GPSLatitudeRef: North
- GPSLongitude: 37 deg 39' 27,00"
- GPSLongitudeRef: East
- GPSTimeStamp: 15:12:01
- GPSVersionID: 2.2.0.0
- ICC-header
- ICC-meas
- ICC-view
- IFD0
- Make: samsung
- Model: SM-G930F
- ModifyDate: 2019:04:14 20:34:12
- IFD1
- IPTC
- DateCreated: 2019:04:09
- System
- XMP-aux
- LateralChromaticAberrationCorrectionAlreadyApplied: True
- Lens: Samsung Galaxy S7 Rear Camera
- XMP-crs
- AlreadyApplied: True
- AutoLateralCA: 1
- Blacks2012: -18
- BlueHue: 0
- BlueSaturation: 0
- Clarity2012: +32
- ColorNoiseReduction: 25
- ColorNoiseReductionDetail: 50
- ColorNoiseReductionSmoothness: 50
- Contrast2012: -7
- ConvertToGrayscale: True
- CropAngle: 0.365624
- CropBottom: 1
- CropConstrainToWarp: 0
- CropLeft: 0.006591
- CropRight: 0.993409
- CropTop: 0
- Dehaze: 0
- Exposure2012: +0.46
- GrainAmount: 0
- GrayMixerAqua: -19
- GrayMixerBlue: +6
- GrayMixerGreen: -24
- GrayMixerMagenta: +4
- GrayMixerOrange: -15
- GrayMixerPurple: +13
- GrayMixerRed: -7
- GrayMixerYellow: -18
- GreenHue: 0
- GreenSaturation: 0
- HasCrop: True
- HasSettings: True
- Highlights2012: -48
- IncrementalTemperature: 0
- IncrementalTint: 0
- LensManualDistortionAmount: 0
- LensProfileChromaticAberrationScale: 100
- LensProfileDistortionScale: 100
- LensProfileEnable: 0
- LensProfileFilename: Samsung Galaxy S7 Rear Camera.lcp
- LensProfileSetup: LensDefaults
- LensProfileVignettingScale: 100
- LuminanceSmoothing: 0
- ParametricDarks: 0
- ParametricHighlightSplit: 75
- ParametricHighlights: 0
- ParametricLights: 0
- ParametricMidtoneSplit: 50
- ParametricShadowSplit: 25
- ParametricShadows: 0
- PerspectiveAspect: 0
- PerspectiveHorizontal: 0
- PerspectiveRotate: 0.0
- PerspectiveScale: 100
- PerspectiveUpright: 0
- PerspectiveVertical: 0
- PerspectiveX: 0.00
- PerspectiveY: 0.00
- PostCropVignetteAmount: -32
- PostCropVignetteFeather: 50
- PostCropVignetteHighlightContrast: 0
- PostCropVignetteMidpoint: 50
- PostCropVignetteRoundness: 0
- PostCropVignetteStyle: 1
- ProcessVersion: 10.0
- RedHue: 0
- RedSaturation: 0
- ShadowTint: 0
- Shadows2012: +43
- SharpenDetail: 25
- SharpenEdgeMasking: 0
- SharpenRadius: +1.2
- Sharpness: 46
- SplitToningBalance: 0
- SplitToningHighlightHue: 0
- SplitToningHighlightSaturation: 0
- SplitToningShadowHue: 0
- SplitToningShadowSaturation: 0
- ToneCurve: 0, 0, 255, 255
- ToneCurveBlue: 0, 0, 255, 255
- ToneCurveGreen: 0, 0, 255, 255
- ToneCurveName: Linear
- ToneCurveName2012: Strong Contrast
- ToneCurvePV2012: 0, 0, 32, 16, 64, 50, 128, 128, 192, 202, 255, 255
- ToneCurvePV2012Blue: 0, 0, 255, 255
- ToneCurvePV2012Green: 0, 0, 255, 255
- ToneCurvePV2012Red: 0, 0, 255, 255
- ToneCurveRed: 0, 0, 255, 255
- Version: 10.0
- VignetteAmount: 0
- WhiteBalance: As Shot
- Whites2012: +11
- XMP-dc
- XMP-xmp
- CreateDate: 2019:04:09 18:12:13.0382
- ModifyDate: 2019:04:14 20:34:12+03:00
- XMP-xmpMM
- Просмотров: 408
- Рейтинг: голосов еще нет
- Отзывов: 0