- Раздел: Другое, разное
- Дата съёмки: неизвестно
- Дата загрузки фото: 10.05.2019 23:59
- Оригинальная фотография: 2560 x 1917 (3,3 Мб)
- Технические характеристики:
- Фотоаппарат: google ZE620KL
- Выдержка: 0,0
- Гиперфокальное расстояние: inf m
- Диафрагма: 1,8
- Светочувствительность: 25
- Фокусное расстояние: 3,0 mm (35 mm equivalent: 24,0 mm)
- Полный EXIF
- Adobe
- ColorTransform: YCbCr
- Composite
- Aperture: 1,8
- CircleOfConfusion: 0,004 mm
- DOF: inf (0,00 m - inf)
- FOV: 73,0 deg
- FocalLength35efl: 3,0 mm (35 mm equivalent: 24,0 mm)
- HyperfocalDistance: inf m
- Megapixels: 4,9
- ScaleFactor35efl: 8,0
- ShutterSpeed: 0,0
- ExifIFD
- ApertureValue: 1,4
- BrightnessValue: 3,856018066
- CFAPattern: [Blue,Green][Green,Red]
- ColorSpace: sRGB
- CreateDate: 2019:05:10 20:59:19
- DateTimeOriginal: 2019:05:10 20:59:19
- DigitalZoomRatio: 0
- ExifImageHeight: 1917
- ExifImageWidth: 2560
- ExposureCompensation: 0
- ExposureTime: 0,0
- FNumber: 1,8
- Flash: Off, Did not fire
- FocalLength: 3,0 mm
- FocalLengthIn35mmFormat: 24 mm
- ISO: 25
- MaxApertureValue: 1,4
- ShutterSpeedValue: 1/32
- SubjectDistance: 4294967295 m
- SubjectDistanceRange: Distant
- WhiteBalance: Auto
- ICC-header
- ICC-meas
- ICC-view
- IFD0
- BitsPerSample: 8 8 8
- ImageHeight: 3008
- ImageWidth: 4016
- Make: google
- MakerNoteSafety: Safe
- Model: ZE620KL
- ModifyDate: 2019:05:10 23:58:14
- Orientation: Horizontal (normal)
- PhotometricInterpretation: RGB
- SamplesPerPixel: 3
- IFD1
- IPTC
- DateCreated: 2019:05:10
- System
- XMP-aux
- ApproximateFocusDistance: 4294967295
- XMP-crs
- AlreadyApplied: True
- AutoLateralCA: 0
- Blacks2012: +16
- BlueHue: -3
- BlueSaturation: -14
- CameraProfile: Embedded
- Clarity2012: +1
- ColorNoiseReduction: 17
- ColorNoiseReductionDetail: 50
- ColorNoiseReductionSmoothness: 50
- ColorTemperature: 6350
- Contrast2012: +15
- ConvertToGrayscale: False
- DefringeGreenAmount: 4
- DefringeGreenHueHi: 71
- DefringeGreenHueLo: 40
- DefringePurpleAmount: 4
- DefringePurpleHueHi: 70
- DefringePurpleHueLo: 22
- Dehaze: +19
- Exposure2012: +0.40
- GrainAmount: 0
- GreenHue: +2
- GreenSaturation: -12
- HasCrop: False
- HasSettings: True
- Highlights2012: -82
- HueAdjustmentAqua: +9
- HueAdjustmentBlue: -3
- HueAdjustmentGreen: +7
- HueAdjustmentMagenta: +34
- HueAdjustmentOrange: +10
- HueAdjustmentPurple: -23
- HueAdjustmentRed: -6
- HueAdjustmentYellow: +11
- LensManualDistortionAmount: 0
- LensProfileEnable: 0
- LensProfileSetup: LensDefaults
- LuminanceAdjustmentAqua: -43
- LuminanceAdjustmentBlue: -14
- LuminanceAdjustmentGreen: -4
- LuminanceAdjustmentMagenta: 0
- LuminanceAdjustmentOrange: +5
- LuminanceAdjustmentPurple: 0
- LuminanceAdjustmentRed: -1
- LuminanceAdjustmentYellow: -8
- LuminanceNoiseReductionContrast: 6
- LuminanceNoiseReductionDetail: 62
- LuminanceSmoothing: 28
- OverrideLookVignette: False
- ParametricDarks: -8
- ParametricHighlightSplit: 75
- ParametricHighlights: -21
- ParametricLights: -12
- ParametricMidtoneSplit: 50
- ParametricShadowSplit: 25
- ParametricShadows: +23
- PerspectiveAspect: 0
- PerspectiveHorizontal: 0
- PerspectiveRotate: 0.0
- PerspectiveScale: 100
- PerspectiveUpright: 0
- PerspectiveVertical: 0
- PerspectiveX: 0.00
- PerspectiveY: 0.00
- PostCropVignetteAmount: 0
- ProcessVersion: 11.0
- RawFileName: IMG_20190510_205918.dng
- RedHue: -7
- RedSaturation: 0
- Saturation: +79
- SaturationAdjustmentAqua: +33
- SaturationAdjustmentBlue: -32
- SaturationAdjustmentGreen: +3
- SaturationAdjustmentMagenta: -9
- SaturationAdjustmentOrange: -6
- SaturationAdjustmentPurple: +13
- SaturationAdjustmentRed: -10
- SaturationAdjustmentYellow: -3
- ShadowTint: +4
- Shadows2012: +41
- SharpenDetail: 35
- SharpenEdgeMasking: 11
- SharpenRadius: +0.8
- Sharpness: 120
- SplitToningBalance: 0
- SplitToningHighlightHue: 0
- SplitToningHighlightSaturation: 0
- SplitToningShadowHue: 0
- SplitToningShadowSaturation: 0
- Tint: +11
- ToneCurve: 0, 0, 32, 22, 64, 56, 128, 128, 192, 196, 255, 255
- ToneCurveBlue: 0, 0, 255, 255
- ToneCurveGreen: 0, 0, 255, 255
- ToneCurveName: Medium Contrast
- ToneCurveName2012: Custom
- ToneCurvePV2012: 0, 0, 83, 49, 118, 97, 220, 191, 255, 255
- ToneCurvePV2012Blue: 0, 3, 198, 197, 255, 255
- ToneCurvePV2012Green: 5, 3, 255, 255
- ToneCurvePV2012Red: 0, 0, 255, 255
- ToneCurveRed: 0, 0, 255, 255
- ToneMapStrength: 0
- Version: 11.2
- Vibrance: +22
- VignetteAmount: -24
- VignetteMidpoint: 50
- WhiteBalance: Custom
- Whites2012: -51
- XMP-dc
- XMP-exifEX
- PhotographicSensitivity: 25
- XMP-xmp
- ModifyDate: 2019:05:10 23:58:14+03:00
- Rating: 0
- XMP-xmpMM