- Раздел: Другое, разное
- Дата съёмки: неизвестно
- Дата загрузки фото: 16.05.2019 12:46
- Оригинальная фотография: 5310 x 3218 (2,4 Мб)
- Технические характеристики:
- Фотоаппарат: Nikon D5200
- Выдержка: 0,0
- Гиперфокальное расстояние: inf m
- Диафрагма: 7,1
- Светочувствительность: 100
- Фокусное расстояние: 18,0 mm (35 mm equivalent: 18,0 mm)
- Полный EXIF
- Adobe
- ColorTransform: YCbCr
- Composite
- Aperture: 7,1
- CircleOfConfusion: 0,020 mm
- FOV: 90,0 deg
- FocalLength35efl: 18,0 mm (35 mm equivalent: 18,0 mm)
- HyperfocalDistance: inf m
- LensID: Sigma 18-50mm F2.8 EX DC
- Megapixels: 17,1
- ScaleFactor35efl: 1,5
- ShutterSpeed: 0,0
- ExifIFD
- ApertureValue: 5,7
- CFAPattern: [Red,Green][Green,Blue]
- Contrast: Normal
- CreateDate: 2019:05:08 11:38:13
- CustomRendered: Normal
- DateTimeOriginal: 2019:05:08 11:38:13
- DigitalZoomRatio: 1
- ExposureCompensation: 0
- ExposureMode: Auto
- ExposureProgram: Aperture-priority AE
- ExposureTime: 0,0
- FNumber: 7,1
- Flash: No Flash
- FocalLength: 18,0 mm
- FocalLengthIn35mmFormat: 27 mm
- GainControl: None
- ISO: 100
- LensInfo: 18-50mm f/2.8
- LensModel: 18.0-50.0 mm f/2.8
- LightSource: Unknown
- MaxApertureValue: 2,8
- MeteringMode: Multi-segment
- Saturation: Normal
- SceneCaptureType: Landscape
- SceneType: Directly photographed
- SensingMethod: One-chip color area
- SensitivityType: Recommended Exposure Index
- SerialNumber: 2188964
- Sharpness: Hard
- ShutterSpeedValue: 1/256
- SubjectDistanceRange: Unknown
- WhiteBalance: Auto
- ICC-header
- ICC-meas
- ICC-view
- IFD0
- Make: NIKON CORPORATION
- Model: NIKON D5200
- ModifyDate: 2019:05:16 12:42:52
- IFD1
- IPTC
- DateCreated: 2019:05:08
- System
- XMP-aux
- ApproximateFocusDistance: 11,2
- ImageNumber: 10586
- Lens: 18.0-50.0 mm f/2.8
- LensID: 38
- XMP-crs
- AlreadyApplied: True
- AutoLateralCA: 1
- AutoWhiteVersion: 134348800
- Blacks2012: -60
- BlueHue: 0
- BlueSaturation: +10
- Clarity2012: +25
- ColorNoiseReduction: 25
- ColorNoiseReductionDetail: 50
- ColorNoiseReductionSmoothness: 50
- ColorTemperature: 5400
- Contrast2012: +5
- ConvertToGrayscale: False
- CropAngle: 0
- CropBottom: 0.849025
- CropConstrainToWarp: 1
- CropLeft: 0.044529
- CropRight: 0.929586
- CropTop: 0.044529
- DefringeGreenAmount: 0
- DefringeGreenHueHi: 60
- DefringeGreenHueLo: 40
- DefringePurpleAmount: 0
- DefringePurpleHueHi: 70
- DefringePurpleHueLo: 30
- Dehaze: 0
- Exposure2012: +0.23
- GradientBasedCorrActive: true
- GradientBasedCorrAmount: 1.000000
- GradientBasedCorrBrightness: 0.000000
- GradientBasedCorrClarity2012: 0.260000
- GradientBasedCorrContrast2012: 0.080000
- GradientBasedCorrDefringe: 0.000000
- GradientBasedCorrExposure2012: -0.060000
- GradientBasedCorrHighlights2012: 0.120000
- GradientBasedCorrHue: 0.000000
- GradientBasedCorrLocalBlacks2012: 0.000000
- GradientBasedCorrLocalWhites2012: 0.000000
- GradientBasedCorrLuminanceNoise: 0.000000
- GradientBasedCorrMaskFullX: 0.531582
- GradientBasedCorrMaskFullY: 0.398467
- GradientBasedCorrMaskValue: 1.000000
- GradientBasedCorrMaskWhat: Mask/Gradient
- GradientBasedCorrMaskZeroX: 0.525563
- GradientBasedCorrMaskZeroY: 0.574168
- GradientBasedCorrMoire: 0.000000
- GradientBasedCorrSaturation: 0.000000
- GradientBasedCorrShadows2012: 0.200000
- GradientBasedCorrSharpness: 0.200000
- GradientBasedCorrTemperature: 0.000000
- GradientBasedCorrTint: 0.000000
- GradientBasedCorrWhat: Correction
- GrainAmount: 0
- GreenHue: 0
- GreenSaturation: +10
- HasCrop: True
- HasSettings: True
- Highlights2012: -74
- HueAdjustmentAqua: 0
- HueAdjustmentBlue: 0
- HueAdjustmentGreen: 0
- HueAdjustmentMagenta: 0
- HueAdjustmentOrange: 0
- HueAdjustmentPurple: 0
- HueAdjustmentRed: 0
- HueAdjustmentYellow: 0
- LensManualDistortionAmount: 0
- LensProfileChromaticAberrationScale: 100
- LensProfileDistortionScale: 100
- LensProfileEnable: 1
- LensProfileFilename: NIKON CORPORATION (Sigma_18-50mm_F2.8_EX_DC_MACRO_HSM ) - RAW.lcp
- LensProfileSetup: Custom
- LensProfileVignettingScale: 100
- LuminanceAdjustmentAqua: 0
- LuminanceAdjustmentBlue: -16
- LuminanceAdjustmentGreen: 0
- LuminanceAdjustmentMagenta: 0
- LuminanceAdjustmentOrange: 0
- LuminanceAdjustmentPurple: 0
- LuminanceAdjustmentRed: 0
- LuminanceAdjustmentYellow: 0
- LuminanceNoiseReductionContrast: 0
- LuminanceNoiseReductionDetail: 50
- LuminanceSmoothing: 20
- PaintCorrectionActive: true
- PaintCorrectionAmount: 1.000000
- PaintCorrectionBrightness: 0.000000
- PaintCorrectionClarity2012: 0.000000
- PaintCorrectionContrast2012: 0.000000
- PaintCorrectionDefringe: 0.000000
- PaintCorrectionExposure2012: 0.100000
- PaintCorrectionHighlights2012: 0.000000
- PaintCorrectionHue: 0.000000
- PaintCorrectionLocalBlacks2012: 0.000000
- PaintCorrectionLocalWhites2012: 0.000000
- PaintCorrectionLuminanceNoise: 0.000000
- PaintCorrectionMaskCenterWeight: 0.000000
- PaintCorrectionMaskFlow: 1.000000
- PaintCorrectionMaskRadius: 0.018101
- PaintCorrectionMaskValue: 1.000000
- PaintCorrectionMaskWhat: Mask/Paint
- PaintCorrectionMoire: 0.000000
- PaintCorrectionSaturation: 0.000000
- PaintCorrectionShadows2012: 0.000000
- PaintCorrectionSharpness: 0.000000
- PaintCorrectionTemperature: 0.000000
- PaintCorrectionTint: 0.000000
- PaintCorrectionWhat: Correction
- ParametricDarks: -10
- ParametricHighlightSplit: 75
- ParametricHighlights: +21
- ParametricLights: +10
- ParametricMidtoneSplit: 50
- ParametricShadowSplit: 25
- ParametricShadows: -21
- PerspectiveAspect: 0
- PerspectiveHorizontal: 0
- PerspectiveRotate: 0.0
- PerspectiveScale: 100
- PerspectiveUpright: 1
- PerspectiveVertical: 0
- PostCropVignetteAmount: 0
- ProcessVersion: 6.7
- RedHue: 0
- RedSaturation: 0
- Saturation: 0
- SaturationAdjustmentAqua: 0
- SaturationAdjustmentBlue: 0
- SaturationAdjustmentGreen: 0
- SaturationAdjustmentMagenta: 0
- SaturationAdjustmentOrange: 0
- SaturationAdjustmentPurple: 0
- SaturationAdjustmentRed: 0
- SaturationAdjustmentYellow: 0
- ShadowTint: 0
- Shadows2012: +69
- SharpenDetail: 20
- SharpenEdgeMasking: 0
- SharpenRadius: +0.8
- Sharpness: 63
- SplitToningBalance: 0
- SplitToningHighlightHue: 0
- SplitToningHighlightSaturation: 0
- SplitToningShadowHue: 0
- SplitToningShadowSaturation: 0
- Tint: +7
- ToneCurve: 0, 0, 255, 255
- ToneCurveBlue: 0, 0, 255, 255
- ToneCurveGreen: 0, 0, 255, 255
- ToneCurveName: Linear
- ToneCurveName2012: Linear
- ToneCurvePV2012: 0, 0, 255, 255
- ToneCurvePV2012Blue: 0, 0, 255, 255
- ToneCurvePV2012Green: 0, 0, 255, 255
- ToneCurvePV2012Red: 0, 0, 255, 255
- ToneCurveRed: 0, 0, 255, 255
- ToneMapStrength: 0
- Version: 9.1.1
- Vibrance: +14
- VignetteAmount: 0
- WhiteBalance: As Shot
- Whites2012: +28
- XMP-dc
- XMP-xmp
- CreateDate: 2019:05:08 11:38:13.40
- ModifyDate: 2019:05:16 12:42:52+03:00
- XMP-xmpMM
- Просмотров: 120
- Рейтинг: голосов еще нет
- Отзывов: отключены