- Раздел: Другое, разное
- Дата съёмки: неизвестно
- Дата загрузки фото: 19.06.2019 21:14
- Оригинальная фотография: 2083 x 1724 (1,5 Мб)
- Технические характеристики:
- Фотоаппарат: Apple iPhone 7
- Выдержка: 0,0
- Гиперфокальное расстояние: inf m
- Диафрагма: 1,8
- Светочувствительность: 20
- Фокусное расстояние: 3,0 mm (35 mm equivalent: 27,0 mm)
- Полный EXIF
- Adobe
- ColorTransform: YCbCr
- Composite
- Aperture: 1,8
- CircleOfConfusion: 0,003 mm
- FOV: 67,0 deg
- FocalLength35efl: 3,0 mm (35 mm equivalent: 27,0 mm)
- GPSAltitude: 137 m Above Sea Level
- GPSLatitude: 44 deg 33' 41,00" N
- GPSLongitude: 33 deg 31' 26,00" E
- GPSPosition: 44 deg 33' 41,00" N, 33 deg 31' 26,00" E
- HyperfocalDistance: inf m
- Megapixels: 3,6
- ScaleFactor35efl: 9,3
- ShutterSpeed: 0,0
- ExifIFD
- ApertureValue: 1,4
- BrightnessValue: 9,580579163
- ColorSpace: sRGB
- CreateDate: 2019:01:06 13:51:02
- CustomRendered: Unknown (2)
- DateTimeOriginal: 2019:01:06 13:51:02
- ExifImageHeight: 1724
- ExifImageWidth: 2083
- ExposureCompensation: 0
- ExposureMode: Auto
- ExposureProgram: Program AE
- ExposureTime: 0,0
- FNumber: 1,8
- Flash: Off, Did not fire
- FocalLength: 3,0 mm
- FocalLengthIn35mmFormat: 28 mm
- ISO: 20
- LensInfo: 3.99000001mm f/1.8
- LensMake: Apple
- LensModel: iPhone 7 back camera 3.99mm f/1.8
- MeteringMode: Spot
- SceneCaptureType: Standard
- SceneType: Directly photographed
- SensingMethod: One-chip color area
- ShutterSpeedValue: 1/512
- SubjectArea: 2049 1457 753 756
- WhiteBalance: Auto
- GPS
- GPSAltitude: 137,9137127 m
- GPSAltitudeRef: Above Sea Level
- GPSDestBearing: 340,3674009
- GPSDestBearingRef: True North
- GPSHPositioningError: 16 m
- GPSImgDirection: 340,3674009
- GPSImgDirectionRef: True North
- GPSLatitude: 44 deg 33' 41,00"
- GPSLatitudeRef: North
- GPSLongitude: 33 deg 31' 26,00"
- GPSLongitudeRef: East
- GPSSpeed: 1,203701734
- GPSSpeedRef: km/h
- ICC-header
- ICC-meas
- ICC-view
- IFD0
- Make: Apple
- Model: iPhone 7
- ModifyDate: 2019:06:19 20:04:59
- Orientation: Horizontal (normal)
- IFD1
- IPTC
- DateCreated: 2019:01:06
- System
- XMP-aux
- Lens: iPhone 7 back camera 3.99mm f/1.8
- LensInfo: 3.99000000953743mm f/1.8
- XMP-crs
- AlreadyApplied: True
- AutoLateralCA: 0
- AutoWhiteVersion: 134348800
- Blacks2012: -23
- BlueHue: 0
- BlueSaturation: 0
- CameraProfile: Embedded
- Clarity2012: +27
- ColorNoiseReduction: 0
- Contrast2012: +11
- ConvertToGrayscale: False
- DefringeGreenAmount: 0
- DefringeGreenHueHi: 60
- DefringeGreenHueLo: 40
- DefringePurpleAmount: 0
- DefringePurpleHueHi: 70
- DefringePurpleHueLo: 30
- Dehaze: 0
- Exposure2012: +0.05
- GrainAmount: 0
- GreenHue: 0
- GreenSaturation: 0
- HasCrop: False
- HasSettings: True
- Highlights2012: -100
- HueAdjustmentAqua: 0
- HueAdjustmentBlue: 0
- HueAdjustmentGreen: 0
- HueAdjustmentMagenta: 0
- HueAdjustmentOrange: 0
- HueAdjustmentPurple: 0
- HueAdjustmentRed: 0
- HueAdjustmentYellow: 0
- IncrementalTemperature: 0
- IncrementalTint: 0
- LensManualDistortionAmount: 0
- LensProfileEnable: 0
- LensProfileSetup: LensDefaults
- LuminanceAdjustmentAqua: 0
- LuminanceAdjustmentBlue: 0
- LuminanceAdjustmentGreen: 0
- LuminanceAdjustmentMagenta: 0
- LuminanceAdjustmentOrange: 0
- LuminanceAdjustmentPurple: 0
- LuminanceAdjustmentRed: 0
- LuminanceAdjustmentYellow: 0
- LuminanceSmoothing: 0
- ParametricDarks: +20
- ParametricHighlightSplit: 75
- ParametricHighlights: +43
- ParametricLights: -19
- ParametricMidtoneSplit: 50
- ParametricShadowSplit: 25
- ParametricShadows: 0
- PerspectiveAspect: 0
- PerspectiveHorizontal: 0
- PerspectiveRotate: 0.0
- PerspectiveScale: 100
- PerspectiveUpright: 0
- PerspectiveVertical: 0
- PostCropVignetteAmount: 0
- ProcessVersion: 6.7
- RawFileName: IMG_6351.JPG
- RedHue: 0
- RedSaturation: 0
- Saturation: 0
- SaturationAdjustmentAqua: 0
- SaturationAdjustmentBlue: 0
- SaturationAdjustmentGreen: 0
- SaturationAdjustmentMagenta: 0
- SaturationAdjustmentOrange: 0
- SaturationAdjustmentPurple: 0
- SaturationAdjustmentRed: 0
- SaturationAdjustmentYellow: 0
- ShadowTint: 0
- Shadows2012: 0
- SharpenDetail: 25
- SharpenEdgeMasking: 0
- SharpenRadius: +1.0
- Sharpness: 0
- SplitToningBalance: 0
- SplitToningHighlightHue: 0
- SplitToningHighlightSaturation: 0
- SplitToningShadowHue: 0
- SplitToningShadowSaturation: 0
- ToneCurve: 0, 0, 255, 255
- ToneCurveBlue: 0, 0, 255, 255
- ToneCurveGreen: 0, 0, 255, 255
- ToneCurveName: Linear
- ToneCurveName2012: Linear
- ToneCurvePV2012: 0, 0, 255, 255
- ToneCurvePV2012Blue: 0, 0, 255, 255
- ToneCurvePV2012Green: 0, 0, 255, 255
- ToneCurvePV2012Red: 0, 0, 255, 255
- ToneCurveRed: 0, 0, 255, 255
- ToneMapStrength: 0
- Version: 9.1.1
- Vibrance: 0
- VignetteAmount: 0
- WhiteBalance: As Shot
- Whites2012: +52
- XMP-dc
- XMP-xmp
- CreatorTool: 12.0
- ModifyDate: 2019:06:19 20:04:59+03:00
- Rating: 0
- XMP-xmpMM