- Раздел: Другое, разное
- Дата съёмки: неизвестно
- Дата загрузки фото: 12.08.2019 20:06
- Оригинальная фотография: 4592 x 3064 (847 Кб)
- Технические характеристики:
- Фотоаппарат: Panasonic DMC-G85
- Выдержка: 0,0
- Светочувствительность: 200
- Полный EXIF
- Adobe
- ColorTransform: YCbCr
- Composite
- Megapixels: 14,1
- ShutterSpeed: 0,0
- ExifIFD
- ColorSpace: sRGB
- Contrast: Normal
- CreateDate: 2017:07:30 19:42:22
- CustomRendered: Normal
- DateTimeOriginal: 2017:07:30 19:42:22
- DigitalZoomRatio: 0
- ExposureCompensation: 0
- ExposureMode: Manual
- ExposureProgram: Manual
- ExposureTime: 0,0
- Flash: Off, Did not fire
- GainControl: Low gain up
- ISO: 200
- LightSource: Fine Weather
- MaxApertureValue: 1,0
- MeteringMode: Spot
- Saturation: Normal
- SceneCaptureType: Standard
- SceneType: Directly photographed
- SensingMethod: One-chip color area
- SensitivityType: Standard Output Sensitivity
- SerialNumber: XEL1611010109
- Sharpness: Soft
- ShutterSpeedValue: 1/128
- WhiteBalance: Manual
- ICC-header
- ICC-meas
- ICC-view
- IFD0
- Make: Panasonic
- Model: DMC-G85
- ModifyDate: 2017:07:31 10:51:16
- IFD1
- IPTC
- DateCreated: 2017:07:30
- System
- XMP-aux
- LateralChromaticAberrationCorrectionAlreadyApplied: True
- XMP-crs
- AlreadyApplied: True
- AutoLateralCA: 1
- AutoWhiteVersion: 134348800
- Blacks2012: +51
- BlueHue: -48
- BlueSaturation: -30
- CameraProfile: Embedded
- Clarity2012: +27
- ColorNoiseReduction: 7
- ColorNoiseReductionDetail: 0
- ColorNoiseReductionSmoothness: 0
- Contrast2012: -29
- ConvertToGrayscale: False
- DefringeGreenAmount: 0
- DefringeGreenHueHi: 60
- DefringeGreenHueLo: 40
- DefringePurpleAmount: 0
- DefringePurpleHueHi: 70
- DefringePurpleHueLo: 30
- Dehaze: 0
- Exposure2012: +0.16
- GrainAmount: 0
- GreenHue: +50
- GreenSaturation: +32
- HasCrop: False
- HasSettings: True
- Highlights2012: +14
- HueAdjustmentAqua: -6
- HueAdjustmentBlue: +11
- HueAdjustmentGreen: +10
- HueAdjustmentMagenta: 0
- HueAdjustmentOrange: +10
- HueAdjustmentPurple: 0
- HueAdjustmentRed: -2
- HueAdjustmentYellow: +6
- IncrementalTemperature: +3
- IncrementalTint: +8
- LensManualDistortionAmount: 0
- LensProfileEnable: 0
- LensProfileSetup: LensDefaults
- LuminanceAdjustmentAqua: +20
- LuminanceAdjustmentBlue: +14
- LuminanceAdjustmentGreen: +4
- LuminanceAdjustmentMagenta: +14
- LuminanceAdjustmentOrange: +33
- LuminanceAdjustmentPurple: +2
- LuminanceAdjustmentRed: +14
- LuminanceAdjustmentYellow: +37
- LuminanceNoiseReductionContrast: 36
- LuminanceNoiseReductionDetail: 10
- LuminanceSmoothing: 37
- ParametricDarks: -45
- ParametricHighlightSplit: 75
- ParametricHighlights: -1
- ParametricLights: -17
- ParametricMidtoneSplit: 50
- ParametricShadowSplit: 25
- ParametricShadows: -39
- PerspectiveAspect: 0
- PerspectiveHorizontal: 0
- PerspectiveRotate: 0.0
- PerspectiveScale: 100
- PerspectiveUpright: 0
- PerspectiveVertical: 0
- PerspectiveX: 0.00
- PerspectiveY: 0.00
- PostCropVignetteAmount: -11
- PostCropVignetteFeather: 81
- PostCropVignetteHighlightContrast: 0
- PostCropVignetteMidpoint: 0
- PostCropVignetteRoundness: +32
- PostCropVignetteStyle: 1
- ProcessVersion: 6.7
- RedHue: +57
- RedSaturation: +11
- Saturation: +3
- SaturationAdjustmentAqua: +16
- SaturationAdjustmentBlue: +8
- SaturationAdjustmentGreen: 0
- SaturationAdjustmentMagenta: +6
- SaturationAdjustmentOrange: +6
- SaturationAdjustmentPurple: +6
- SaturationAdjustmentRed: +18
- SaturationAdjustmentYellow: +2
- ShadowTint: +25
- Shadows2012: +72
- SharpenDetail: 12
- SharpenEdgeMasking: 32
- SharpenRadius: +0.5
- Sharpness: 124
- SplitToningBalance: +36
- SplitToningHighlightHue: 98
- SplitToningHighlightSaturation: 16
- SplitToningShadowHue: 307
- SplitToningShadowSaturation: 7
- ToneCurve: 0, 0, 255, 255
- ToneCurveBlue: 0, 0, 255, 255
- ToneCurveGreen: 0, 0, 255, 255
- ToneCurveName: Linear
- ToneCurveName2012: Custom
- ToneCurvePV2012: 0, 24, 34, 40, 65, 65, 192, 192, 255, 255
- ToneCurvePV2012Blue: 0, 0, 255, 255
- ToneCurvePV2012Green: 0, 0, 255, 255
- ToneCurvePV2012Red: 0, 0, 37, 39, 93, 93, 255, 255
- ToneCurveRed: 0, 0, 255, 255
- ToneMapStrength: 0
- Version: 9.10
- Vibrance: +3
- VignetteAmount: 0
- WhiteBalance: Custom
- Whites2012: -18
- XMP-dc
- XMP-xmp
- CreateDate: 2017:07:30 19:42:22.689
- ModifyDate: 2017:07:31 10:51:16+03:00
- XMP-xmpMM
- Просмотров: 66
- Рейтинг: голосов еще нет
- Отзывов: 0