- Раздел: Другое, разное
- Дата съёмки: неизвестно
- Дата загрузки фото: 12.08.2019 20:06
- Оригинальная фотография: 3064 x 4592 (974 Кб)
- Технические характеристики:
- Фотоаппарат: Panasonic DMC-G85
- Выдержка: 0,0
- Светочувствительность: 200
- Полный EXIF
- Composite
- Megapixels: 14,1
- ShutterSpeed: 0,0
- ExifIFD
- ColorSpace: sRGB
- Contrast: Normal
- CreateDate: 2017:06:23 15:51:09
- CustomRendered: Normal
- DateTimeOriginal: 2017:06:23 15:51:09
- DigitalZoomRatio: 0
- ExifImageHeight: 4592
- ExifImageWidth: 3064
- ExposureCompensation: 0
- ExposureMode: Manual
- ExposureProgram: Manual
- ExposureTime: 0,0
- Flash: Off, Did not fire
- GainControl: Low gain up
- ISO: 200
- LightSource: Unknown
- MaxApertureValue: 1,0
- MeteringMode: Multi-segment
- Saturation: Normal
- SceneCaptureType: Standard
- SceneType: Directly photographed
- SensingMethod: One-chip color area
- SensitivityType: Standard Output Sensitivity
- Sharpness: Soft
- ShutterSpeedValue: 1/4096
- WhiteBalance: Auto
- ICC-header
- ICC-meas
- ICC-view
- IFD0
- Make: Panasonic
- Model: DMC-G85
- ModifyDate: 2017:06:24 11:36:26
- IFD1
- IPTC
- DateCreated: 2017:06:23
- System
- XMP-aux
- LateralChromaticAberrationCorrectionAlreadyApplied: True
- XMP-crs
- AlreadyApplied: True
- AutoLateralCA: 1
- AutoWhiteVersion: 134348800
- Blacks2012: +61
- BlueHue: -98
- BlueSaturation: -52
- CameraProfile: Embedded
- Clarity2012: +33
- ColorNoiseReduction: 58
- ColorNoiseReductionDetail: 13
- ColorNoiseReductionSmoothness: 44
- Contrast2012: +21
- ConvertToGrayscale: False
- DefringeGreenAmount: 0
- DefringeGreenHueHi: 60
- DefringeGreenHueLo: 40
- DefringePurpleAmount: 0
- DefringePurpleHueHi: 70
- DefringePurpleHueLo: 30
- Dehaze: 0
- Exposure2012: +0.70
- GrainAmount: 0
- GreenHue: +62
- GreenSaturation: +29
- HasCrop: False
- HasSettings: True
- Highlights2012: -44
- HueAdjustmentAqua: +16
- HueAdjustmentBlue: -2
- HueAdjustmentGreen: +29
- HueAdjustmentMagenta: 0
- HueAdjustmentOrange: +35
- HueAdjustmentPurple: 0
- HueAdjustmentRed: -8
- HueAdjustmentYellow: +35
- IncrementalTemperature: -3
- IncrementalTint: +8
- LensManualDistortionAmount: 0
- LensProfileEnable: 0
- LensProfileSetup: LensDefaults
- LuminanceAdjustmentAqua: -4
- LuminanceAdjustmentBlue: -16
- LuminanceAdjustmentGreen: +27
- LuminanceAdjustmentMagenta: 0
- LuminanceAdjustmentOrange: +16
- LuminanceAdjustmentPurple: 0
- LuminanceAdjustmentRed: +17
- LuminanceAdjustmentYellow: 0
- LuminanceNoiseReductionContrast: 23
- LuminanceNoiseReductionDetail: 51
- LuminanceSmoothing: 74
- ParametricDarks: -24
- ParametricHighlightSplit: 75
- ParametricHighlights: +9
- ParametricLights: -9
- ParametricMidtoneSplit: 50
- ParametricShadowSplit: 25
- ParametricShadows: -28
- PerspectiveAspect: 0
- PerspectiveHorizontal: 0
- PerspectiveRotate: 0.0
- PerspectiveScale: 100
- PerspectiveUpright: 0
- PerspectiveVertical: 0
- PerspectiveX: 0.00
- PerspectiveY: 0.00
- PostCropVignetteAmount: 0
- ProcessVersion: 6.7
- RedHue: +43
- RedSaturation: +98
- Saturation: -7
- SaturationAdjustmentAqua: +20
- SaturationAdjustmentBlue: +45
- SaturationAdjustmentGreen: +16
- SaturationAdjustmentMagenta: 0
- SaturationAdjustmentOrange: -27
- SaturationAdjustmentPurple: 0
- SaturationAdjustmentRed: -45
- SaturationAdjustmentYellow: +9
- ShadowTint: 0
- Shadows2012: -48
- SharpenDetail: 26
- SharpenEdgeMasking: 20
- SharpenRadius: +2.0
- Sharpness: 111
- SplitToningBalance: -7
- SplitToningHighlightHue: 64
- SplitToningHighlightSaturation: 30
- SplitToningShadowHue: 244
- SplitToningShadowSaturation: 12
- ToneCurve: 0, 0, 255, 255
- ToneCurveBlue: 0, 0, 255, 255
- ToneCurveGreen: 0, 0, 255, 255
- ToneCurveName: Linear
- ToneCurveName2012: Custom
- ToneCurvePV2012: 0, 24, 34, 40, 65, 65, 192, 192, 255, 255
- ToneCurvePV2012Blue: 0, 0, 255, 255
- ToneCurvePV2012Green: 0, 0, 255, 255
- ToneCurvePV2012Red: 0, 0, 37, 39, 93, 93, 255, 255
- ToneCurveRed: 0, 0, 255, 255
- ToneMapStrength: 0
- Version: 9.10
- Vibrance: +2
- VignetteAmount: 0
- WhiteBalance: Custom
- Whites2012: -55
- XMP-dc
- XMP-xmp
- CreateDate: 2017:06:23 15:51:09.468
- ModifyDate: 2017:06:23 22:25:35+03:00
- XMP-xmpMM
- Просмотров: 60
- Рейтинг: голосов еще нет
- Отзывов: 0