- Раздел: Другое, разное
- Дата съёмки: 12.09.2015 10:52
- Дата загрузки фото: 12.08.2019 20:07
- Оригинальная фотография: 3264 x 1840 (499 Кб)
- Технические характеристики:
- Фотоаппарат: HTC One X+
- Выдержка: 0,0
- Диафрагма: 2,0
- Светочувствительность: 100
- Фокусное расстояние: 3,0 mm
- Экспокоррекция: +1
- Полный EXIF
- Adobe
- ColorTransform: YCbCr
- Composite
- Aperture: 2,0
- FocalLength35efl: 3,0 mm
- Megapixels: 6,0
- ShutterSpeed: 0,0
- ExifIFD
- ApertureValue: 2,0
- ColorSpace: sRGB
- CreateDate: 2015:09:12 10:52:05
- CustomRendered: Normal
- DateTimeOriginal: 2015:09:12 10:52:05
- DigitalZoomRatio: 1
- ExposureCompensation: +1
- ExposureMode: Auto bracket
- ExposureProgram: Program AE
- ExposureTime: 0,0
- FNumber: 2,0
- Flash: Off, Did not fire
- FocalLength: 3,0 mm
- ISO: 100
- LightSource: Unknown
- MaxApertureValue: 1,4
- MeteringMode: Center-weighted average
- SceneCaptureType: Standard
- SensingMethod: One-chip color area
- Sharpness: Soft
- ShutterSpeedValue: 1/1024
- SubjectArea: 0 26630 39680 13060
- SubjectDistance: 0 m
- WhiteBalance: Auto
- ICC-header
- ICC-meas
- ICC-view
- IFD0
- Make: HTC
- Model: HTC One X+
- ModifyDate: 2017:09:08 11:04:37
- IFD1
- IPTC
- DateCreated: 2015:09:12
- System
- XMP-aux
- ApproximateFocusDistance: 0
- LateralChromaticAberrationCorrectionAlreadyApplied: True
- XMP-crs
- AlreadyApplied: True
- AutoLateralCA: 1
- AutoWhiteVersion: 134348800
- Blacks2012: +87
- BlueHue: -48
- BlueSaturation: -30
- CameraProfile: Embedded
- Clarity2012: +27
- ColorNoiseReduction: 7
- ColorNoiseReductionDetail: 0
- ColorNoiseReductionSmoothness: 0
- Contrast2012: -10
- ConvertToGrayscale: False
- DefringeGreenAmount: 0
- DefringeGreenHueHi: 60
- DefringeGreenHueLo: 40
- DefringePurpleAmount: 0
- DefringePurpleHueHi: 70
- DefringePurpleHueLo: 30
- Dehaze: 0
- Exposure2012: +0.16
- GrainAmount: 0
- GreenHue: +50
- GreenSaturation: +32
- HasCrop: False
- HasSettings: True
- Highlights2012: -16
- HueAdjustmentAqua: -6
- HueAdjustmentBlue: +2
- HueAdjustmentGreen: +10
- HueAdjustmentMagenta: 0
- HueAdjustmentOrange: +10
- HueAdjustmentPurple: 0
- HueAdjustmentRed: -21
- HueAdjustmentYellow: -2
- IncrementalTemperature: +3
- IncrementalTint: +12
- LensManualDistortionAmount: 0
- LensProfileEnable: 0
- LensProfileSetup: LensDefaults
- LuminanceAdjustmentAqua: +20
- LuminanceAdjustmentBlue: +8
- LuminanceAdjustmentGreen: +4
- LuminanceAdjustmentMagenta: +14
- LuminanceAdjustmentOrange: -4
- LuminanceAdjustmentPurple: +2
- LuminanceAdjustmentRed: +16
- LuminanceAdjustmentYellow: +10
- LuminanceNoiseReductionContrast: 36
- LuminanceNoiseReductionDetail: 10
- LuminanceSmoothing: 37
- ParametricDarks: -45
- ParametricHighlightSplit: 75
- ParametricHighlights: -1
- ParametricLights: -17
- ParametricMidtoneSplit: 50
- ParametricShadowSplit: 25
- ParametricShadows: -39
- PerspectiveAspect: 0
- PerspectiveHorizontal: 0
- PerspectiveRotate: 0.0
- PerspectiveScale: 100
- PerspectiveUpright: 0
- PerspectiveVertical: 0
- PerspectiveX: 0.00
- PerspectiveY: 0.00
- PostCropVignetteAmount: -11
- PostCropVignetteFeather: 81
- PostCropVignetteHighlightContrast: 0
- PostCropVignetteMidpoint: 0
- PostCropVignetteRoundness: +32
- PostCropVignetteStyle: 1
- ProcessVersion: 6.7
- RedHue: +57
- RedSaturation: +11
- Saturation: +3
- SaturationAdjustmentAqua: +16
- SaturationAdjustmentBlue: +8
- SaturationAdjustmentGreen: 0
- SaturationAdjustmentMagenta: +6
- SaturationAdjustmentOrange: -4
- SaturationAdjustmentPurple: +6
- SaturationAdjustmentRed: -4
- SaturationAdjustmentYellow: -4
- ShadowTint: +25
- Shadows2012: +72
- SharpenDetail: 12
- SharpenEdgeMasking: 32
- SharpenRadius: +0.5
- Sharpness: 124
- SplitToningBalance: +36
- SplitToningHighlightHue: 98
- SplitToningHighlightSaturation: 16
- SplitToningShadowHue: 307
- SplitToningShadowSaturation: 7
- ToneCurve: 0, 0, 255, 255
- ToneCurveBlue: 0, 0, 255, 255
- ToneCurveGreen: 0, 0, 255, 255
- ToneCurveName: Linear
- ToneCurveName2012: Custom
- ToneCurvePV2012: 0, 24, 34, 40, 65, 65, 192, 192, 255, 255
- ToneCurvePV2012Blue: 0, 0, 255, 255
- ToneCurvePV2012Green: 0, 0, 255, 255
- ToneCurvePV2012Red: 0, 0, 37, 39, 93, 93, 255, 255
- ToneCurveRed: 0, 0, 255, 255
- ToneMapStrength: 0
- Version: 9.10
- Vibrance: +3
- VignetteAmount: 0
- WhiteBalance: Custom
- Whites2012: -18
- XMP-dc
- XMP-xmp
- ModifyDate: 2017:09:08 11:04:37+03:00
- XMP-xmpMM
- Просмотров: 75
- Рейтинг: голосов еще нет
- Отзывов: 0