- Раздел: Другое, разное
- Дата съёмки: неизвестно
- Дата загрузки фото: 12.08.2019 20:09
- Оригинальная фотография: 3617 x 2910 (831 Кб)
- Технические характеристики:
- Фотоаппарат: Panasonic DMC-G85
- Выдержка: 0,0
- Гиперфокальное расстояние: inf m
- Диафрагма: 5,6
- Светочувствительность: 200
- Фокусное расстояние: 212,0 mm (35 mm equivalent: 424,0 mm)
- Полный EXIF
- Composite
- Aperture: 5,6
- CircleOfConfusion: 0,014 mm
- FOV: 4,0 deg
- FocalLength35efl: 212,0 mm (35 mm equivalent: 424,0 mm)
- HyperfocalDistance: inf m
- Megapixels: 10,5
- ScaleFactor35efl: 2,1
- ShutterSpeed: 0,0
- ExifIFD
- ApertureValue: 4,0
- ColorSpace: sRGB
- Contrast: Normal
- CreateDate: 2017:08:19 15:03:16
- CustomRendered: Normal
- DateTimeOriginal: 2017:08:19 15:03:16
- DigitalZoomRatio: 0
- ExifImageHeight: 2910
- ExifImageWidth: 3617
- ExposureCompensation: 0
- ExposureMode: Manual
- ExposureProgram: Manual
- ExposureTime: 0,0
- FNumber: 5,6
- Flash: Off, Did not fire
- FocalLength: 212,0 mm
- FocalLengthIn35mmFormat: 440 mm
- GainControl: Low gain up
- ISO: 200
- LensModel: .7x TAMRON 16-300mm F/3.5-6.3 Di
- LensSerialNumber: R4768200S58X
- LightSource: Unknown
- MaxApertureValue: 4,0
- MeteringMode: Spot
- Saturation: Normal
- SceneCaptureType: Standard
- SceneType: Directly photographed
- SensingMethod: One-chip color area
- SensitivityType: Standard Output Sensitivity
- SerialNumber: XEL1611010109
- Sharpness: Normal
- ShutterSpeedValue: 1/1024
- WhiteBalance: Auto
- ICC-header
- ICC-meas
- ICC-view
- IFD0
- Make: Panasonic
- Model: DMC-G85
- ModifyDate: 2017:08:22 09:41:26
- IFD1
- IPTC
- DateCreated: 2017:08:19
- System
- XMP-aux
- LateralChromaticAberrationCorrectionAlreadyApplied: True
- Lens: .7x TAMRON 16-300mm F/3.5-6.3 Di
- XMP-crs
- AlreadyApplied: True
- AutoLateralCA: 1
- AutoWhiteVersion: 134348800
- Blacks2012: +87
- BlueHue: -48
- BlueSaturation: -30
- CameraProfile: Embedded
- Clarity2012: +27
- ColorNoiseReduction: 7
- ColorNoiseReductionDetail: 0
- ColorNoiseReductionSmoothness: 0
- Contrast2012: -10
- ConvertToGrayscale: False
- DefringeGreenAmount: 0
- DefringeGreenHueHi: 60
- DefringeGreenHueLo: 40
- DefringePurpleAmount: 0
- DefringePurpleHueHi: 70
- DefringePurpleHueLo: 30
- Dehaze: 0
- Exposure2012: +0.16
- GrainAmount: 0
- GreenHue: +50
- GreenSaturation: +32
- HasCrop: False
- HasSettings: True
- Highlights2012: -16
- HueAdjustmentAqua: -6
- HueAdjustmentBlue: +11
- HueAdjustmentGreen: +10
- HueAdjustmentMagenta: 0
- HueAdjustmentOrange: +10
- HueAdjustmentPurple: 0
- HueAdjustmentRed: -21
- HueAdjustmentYellow: -2
- IncrementalTemperature: +3
- IncrementalTint: +12
- LensManualDistortionAmount: 0
- LensProfileEnable: 0
- LensProfileSetup: LensDefaults
- LuminanceAdjustmentAqua: +20
- LuminanceAdjustmentBlue: +14
- LuminanceAdjustmentGreen: +4
- LuminanceAdjustmentMagenta: +14
- LuminanceAdjustmentOrange: -4
- LuminanceAdjustmentPurple: +2
- LuminanceAdjustmentRed: +16
- LuminanceAdjustmentYellow: +10
- LuminanceNoiseReductionContrast: 36
- LuminanceNoiseReductionDetail: 10
- LuminanceSmoothing: 37
- ParametricDarks: -45
- ParametricHighlightSplit: 75
- ParametricHighlights: -1
- ParametricLights: -17
- ParametricMidtoneSplit: 50
- ParametricShadowSplit: 25
- ParametricShadows: -39
- PerspectiveAspect: 0
- PerspectiveHorizontal: 0
- PerspectiveRotate: 0.0
- PerspectiveScale: 100
- PerspectiveUpright: 0
- PerspectiveVertical: 0
- PerspectiveX: 0.00
- PerspectiveY: 0.00
- PostCropVignetteAmount: -11
- PostCropVignetteFeather: 81
- PostCropVignetteHighlightContrast: 0
- PostCropVignetteMidpoint: 0
- PostCropVignetteRoundness: +32
- PostCropVignetteStyle: 1
- ProcessVersion: 6.7
- RedHue: +57
- RedSaturation: +11
- Saturation: 0
- SaturationAdjustmentAqua: +16
- SaturationAdjustmentBlue: +8
- SaturationAdjustmentGreen: 0
- SaturationAdjustmentMagenta: +6
- SaturationAdjustmentOrange: -4
- SaturationAdjustmentPurple: +6
- SaturationAdjustmentRed: -4
- SaturationAdjustmentYellow: -4
- ShadowTint: +25
- Shadows2012: +72
- SharpenDetail: 12
- SharpenEdgeMasking: 32
- SharpenRadius: +0.5
- Sharpness: 124
- SplitToningBalance: +36
- SplitToningHighlightHue: 98
- SplitToningHighlightSaturation: 16
- SplitToningShadowHue: 307
- SplitToningShadowSaturation: 7
- ToneCurve: 0, 0, 255, 255
- ToneCurveBlue: 0, 0, 255, 255
- ToneCurveGreen: 0, 0, 255, 255
- ToneCurveName: Linear
- ToneCurveName2012: Custom
- ToneCurvePV2012: 0, 24, 34, 40, 65, 65, 192, 192, 255, 255
- ToneCurvePV2012Blue: 0, 0, 255, 255
- ToneCurvePV2012Green: 0, 0, 255, 255
- ToneCurvePV2012Red: 0, 0, 37, 39, 93, 93, 255, 255
- ToneCurveRed: 0, 0, 255, 255
- ToneMapStrength: 0
- Version: 9.10
- Vibrance: -8
- VignetteAmount: 0
- WhiteBalance: Custom
- Whites2012: -18
- XMP-dc
- XMP-xmp
- CreateDate: 2017:08:19 15:03:16.690
- ModifyDate: 2017:08:22 09:07:10+03:00
- XMP-xmpMM
- Просмотров: 68
- Рейтинг: голосов еще нет
- Отзывов: 0