- Раздел: Другое, разное
- Дата съёмки: неизвестно
- Дата загрузки фото: 30.09.2019 23:10
- Оригинальная фотография: 4500 x 2232 (6,6 Мб)
- Технические характеристики:
- Фотоаппарат: Kodak DCS Pro 14N
- Выдержка: 8,0
- Диафрагма: 22,0
- Светочувствительность: 6
- Фокусное расстояние: 1,0 mm
- Экспокоррекция: -2
- Полный EXIF
- Adobe
- ColorTransform: YCbCr
- Composite
- Aperture: 22,0
- FocalLength35efl: 1,0 mm
- LightValue: 10,0
- Megapixels: 10,0
- ShutterSpeed: 8,0
- ExifIFD
- ApertureValue: 16,0
- ColorSpace: sRGB
- DateTimeOriginal: 2019:06:15 18:17:28
- ExifImageHeight: 2232
- ExifImageWidth: 4500
- ExposureCompensation: -2
- ExposureIndex: 6
- ExposureProgram: Aperture-priority AE
- ExposureTime: 8,0
- FNumber: 22,0
- Flash: No Flash
- FocalLength: 1,0 mm
- ISO: 6
- LightSource: Unknown
- MaxApertureValue: 1,4
- MeteringMode: Multi-spot
- SensingMethod: One-chip color area
- ShutterSpeedValue: 8,0
- ICC-header
- ICC-meas
- ICC-view
- IFD0
- Make: Kodak
- Model: DCS Pro 14N
- ModifyDate: 2019:07:27 00:00:23
- Orientation: Horizontal (normal)
- IFD1
- IPTC
- DateCreated: 2019:06:15
- System
- XMP-aux
- ImageNumber: 1079
- SerialNumber: P14N-04080
- XMP-crs
- AlreadyApplied: True
- BlueHue: 0
- BlueSaturation: 0
- Brightness: +50
- CameraProfile: ACR 4.4
- ChromaticAberrationB: 0
- ChromaticAberrationR: 0
- Clarity: 0
- ColorNoiseReduction: 25
- ColorNoiseReductionDetail: 50
- ColorTemperature: 5050
- Contrast: +25
- ConvertToGrayscale: False
- Defringe: 0
- Exposure: +0.20
- FillLight: 0
- GrainAmount: 0
- GreenHue: 0
- GreenSaturation: 0
- HasCrop: False
- HasSettings: True
- HighlightRecovery: 0
- HueAdjustmentAqua: 0
- HueAdjustmentBlue: 0
- HueAdjustmentGreen: 0
- HueAdjustmentMagenta: +28
- HueAdjustmentOrange: 0
- HueAdjustmentPurple: +8
- HueAdjustmentRed: 0
- HueAdjustmentYellow: 0
- LuminanceAdjustmentAqua: 0
- LuminanceAdjustmentBlue: 0
- LuminanceAdjustmentGreen: 0
- LuminanceAdjustmentMagenta: 0
- LuminanceAdjustmentOrange: 0
- LuminanceAdjustmentPurple: 0
- LuminanceAdjustmentRed: 0
- LuminanceAdjustmentYellow: 0
- LuminanceSmoothing: 0
- ParametricDarks: 0
- ParametricHighlightSplit: 75
- ParametricHighlights: 0
- ParametricLights: 0
- ParametricMidtoneSplit: 50
- ParametricShadowSplit: 25
- ParametricShadows: 0
- PostCropVignetteAmount: 0
- ProcessVersion: 5.7
- RawFileName: D35Q1079.DCR
- RedHue: 0
- RedSaturation: 0
- Saturation: +28
- SaturationAdjustmentAqua: 0
- SaturationAdjustmentBlue: 0
- SaturationAdjustmentGreen: 0
- SaturationAdjustmentMagenta: 0
- SaturationAdjustmentOrange: 0
- SaturationAdjustmentPurple: 0
- SaturationAdjustmentRed: 0
- SaturationAdjustmentYellow: 0
- ShadowTint: 0
- Shadows: 5
- SharpenDetail: 25
- SharpenEdgeMasking: 0
- SharpenRadius: +1.0
- Sharpness: 25
- SplitToningBalance: 0
- SplitToningHighlightHue: 0
- SplitToningHighlightSaturation: 0
- SplitToningShadowHue: 0
- SplitToningShadowSaturation: 0
- Tint: -3
- ToneCurve: 0, 0, 32, 22, 64, 56, 128, 128, 192, 196, 255, 255
- ToneCurveName: Medium Contrast
- Version: 6.0
- Vibrance: +19
- VignetteAmount: 0
- WhiteBalance: As Shot
- XMP-dc
- XMP-xmp
- CreateDate: 2019:06:15 18:17:28+03:00
- CreatorTool: 5.4.9
- ModifyDate: 2019:07:27 00:00:23+03:00
- Rating: 0
- XMP-xmpMM
- Просмотров: 122
- Рейтинг: голосов еще нет
- Отзывов: отключены