- Раздел: Другое, разное
- Дата съёмки: неизвестно
- Дата загрузки фото: 30.09.2019 23:10
- Оригинальная фотография: 3951 x 2970 (6,4 Мб)
- Технические характеристики:
- Фотоаппарат: Kodak DCS Pro 14N
- Выдержка: 0,0
- Светочувствительность: 80
- Фокусное расстояние: 1,0 mm
- Экспокоррекция: -1
- Полный EXIF
- Adobe
- ColorTransform: YCbCr
- Composite
- FocalLength35efl: 1,0 mm
- Megapixels: 11,7
- ShutterSpeed: 0,0
- ExifIFD
- ColorSpace: sRGB
- DateTimeOriginal: 2019:06:16 10:34:30
- ExifImageHeight: 2970
- ExifImageWidth: 3951
- ExposureCompensation: -1
- ExposureIndex: 80
- ExposureProgram: Manual
- ExposureTime: 0,0
- Flash: No Flash
- FocalLength: 1,0 mm
- ISO: 80
- LightSource: Unknown
- MaxApertureValue: 1,0
- MeteringMode: Multi-spot
- SensingMethod: One-chip color area
- ShutterSpeedValue: 1/512
- ICC-header
- ICC-meas
- ICC-view
- IFD0
- Make: Kodak
- Model: DCS Pro 14N
- ModifyDate: 2019:08:14 20:59:51
- Orientation: Horizontal (normal)
- IFD1
- IPTC
- DateCreated: 2019:06:16
- System
- XMP-aux
- ImageNumber: 1110
- SerialNumber: P14N-04080
- XMP-crs
- AlreadyApplied: True
- BlueHue: 0
- BlueSaturation: 0
- Brightness: +50
- CameraProfile: ACR 4.4
- ChromaticAberrationB: 0
- ChromaticAberrationR: 0
- Clarity: 0
- ColorNoiseReduction: 25
- ColorNoiseReductionDetail: 50
- ColorTemperature: 5050
- Contrast: +29
- ConvertToGrayscale: False
- CropAngle: 0
- CropBottom: 1
- CropLeft: 0
- CropRight: 0.878
- CropTop: 0.01
- Defringe: 0
- Exposure: +0.45
- FillLight: 0
- GrainAmount: 0
- GreenHue: 0
- GreenSaturation: 0
- HasCrop: True
- HasSettings: True
- HighlightRecovery: 0
- HueAdjustmentAqua: 0
- HueAdjustmentBlue: -3
- HueAdjustmentGreen: 0
- HueAdjustmentMagenta: +2
- HueAdjustmentOrange: 0
- HueAdjustmentPurple: 0
- HueAdjustmentRed: 0
- HueAdjustmentYellow: 0
- LuminanceAdjustmentAqua: 0
- LuminanceAdjustmentBlue: -9
- LuminanceAdjustmentGreen: +8
- LuminanceAdjustmentMagenta: 0
- LuminanceAdjustmentOrange: 0
- LuminanceAdjustmentPurple: 0
- LuminanceAdjustmentRed: 0
- LuminanceAdjustmentYellow: 0
- LuminanceSmoothing: 0
- ParametricDarks: 0
- ParametricHighlightSplit: 75
- ParametricHighlights: 0
- ParametricLights: 0
- ParametricMidtoneSplit: 50
- ParametricShadowSplit: 25
- ParametricShadows: 0
- PostCropVignetteAmount: 0
- ProcessVersion: 5.7
- RawFileName: D35Q1110.DCR
- RedHue: 0
- RedSaturation: 0
- Saturation: 0
- SaturationAdjustmentAqua: 0
- SaturationAdjustmentBlue: +17
- SaturationAdjustmentGreen: +5
- SaturationAdjustmentMagenta: -38
- SaturationAdjustmentOrange: 0
- SaturationAdjustmentPurple: -36
- SaturationAdjustmentRed: 0
- SaturationAdjustmentYellow: 0
- ShadowTint: 0
- Shadows: 5
- SharpenDetail: 25
- SharpenEdgeMasking: 0
- SharpenRadius: +0.8
- Sharpness: 6
- SplitToningBalance: 0
- SplitToningHighlightHue: 0
- SplitToningHighlightSaturation: 0
- SplitToningShadowHue: 0
- SplitToningShadowSaturation: 0
- Tint: -5
- ToneCurve: 0, 0, 32, 22, 64, 56, 128, 128, 192, 196, 255, 255
- ToneCurveName: Medium Contrast
- Version: 6.0
- Vibrance: 0
- VignetteAmount: +18
- VignetteMidpoint: 29
- WhiteBalance: Custom
- XMP-dc
- XMP-xmp
- CreateDate: 2019:06:16 10:34:30+03:00
- CreatorTool: 5.4.9
- ModifyDate: 2019:08:14 20:59:51+03:00
- Rating: 0
- XMP-xmpMM
- Просмотров: 124
- Рейтинг: голосов еще нет
- Отзывов: отключены