- Раздел: Город
- Дата съёмки: 21.07.2007 17:51
- Дата загрузки фото: 25.09.2007 21:37
- Оригинальная фотография: 3434 x 2273 (3,2 Мб)
- Технические характеристики:
- Фотоаппарат: Canon EOS 350D DIGITAL
- Выдержка: 1/125
- Гиперфокальное расстояние: 1,68 m
- Диафрагма: 13,0
- Светочувствительность: 100
- Фокусное расстояние: 20,0mm (35mm эквивалент: 32,7mm)
- Экспокоррекция: -2/3
- Полный EXIF
- ColorTransform: YCbCr
- Composite
- Aperture: 13,0
- CircleOfConfusion: 0,018 mm
- EV: 14,4
- FocalLength35efl: 20,0mm (35mm equivalent: 32,7mm)
- HyperfocalDistance: 1,68 m
- ScaleFactor35efl: 1,6
- ShutterSpeed: 1/125
- ExifIFD
- ApertureValue: 13,0
- ColorSpace: sRGB
- CreateDate: 2007:07:15 17:24:07
- CustomRendered: Normal
- DateTimeOriginal: 2007:07:15 17:24:07
- ExifImageLength: 2273
- ExifImageWidth: 3434
- ExposureCompensation: -2/3
- ExposureMode: Auto
- ExposureProgram: Aperture-priority AE
- ExposureTime: 1/125
- FNumber: 13,0
- Flash: Off
- FocalLength: 20,0mm
- ISO: 100
- MaxApertureValue: 5,6
- MeteringMode: Partial
- SceneCaptureType: Standard
- ShutterSpeedValue: 1/125
- WhiteBalance: Auto
- ICC-header
- ICC-meas
- ICC-view
- IFD0
- Artist: Yuras
- Make: Canon
- Model: Canon EOS 350D DIGITAL
- ModifyDate: 2007:07:21 17:51:41
- Orientation: Horizontal (normal)
- TimeZoneOffset: 3 3
- IFD1
- IPTC
- By-line: Yuras
- XMP-aux
- Firmware: 1.0.3
- FlashCompensation: 0
- ImageNumber: 245
- Lens: 10.0-20.0 mm
- LensInfo: 10
- OwnerName: Yuras
- SerialNumber: 230102161
- XMP-crs
- AlreadyApplied: True
- BlueHue: -10
- BlueSaturation: 0
- Brightness: +76
- CameraProfile: ACR 3.6
- ChromaticAberrationB: 0
- ChromaticAberrationR: 0
- ColorNoiseReduction: 40
- Contrast: +25
- ConvertToGrayscale: False
- Exposure: -0.10
- FillLight: 0
- GreenHue: +2
- GreenSaturation: -5
- HasCrop: False
- HasSettings: True
- HighlightRecovery: 0
- HueAdjustmentAqua: 0
- HueAdjustmentBlue: 0
- HueAdjustmentGreen: 0
- HueAdjustmentMagenta: 0
- HueAdjustmentOrange: 0
- HueAdjustmentPurple: 0
- HueAdjustmentRed: 0
- HueAdjustmentYellow: +22
- LuminanceAdjustmentAqua: 0
- LuminanceAdjustmentBlue: 0
- LuminanceAdjustmentGreen: 0
- LuminanceAdjustmentMagenta: 0
- LuminanceAdjustmentOrange: 0
- LuminanceAdjustmentPurple: 0
- LuminanceAdjustmentRed: 0
- LuminanceAdjustmentYellow: 0
- LuminanceSmoothing: 0
- ParametricDarks: 0
- ParametricHighlightSplit: 75
- ParametricHighlights: 0
- ParametricLights: 0
- ParametricMidtoneSplit: 50
- ParametricShadowSplit: 25
- ParametricShadows: 0
- RawFileName: IMG_4853.CR2
- RedHue: -9
- RedSaturation: +3
- Saturation: 0
- SaturationAdjustmentAqua: 0
- SaturationAdjustmentBlue: 0
- SaturationAdjustmentGreen: 0
- SaturationAdjustmentMagenta: 0
- SaturationAdjustmentOrange: 0
- SaturationAdjustmentPurple: 0
- SaturationAdjustmentRed: 0
- SaturationAdjustmentYellow: 0
- ShadowTint: 0
- Shadows: 2
- Sharpness: 0
- SplitToningBalance: 0
- SplitToningHighlightHue: 0
- SplitToningHighlightSaturation: 0
- SplitToningShadowHue: 0
- SplitToningShadowSaturation: 0
- Temperature: 5550
- Tint: +12
- ToneCurve: 0, 0, 32, 22, 64, 56, 128, 128, 192, 196, 255, 255
- ToneCurveName: Medium Contrast
- Version: 3.7
- Vibrance: 0
- VignetteAmount: +5
- VignetteMidpoint: 43
- WhiteBalance: As Shot
- XMP-dc
- Creator: Yuras
- Format: image/jpeg
- XMP-exif
- DateTimeDigitized: 2007:07:15 17:24:07+03:00
- DateTimeOriginal: 2007:07:15 17:24:07+03:00
- ExifImageHeight: 2273
- FlashFired: False
- FlashFunction: False
- FlashMode: Off
- FlashRedEyeMode: False
- FlashReturn: No return detection
- XMP-tiff
- XMP-xmp
- CreateDate: 2007:07:21 17:51:41+03:00
- ModifyDate: 2007:07:21 17:51:41+03:00
- Rating: 0
- XMP-xmpMM