- Раздел: Другое, разное
- Дата съёмки: 24.09.2007 21:51
- Дата загрузки фото: 26.09.2007 14:27
- Оригинальная фотография: 3072 x 2048 (658 Кб)
- Технические характеристики:
- Фотоаппарат: Canon EOS 10D
- Выдержка: 1/1250
- Диафрагма: 5,0
- Светочувствительность: 200
- Фокусное расстояние: 200,0mm
- Экспокоррекция: -1
- Полный EXIF
- ColorTransform: YCbCr
- Composite
- Aperture: 5,0
- EV: 13,9
- FocalLength35efl: 200,0mm
- ShutterSpeed: 1/1250
- ExifIFD
- ApertureValue: 5,0
- ColorSpace: sRGB
- CreateDate: 2007:09:23 15:03:24
- DateTimeOriginal: 2007:09:23 15:03:24
- ExifImageLength: 2048
- ExifImageWidth: 3072
- ExposureCompensation: -1
- ExposureProgram: Aperture-priority AE
- ExposureTime: 1/1250
- FNumber: 5,0
- Flash: No Flash
- FocalLength: 200,0mm
- ISO: 200
- MaxApertureValue: 2,8
- MeteringMode: Multi-segment
- ShutterSpeedValue: 1/1250
- ICC-header
- ICC-meas
- ICC-view
- IFD0
- Artist: Alex Usenko
- Make: Canon
- Model: Canon EOS 10D
- ModifyDate: 2007:09:24 21:51:40
- Orientation: Horizontal (normal)
- TimeZoneOffset: 2 2
- IFD1
- IPTC
- By-line: Alex Usenko
- XMP-aux
- Firmware: 2.0.0
- Lens: 80.0-200.0 mm
- LensInfo: 80
- OwnerName: Alex Usenko
- SerialNumber: 0930306593
- XMP-crs
- AlreadyApplied: True
- BlueHue: 0
- BlueSaturation: 0
- Brightness: +46
- CameraProfile: ACR 2.4
- ChromaticAberrationB: 0
- ChromaticAberrationR: 0
- Clarity: 10
- ColorNoiseReduction: 50
- Contrast: +50
- ConvertToGrayscale: False
- Defringe: 0
- Exposure: +0.65
- FillLight: 0
- GreenHue: 0
- GreenSaturation: 0
- HasCrop: False
- HasSettings: True
- HighlightRecovery: 0
- HueAdjustmentAqua: 0
- HueAdjustmentBlue: 0
- HueAdjustmentGreen: 0
- HueAdjustmentMagenta: 0
- HueAdjustmentOrange: 0
- HueAdjustmentPurple: 0
- HueAdjustmentRed: 0
- HueAdjustmentYellow: 0
- LuminanceAdjustmentAqua: 0
- LuminanceAdjustmentBlue: 0
- LuminanceAdjustmentGreen: 0
- LuminanceAdjustmentMagenta: 0
- LuminanceAdjustmentOrange: 0
- LuminanceAdjustmentPurple: 0
- LuminanceAdjustmentRed: 0
- LuminanceAdjustmentYellow: 0
- LuminanceSmoothing: 0
- ParametricDarks: 0
- ParametricHighlightSplit: 75
- ParametricHighlights: 0
- ParametricLights: 0
- ParametricMidtoneSplit: 50
- ParametricShadowSplit: 25
- ParametricShadows: 0
- RawFileName: CRW_6515.CRW
- RedHue: 0
- RedSaturation: 0
- Saturation: 0
- SaturationAdjustmentAqua: 0
- SaturationAdjustmentBlue: 0
- SaturationAdjustmentGreen: 0
- SaturationAdjustmentMagenta: 0
- SaturationAdjustmentOrange: 0
- SaturationAdjustmentPurple: 0
- SaturationAdjustmentRed: 0
- SaturationAdjustmentYellow: 0
- ShadowTint: 0
- Shadows: 0
- SharpenDetail: 25
- SharpenEdgeMasking: 0
- SharpenRadius: +1.0
- Sharpness: 0
- SplitToningBalance: 0
- SplitToningHighlightHue: 0
- SplitToningHighlightSaturation: 0
- SplitToningShadowHue: 0
- SplitToningShadowSaturation: 0
- Temperature: 5100
- Tint: +1
- ToneCurve: 0, 0, 32, 22, 64, 56, 128, 128, 192, 196, 255, 255
- ToneCurveName: Medium Contrast
- Version: 4.1
- Vibrance: +28
- VignetteAmount: 0
- WhiteBalance: As Shot
- XMP-dc
- Creator: Alex Usenko
- Format: image/jpeg
- XMP-exif
- DateTimeDigitized: 2007:09:23 15:03:24+02:00
- DateTimeOriginal: 2007:09:23 15:03:24+02:00
- ExifImageHeight: 2048
- FlashFired: False
- XMP-tiff
- XMP-xmp
- CreateDate: 2007:09:24 21:51:40+02:00
- ModifyDate: 2007:09:24 21:51:40+02:00
- Rating: 0
- XMP-xmpMM
- DerivedFrom:
- Просмотров: 1124
- Рейтинг: голосов еще нет
- Отзывов: 0