- Раздел: Другое, разное
- Дата съёмки: неизвестно
- Дата загрузки фото: 06.01.2020 17:18
- Оригинальная фотография: 3840 x 2160 (3,6 Мб)
- Технические характеристики:
- Фотоаппарат: Meizu 16
- Выдержка: 0,0
- Гиперфокальное расстояние: inf m
- Диафрагма: 1,8
- Светочувствительность: 68
- Фокусное расстояние: 4,0 mm (35 mm equivalent: 24,0 mm)
- Полный EXIF
- Adobe
- ColorTransform: YCbCr
- Composite
- Aperture: 1,8
- CircleOfConfusion: 0,005 mm
- DOF: inf (0,00 m - inf)
- FOV: 73,0 deg
- FocalLength35efl: 4,0 mm (35 mm equivalent: 24,0 mm)
- GPSAltitude: 42 m Above Sea Level
- GPSDateTime: 2020:01:06 09:27:14Z
- GPSLatitude: 59 deg 54' 52,00" N
- GPSLongitude: 30 deg 28' 34,00" E
- GPSPosition: 59 deg 54' 52,00" N, 30 deg 28' 34,00" E
- HyperfocalDistance: inf m
- Megapixels: 8,3
- ScaleFactor35efl: 6,2
- ShutterSpeed: 0,0
- ExifIFD
- ApertureValue: 1,4
- BrightnessValue: -1,08
- ColorSpace: sRGB
- Contrast: Normal
- CreateDate: 2020:01:06 12:27:18
- CustomRendered: Custom
- DateTimeOriginal: 2020:01:06 12:27:18
- DigitalZoomRatio: 0
- ExifImageHeight: 2160
- ExifImageWidth: 3840
- ExposureCompensation: 0
- ExposureMode: Auto
- ExposureProgram: Program AE
- ExposureTime: 0,0
- FNumber: 1,8
- Flash: Off, Did not fire
- FocalLength: 4,0 mm
- FocalLengthIn35mmFormat: 25 mm
- ISO: 68
- MaxApertureValue: 1,4
- MeteringMode: Center-weighted average
- Saturation: Normal
- SceneCaptureType: Standard
- SceneType: Directly photographed
- SensingMethod: One-chip color area
- Sharpness: Normal
- ShutterSpeedValue: 1/4
- SubjectDistance: 2,22 m
- SubjectDistanceRange: Close
- WhiteBalance: Auto
- GPS
- GPSAltitude: 42,59 m
- GPSAltitudeRef: Above Sea Level
- GPSDOP: 37,265
- GPSDateStamp: 2020:01:06
- GPSLatitude: 59 deg 54' 52,00"
- GPSLatitudeRef: North
- GPSLongitude: 30 deg 28' 34,00"
- GPSLongitudeRef: East
- GPSProcessingMethod: fused
- GPSTimeStamp: 09:27:14
- GPSVersionID: 2.2.0.0
- ICC-header
- ICC-meas
- ICC-view
- IFD0
- Make: Meizu
- Model: 16
- ModifyDate: 2020:01:06 17:14:43
- Orientation: Horizontal (normal)
- IFD1
- IPTC
- DateCreated: 2020:01:06
- System
- XMP-GCamera
- SpecialTypeID: com.google.android.apps.camera.gallery.specialtype.SpecialType-NIGHT
- XMP-aux
- ApproximateFocusDistance: 2,22
- XMP-crs
- AlreadyApplied: True
- AutoLateralCA: 0
- Blacks2012: +35
- BlueHue: 0
- BlueSaturation: 0
- CameraProfile: Embedded
- Clarity2012: +15
- ColorNoiseReduction: 0
- Contrast2012: 0
- ConvertToGrayscale: False
- DefringeGreenAmount: 0
- DefringeGreenHueHi: 60
- DefringeGreenHueLo: 40
- DefringePurpleAmount: 0
- DefringePurpleHueHi: 70
- DefringePurpleHueLo: 30
- Dehaze: 0
- Exposure2012: 0.00
- GrainAmount: 0
- GreenHue: 0
- GreenSaturation: 0
- HasCrop: False
- HasSettings: True
- Highlights2012: -50
- HueAdjustmentAqua: 0
- HueAdjustmentBlue: 0
- HueAdjustmentGreen: 0
- HueAdjustmentMagenta: 0
- HueAdjustmentOrange: 0
- HueAdjustmentPurple: 0
- HueAdjustmentRed: 0
- HueAdjustmentYellow: 0
- IncrementalTemperature: 0
- IncrementalTint: 0
- LensManualDistortionAmount: 0
- LensProfileEnable: 0
- LensProfileSetup: LensDefaults
- LuminanceAdjustmentAqua: 0
- LuminanceAdjustmentBlue: 0
- LuminanceAdjustmentGreen: 0
- LuminanceAdjustmentMagenta: 0
- LuminanceAdjustmentOrange: 0
- LuminanceAdjustmentPurple: 0
- LuminanceAdjustmentRed: 0
- LuminanceAdjustmentYellow: 0
- LuminanceNoiseReductionContrast: 0
- LuminanceNoiseReductionDetail: 50
- LuminanceSmoothing: 1
- OverrideLookVignette: False
- ParametricDarks: 0
- ParametricHighlightSplit: 75
- ParametricHighlights: 0
- ParametricLights: 0
- ParametricMidtoneSplit: 50
- ParametricShadowSplit: 25
- ParametricShadows: 0
- PerspectiveAspect: 0
- PerspectiveHorizontal: 0
- PerspectiveRotate: 0.0
- PerspectiveScale: 100
- PerspectiveUpright: 0
- PerspectiveVertical: 0
- PerspectiveX: 0.00
- PerspectiveY: 0.00
- PostCropVignetteAmount: 0
- ProcessVersion: 11.0
- RedHue: 0
- RedSaturation: 0
- Saturation: 0
- SaturationAdjustmentAqua: 0
- SaturationAdjustmentBlue: 0
- SaturationAdjustmentGreen: 0
- SaturationAdjustmentMagenta: 0
- SaturationAdjustmentOrange: 0
- SaturationAdjustmentPurple: 0
- SaturationAdjustmentRed: 0
- SaturationAdjustmentYellow: 0
- ShadowTint: 0
- Shadows2012: -100
- SharpenDetail: 10
- SharpenEdgeMasking: 0
- SharpenRadius: +0.5
- Sharpness: 35
- SplitToningBalance: 0
- SplitToningHighlightHue: 0
- SplitToningHighlightSaturation: 0
- SplitToningShadowHue: 0
- SplitToningShadowSaturation: 0
- Texture: +15
- ToneCurve: 0, 0, 255, 255
- ToneCurveBlue: 0, 0, 255, 255
- ToneCurveGreen: 0, 0, 255, 255
- ToneCurveName: Linear
- ToneCurveName2012: Linear
- ToneCurvePV2012: 0, 0, 255, 255
- ToneCurvePV2012Blue: 0, 0, 255, 255
- ToneCurvePV2012Green: 0, 0, 255, 255
- ToneCurvePV2012Red: 0, 0, 255, 255
- ToneCurveRed: 0, 0, 255, 255
- ToneMapStrength: 0
- Version: 12.0
- Vibrance: 0
- VignetteAmount: 0
- WhiteBalance: As Shot
- Whites2012: 0
- XMP-dc
- XMP-xmp
- CreatorTool: HDR+ 1.0.220943774n
- ModifyDate: 2020:01:06 17:14:43+03:00
- XMP-xmpMM
- Просмотров: 278
- Рейтинг: голосов еще нет
- Отзывов: 0