- Раздел: Другое, разное
- Дата съёмки: неизвестно
- Дата загрузки фото: 08.01.2020 18:32
- Оригинальная фотография: 3992 x 5976 (6,9 Мб)
- Технические характеристики:
- Фотоаппарат: Leica Camera AG LEICA M MONOCHROM (Typ 246)
- Выдержка: 0,0
- Гиперфокальное расстояние: inf m
- Диафрагма: 1,7
- Светочувствительность: 320
- Фокусное расстояние: 35,0 mm
- Полный EXIF
- Adobe
- ColorTransform: Unknown (RGB or CMYK)
- Composite
- Aperture: 1,7
- CircleOfConfusion: 0,030 mm
- FocalLength35efl: 35,0 mm
- GPSAltitude: 0 m Above Sea Level
- GPSDateTime: 2000:00:00 00:00:00Z
- GPSLatitude: 55 deg 41' 8,00" N
- GPSLongitude: 37 deg 41' 23,00" E
- GPSPosition: 55 deg 41' 8,00" N, 37 deg 41' 23,00" E
- HyperfocalDistance: inf m
- Megapixels: 23,9
- ScaleFactor35efl: 1,0
- ShutterSpeed: 0,0
- ExifIFD
- ApertureValue: 1,4
- ColorSpace: sRGB
- Contrast: High
- CreateDate: 2020:01:02 15:05:00
- CustomRendered: Normal
- DateTimeOriginal: 2020:01:02 15:05:00
- DigitalZoomRatio: 0
- ExifImageHeight: 5976
- ExifImageWidth: 3992
- ExposureCompensation: 0
- ExposureMode: Auto
- ExposureProgram: Aperture-priority AE
- ExposureTime: 0,0
- FNumber: 1,7
- Flash: No Flash
- FocalLength: 35,0 mm
- ISO: 320
- Lens: Voigtlander NOKTON Classic 35mm f1.4 II MC
- LensInfo: 35mm f/1.4-16
- LensMake: COSINA CO.,LTD.
- LensModel: Voigtlander NOKTON Classic 35mm f1.4 II MC
- LightSource: Unknown
- MaxApertureValue: 1,0
- MeteringMode: Center-weighted average
- SceneCaptureType: Standard
- SceneType: Directly photographed
- Sharpness: Hard
- ShutterSpeedValue: 1/128
- UserComment: LEICA M MONOCHROM (Typ 246) + Voigtlander NOKTON Classic 35mm f1.4 II MC
- GPS
- GPSAltitude: 0 m
- GPSAltitudeRef: Above Sea Level
- GPSDOP: 0
- GPSDateStamp: 2000:00:00
- GPSLatitude: 55 deg 41' 8,00"
- GPSLatitudeRef: North
- GPSLongitude: 37 deg 41' 23,00"
- GPSLongitudeRef: East
- GPSSpeed: 0
- GPSStatus: Measurement Void
- GPSTimeStamp: 00:00:00
- GPSTrack: 0
- GPSVersionID: 2.2.0.0
- ICC-header
- IFD0
- Artist: muar@
- Copyright: muar@
- ImageDescription: LEICA M MONOCHROM (Typ 246) + Voigtlander NOKTON Classic 35mm f1.4 II MC
- Make: Leica Camera AG
- Model: LEICA M MONOCHROM (Typ 246)
- ModifyDate: 2020:01:07 13:38:13
- Orientation: Horizontal (normal)
- IFD1
- IPTC
- By-line: muar@
- City: Moscow
- Country-PrimaryLocationCode: RUS
- DateCreated: 2020:01:02
- Keywords: LEICA M MONOCHROM (Typ 246), Moscow, Russia, Voigtlander NOKTON Classic 35mm f1.4 II MC
- System
- XMP-aux
- LensSerialNumber: -------
- XMP-crs
- AlreadyApplied: True
- Blacks2012: 0
- Clarity2012: +5
- Contrast2012: +16
- ConvertToGrayscale: False
- Dehaze: 0
- Exposure2012: 0.00
- GrainAmount: 0
- HasCrop: False
- HasSettings: True
- Highlights2012: 0
- LensManualDistortionAmount: 0
- LensProfileEnable: 0
- LensProfileSetup: LensDefaults
- LuminanceNoiseReductionContrast: 0
- LuminanceNoiseReductionDetail: 50
- LuminanceSmoothing: 8
- OverrideLookVignette: False
- ParametricDarks: 0
- ParametricHighlightSplit: 75
- ParametricHighlights: 0
- ParametricLights: 0
- ParametricMidtoneSplit: 50
- ParametricShadowSplit: 25
- ParametricShadows: 0
- PerspectiveAspect: 0
- PerspectiveHorizontal: 0
- PerspectiveRotate: 0.0
- PerspectiveScale: 100
- PerspectiveUpright: 0
- PerspectiveVertical: 0
- PerspectiveX: 0.00
- PerspectiveY: 0.00
- PostCropVignetteAmount: 0
- ProcessVersion: 11.0
- Shadows2012: 0
- SharpenDetail: 46
- SharpenEdgeMasking: 16
- SharpenRadius: +0.8
- Sharpness: 0
- SplitToningBalance: 0
- SplitToningHighlightHue: 0
- SplitToningHighlightSaturation: 0
- SplitToningShadowHue: 0
- SplitToningShadowSaturation: 0
- Texture: 0
- ToneCurve: 0, 0, 32, 22, 64, 56, 128, 128, 192, 196, 255, 255
- ToneCurveBlue: 0, 0, 255, 255
- ToneCurveGreen: 0, 0, 255, 255
- ToneCurveName: Medium Contrast
- ToneCurveName2012: Linear
- ToneCurvePV2012: 0, 0, 255, 255
- ToneCurvePV2012Blue: 0, 0, 255, 255
- ToneCurvePV2012Green: 0, 0, 255, 255
- ToneCurvePV2012Red: 0, 0, 255, 255
- ToneCurveRed: 0, 0, 255, 255
- ToneMapStrength: 0
- Version: 12.0
- VignetteAmount: 0
- Whites2012: 0
- XMP-dc
- Creator: muar@
- Format: image/jpeg
- XMP-exifEX
- LensMake: Leica Camera AG
- LensModel: Summilux-M 1:1.4/35
- XMP-prism
- Keyword: Moscow, LEICA M MONOCHROM (Typ 246), Russia, BW, Monochrom, blackwhite, Voigtlander NOKTON Classic 35mm f1.4 II MC
- XMP-x
- XMP-xmp
- CreateDate: 2020:01:02 15:05
- CreatorTool: 1.0.2.0
- ModifyDate: 2020:01:07 13:38:13+03:00
- XMP-xmpMM
- Просмотров: 140
- Рейтинг: голосов еще нет
- Отзывов: отключены