- Раздел: Другое, разное
- Дата съёмки: неизвестно
- Дата загрузки фото: 10.02.2020 18:00
- Оригинальная фотография: 6240 x 4160 (3,3 Мб)
- Технические характеристики:
- Фотоаппарат: Canon EOS 6D Mark II
- Выдержка: 0,0
- Гиперфокальное расстояние: inf m
- Диафрагма: 5,6
- Светочувствительность: 3200
- Фокусное расстояние: 220,0 mm (35 mm equivalent: 220,0 mm)
- Полный EXIF
- Canon
- AEBBracketValue: 0
- AFAreaHeights: 203 203 203 203 203 203 203 203 203 203 203 203 203 203 203 203 203 203 203 203 203 203 203 203 203 203 203 203 203 203 203 203 203 203 203 203 203 203 203 203 203 203 203 203 203 0 0 0 0 0 0 0 0 0 0 0 0 0 0 0 0 0 0
- AFAreaMode: Large Zone AF
- AFAreaWidths: 203 203 203 203 203 203 203 203 203 203 203 203 203 203 203 203 203 203 203 203 203 203 203 203 203 203 203 203 203 203 203 203 203 203 203 203 203 203 203 203 203 203 203 203 203 0 0 0 0 0 0 0 0 0 0 0 0 0 0 0 0 0 0
- AFAreaXPositions: 929 703 321 0 -321 -703 -929 -1155 703 321 0 -321 -703 -929 -1155 1155 321 0 -321 -703 -929 -1155 1155 929 0 -321 -703 -929 -1155 1155 929 703 -321 -703 -929 -1155 1155 929 703 321 1155 929 703 321 0 0 0 0 0 0 0 0 0 0 0 0 0 0 0 0 0 0 0
- AFAreaYPositions: 451 451 556 556 556 451 451 451 226 278 278 278 226 226 226 451 0 0 0 0 0 0 226 226 -278 -278 -226 -226 -226 0 0 0 -556 -451 -451 -451 -226 -226 -226 -278 -451 -451 -451 -556 -556 0 0 0 0 0 0 0 0 0 0 0 0 0 0 0 0 0 0
- AFImageHeight: 4160
- AFImageWidth: 6240
- AFMicroAdjMode: Adjust by lens
- AFMicroAdjValue: 0
- AFPointsInFocus: 9,16,39
- AFPointsSelected: 2,3,4,9,10,11,16,17,18,24,25,32,39,43,44
- AmbienceSelection: Standard
- AspectRatio: 3:2
- AutoExposureBracketing: Off
- AutoISO: 100
- AutoLightingOptimizer: Off
- BaseISO: 3200
- BlackMaskBottomBorder: 0
- BlackMaskLeftBorder: 0
- BlackMaskRightBorder: 0
- BlackMaskTopBorder: 0
- BracketMode: Off
- BracketShotNumber: 0
- BracketValue: 0
- BulbDuration: 0
- CameraTemperature: 28 C
- CameraType: EOS High-end
- CanonExposureMode: Manual
- CanonFirmwareVersion: Firmware Version 1.0.4
- CanonFlashMode: Off
- CanonImageHeight: 4160
- CanonImageType: Canon EOS 6D Mark II
- CanonImageWidth: 6240
- CanonModelID: Unknown (0x80000406)
- ChromaticAberrationSetting: Off
- ColorDataVersion: 15
- ColorTone: Normal
- ContinuousDrive: Continuous, High
- Contrast: Normal
- ControlMode: Camera Local Control
- CropBottomMargin: 0
- CropLeftMargin: 0
- CropRightMargin: 0
- CropTopMargin: 0
- CroppedImageHeight: 4160
- CroppedImageLeft: 0
- CroppedImageTop: 0
- CroppedImageWidth: 6240
- CustomPictureStyleFileName:
- DaylightSavings: Off
- DigitalZoom: None
- EasyMode: Manual
- ExposureCompensation: 0
- ExposureTime: 1/1024
- FNumber: 5,4
- FisheyeFilter: Off
- FlashActivity: 0
- FlashBits: (none)
- FlashExposureComp: 0
- FlashExposureLock: Off
- FlashGuideNumber: 0
- FocalLength: 220 mm
- FocalUnits: 1/mm
- FocusDistanceLower: 24,74 m
- FocusDistanceUpper: 31,92 m
- FocusMode: AI Servo AF
- FocusRange: Not Known
- GrainyBWFilter: Off
- HDR: Off
- HDREffect: Natural
- HighISONoiseReduction: Standard
- HighlightTonePriority: Off
- InternalSerialNumber: KK0366063
- LensModel: EF100-400mm f/4.5-5.6L IS II USM
- LensSerialNumber: 2400004472
- LensType: Canon EF 100-400mm f/4.5-5.6L IS II USM or Tamron Lens
- LiveViewShooting: Off
- LongExposureNoiseReduction: Off
- MacroMode: Normal
- ManualFlashOutput: n/a
- MaxAperture: 5
- MaxFocalLength: 400 mm
- MeasuredEV: 9,75
- MeasuredEV2: 9,5
- MeasuredRGGB: 606 1024 1024 369
- MeteringMode: Evaluative
- MinAperture: 35
- MinFocalLength: 100 mm
- MiniatureFilter: Off
- MiniatureFilterOrientation: Horizontal
- MiniatureFilterParameter: 0
- MiniatureFilterPosition: 0
- MultiExposure: Off
- MultiExposureControl: Additive
- MultiExposureShots: 0
- NDFilter: n/a
- NumAFPoints: 63
- OpticalZoomCode: n/a
- OwnerName: Dmitriy Larin
- PaintingFilter: Off
- PeripheralIlluminationCorr: On
- PeripheralLightingSetting: Off
- PictureStylePC: Neutral; Neutral; None
- PictureStyleUserDef: PC 1; PC 2; Auto
- Quality: Fine
- RawJpgSize: Large
- RecordMode: CR2
- SRAWQuality: n/a
- Saturation: Normal
- SelfTimer: Off
- SensorBottomBorder: 4215
- SensorHeight: 4224
- SensorLeftBorder: 132
- SensorRightBorder: 6371
- SensorTopBorder: 56
- SensorWidth: 6384
- SequenceNumber: 0
- SlowShutter: None
- SoftFocusFilter: Off
- TargetAperture: 5,7
- TargetExposureTime: 1/1024
- TimeZone: +02:00
- TimeZoneCity: Cairo
- ToyCameraFilter: Off
- VRDOffset: 0
- ValidAFPoints: 45
- VignettingCorrVersion: 16
- WBBracketMode: Off
- WBBracketValueAB: 0
- WBBracketValueGM: 0
- WatercolorFilter: Off
- WhiteBalance: Manual Temperature (Kelvin)
- ZoomSourceWidth: 0
- ZoomTargetWidth: 0
- CanonCustom
- AEBAutoCancel: On
- AEBSequence: 0,-,+
- AEBShotCount: 3 shots
- AFAreaSelectMethod: AF area selection button
- AFAssistBeam: Emits
- AFMicroadjustment: Adjust by lens; 0; 0; 0; 2; 0; 0; 143; 13; 41; 120; 255; 255; 255; 255; 255
- AFPointDisplayDuringFocus: Selected (constant)
- AIServoFirstImagePriority: Equal priority
- AIServoSecondImagePriority: Equal priority
- AIServoTrackingMethod: Main focus point priority
- AIServoTrackingSensitivity: Standard
- AccelerationTracking: 0
- AutoAFPointColorTracking: On-Shot AF only
- CustomControls: 0 0 0 2 0 0 0 0 0 0 0 0 0 0 0 0 0 0 0
- DialDirectionTvAv: Normal
- ExposureLevelIncrements: 1/2 Stop
- ISOSpeedIncrements: 1 Stop
- InitialAFPointAIServoAF: Initial AF point selected
- LensDriveNoAF: Focus search on
- ManualAFPointSelectPattern: Continuous
- OrientationLinkedAFPoint: Select different AF points
- RetractLensOnPowerOff: Enable
- SafetyShift: Disable
- SelectAFAreaSelectMode: Disable; Flags 0x57
- VFDisplayIllumination: Auto; Non-illuminated
- ViewfinderWarnings: Monochrome, WB corrected, [6], [7]
- Composite
- Aperture: 5,6
- CircleOfConfusion: 0,020 mm
- DOF: inf (0,00 m - inf)
- DriveMode: Continuous Shooting
- FOV: 9,0 deg
- Flash: Off, Did not fire
- FocalLength35efl: 220,0 mm (35 mm equivalent: 220,0 mm)
- HyperfocalDistance: inf m
- ISO: 3200
- Lens: 100,0 - 400,0 mm
- Lens35efl: 100,0 - 400,0 mm (35 mm equivalent: 151,9 - 607,6 mm)
- LensID: Canon EF 100-400mm f/4.5-5.6L IS II USM or Tamron Lens
- Megapixels: 26,0
- ScaleFactor35efl: 1,5
- ShootingMode: Manual
- ShutterSpeed: 0,0
- ExifIFD
- ApertureValue: 5,7
- ColorSpace: sRGB
- CreateDate: 2019:10:14 22:02:08
- CustomRendered: Normal
- DateTimeOriginal: 2019:10:14 22:02:08
- ExifImageHeight: 4160
- ExifImageWidth: 6240
- ExposureMode: Manual
- ExposureProgram: Manual
- ExposureTime: 0,0
- FNumber: 5,6
- FocalLength: 220,0 mm
- LensInfo: 100-400mm f/0
- MeteringMode: Multi-segment
- RecommendedExposureIndex: 3200
- SceneCaptureType: Standard
- SensitivityType: Recommended Exposure Index
- SerialNumber: 158052000629
- ShutterSpeedValue: 1/1024
- SubjectDistance: 31,92 m
- UserComment:
- WhiteBalance: Manual
- GPS
- IFD0
- Artist: Dmitriy Larin
- Copyright: Dmitriy Larin
- Make: Canon
- Model: Canon EOS 6D Mark II
- ModifyDate: 2019:10:14 22:02:08
- Orientation: Horizontal (normal)
- Software: DxO PhotoLab 2.2.2
- IFD1
- System
- XMP-aux
- ApproximateFocusDistance: 27,9
- Firmware: 1.0.4
- FlashCompensation: 0
- ImageNumber: 0
- Lens: EF100-400mm f/4.5-5.6L IS II USM
- LensID: 747
- LensInfo: 100-400mm f/?
- XMP-crs
- AlreadyApplied: True
- AutoLateralCA: 0
- Blacks2012: 0
- BlueHue: 0
- BlueSaturation: 0
- CameraProfile: Camera Standard
- Clarity2012: 0
- ColorNoiseReduction: 25
- ColorNoiseReductionDetail: 50
- ColorNoiseReductionSmoothness: 50
- ColorTemperature: 4900
- Contrast2012: 0
- ConvertToGrayscale: False
- CropAngle: 0
- CropBottom: 1
- CropConstrainToWarp: 1
- CropHeight: 3
- CropLeft: 0.127325
- CropRight: 0.965308
- CropTop: 0.162017
- CropUnit: Unknown (3)
- CropWidth: 2
- DefringeGreenAmount: 0
- DefringeGreenHueHi: 60
- DefringeGreenHueLo: 40
- DefringePurpleAmount: 0
- DefringePurpleHueHi: 70
- DefringePurpleHueLo: 30
- Dehaze: 0
- Exposure2012: +0.15
- GrainAmount: 0
- GreenHue: 0
- GreenSaturation: 0
- HasCrop: True
- HasSettings: True
- Highlights2012: 0
- HueAdjustmentAqua: 0
- HueAdjustmentBlue: 0
- HueAdjustmentGreen: 0
- HueAdjustmentMagenta: 0
- HueAdjustmentOrange: 0
- HueAdjustmentPurple: 0
- HueAdjustmentRed: 0
- HueAdjustmentYellow: 0
- LensManualDistortionAmount: 0
- LensProfileEnable: 0
- LensProfileSetup: LensDefaults
- LookName:
- LuminanceAdjustmentAqua: 0
- LuminanceAdjustmentBlue: 0
- LuminanceAdjustmentGreen: 0
- LuminanceAdjustmentMagenta: 0
- LuminanceAdjustmentOrange: 0
- LuminanceAdjustmentPurple: 0
- LuminanceAdjustmentRed: 0
- LuminanceAdjustmentYellow: 0
- LuminanceNoiseReductionContrast: 50
- LuminanceNoiseReductionDetail: 50
- LuminanceSmoothing: 25
- OverrideLookVignette: False
- ParametricDarks: 0
- ParametricHighlightSplit: 75
- ParametricHighlights: 0
- ParametricLights: 0
- ParametricMidtoneSplit: 50
- ParametricShadowSplit: 25
- ParametricShadows: 0
- PerspectiveAspect: 0
- PerspectiveHorizontal: 0
- PerspectiveRotate: 0.0
- PerspectiveScale: 100
- PerspectiveUpright: 0
- PerspectiveVertical: 0
- PerspectiveX: 0.00
- PerspectiveY: 0.00
- PostCropVignetteAmount: 0
- ProcessVersion: 11.0
- RawFileName: IMG_2505.CR2
- RedHue: 0
- RedSaturation: 0
- Saturation: 0
- SaturationAdjustmentAqua: 0
- SaturationAdjustmentBlue: 0
- SaturationAdjustmentGreen: 0
- SaturationAdjustmentMagenta: 0
- SaturationAdjustmentOrange: 0
- SaturationAdjustmentPurple: 0
- SaturationAdjustmentRed: 0
- SaturationAdjustmentYellow: 0
- ShadowTint: 0
- Shadows2012: 0
- SharpenDetail: 25
- SharpenEdgeMasking: 0
- SharpenRadius: +1.0
- Sharpness: 40
- SplitToningBalance: 0
- SplitToningHighlightHue: 0
- SplitToningHighlightSaturation: 0
- SplitToningShadowHue: 0
- SplitToningShadowSaturation: 0
- Texture: 0
- Tint: +27
- ToneCurve: 0, 0, 32, 22, 64, 56, 128, 128, 192, 196, 255, 255
- ToneCurveBlue: 0, 0, 255, 255
- ToneCurveGreen: 0, 0, 255, 255
- ToneCurveName: Medium Contrast
- ToneCurveName2012: Linear
- ToneCurvePV2012: 0, 0, 255, 255
- ToneCurvePV2012Blue: 0, 0, 255, 255
- ToneCurvePV2012Green: 0, 0, 255, 255
- ToneCurvePV2012Red: 0, 0, 255, 255
- ToneCurveRed: 0, 0, 255, 255
- ToneMapStrength: 0
- Version: 11.4.1
- Vibrance: 0
- VignetteAmount: 0
- WhiteBalance: As Shot
- Whites2012: 0
- XMP-dc
- Creator: Dmitriy Larin
- Format: image/x-canon-cr2
- Rights: Dmitriy Larin
- XMP-exif
- ApertureValue: 5,6
- DateTimeOriginal: 2019:10:14 22:02:08.23
- ExposureTime: 1/1000
- FlashFired: False
- FlashFunction: False
- FlashMode: Off
- FlashRedEyeMode: False
- FlashReturn: No return detection
- MaxApertureValue: 5,0
- SensitivityType: 2
- ShutterSpeedValue: 1/1000
- XMP-exifEX
- XMP-tiff
- XMP-x
- XMP-xmp
- CreateDate: 2019:10:14 22:02:08.23
- ModifyDate: 2019:10:14 22:02:08.23
- Rating: 0
- XMP-xmpMM
- Просмотров: 133
- Рейтинг: голосов еще нет
- Отзывов: отключены