- Раздел: Другое, разное
- Дата съёмки: неизвестно
- Дата загрузки фото: 13.04.2020 23:11
- Оригинальная фотография: 3927 x 5890 (3,5 Мб)
- Технические характеристики:
- Фотоаппарат: FujiFilm X-T30
- Выдержка: 0,0
- Гиперфокальное расстояние: inf m
- Диафрагма: 1,0
- Светочувствительность: 160
- Фокусное расстояние: 53,0 mm (35 mm equivalent: 53,0 mm)
- Полный EXIF
- Adobe
- ColorTransform: YCbCr
- Composite
- Aperture: 1,0
- CircleOfConfusion: 0,020 mm
- FOV: 37,0 deg
- FocalLength35efl: 53,0 mm (35 mm equivalent: 53,0 mm)
- HyperfocalDistance: inf m
- Megapixels: 23,1
- ScaleFactor35efl: 1,5
- ShutterSpeed: 0,0
- ExifIFD
- ApertureValue: 1,0
- BrightnessValue: 6,32
- ColorSpace: sRGB
- CreateDate: 2020:04:12 13:37:38
- CustomRendered: Normal
- DateTimeOriginal: 2020:04:12 13:37:38
- ExifImageHeight: 5890
- ExifImageWidth: 3927
- ExposureCompensation: 0
- ExposureMode: Auto
- ExposureProgram: Aperture-priority AE
- ExposureTime: 0,0
- FNumber: 1,0
- Flash: No Flash
- FocalLength: 53,0 mm
- FocalLengthIn35mmFormat: 80 mm
- ISO: 160
- LensInfo: 53mm f/?
- LensModel: 53.0 mm
- LightSource: Unknown
- MeteringMode: Center-weighted average
- SceneCaptureType: Standard
- SceneType: Directly photographed
- SensingMethod: One-chip color area
- SensitivityType: Standard Output Sensitivity
- SerialNumber: 9CQ05732
- Sharpness: Normal
- ShutterSpeedValue: 1/2048
- SubjectDistanceRange: Unknown
- WhiteBalance: Auto
- ICC-header
- ICC-meas
- ICC-view
- IFD0
- Artist: Eegene Gavrilov
- Make: FUJIFILM
- Model: X-T30
- ModifyDate: 2020:04:13 21:13:03
- Orientation: Horizontal (normal)
- IFD1
- IPTC
- By-line: Eegene Gavrilov
- DateCreated: 2020:04:12
- System
- XMP-aux
- LateralChromaticAberrationCorrectionAlreadyApplied: True
- Lens: 53.0 mm
- XMP-crs
- AlreadyApplied: True
- AutoLateralCA: 1
- Blacks2012: 0
- BlueHue: 0
- BlueSaturation: 0
- Clarity2012: +10
- ColorNoiseReduction: 25
- ColorNoiseReductionDetail: 50
- ColorNoiseReductionSmoothness: 50
- ColorTemperature: 5300
- Contrast2012: 0
- ConvertToGrayscale: True
- CropAngle: 2.300285
- CropBottom: 1
- CropConstrainToWarp: 1
- CropHeight: 3
- CropLeft: 0.041044
- CropRight: 0.958956
- CropTop: 0
- CropUnit: Unknown (3)
- CropWidth: 2
- Dehaze: +3
- Exposure2012: 0.00
- GrainAmount: 0
- GrayMixerAqua: 0
- GrayMixerBlue: 0
- GrayMixerGreen: 0
- GrayMixerMagenta: 0
- GrayMixerOrange: 0
- GrayMixerPurple: 0
- GrayMixerRed: 0
- GrayMixerYellow: 0
- GreenHue: 0
- GreenSaturation: 0
- HasCrop: True
- HasSettings: True
- Highlights2012: 0
- LensManualDistortionAmount: 0
- LensProfileEnable: 1
- LensProfileSetup: LensDefaults
- LookAmount: 1.000000
- LookGroup: B&W
- LookName: B&W 12
- LookParametersClarity2012: +8
- LookParametersContrast2012: +8
- LookParametersConvertToGrayscale: True
- LookParametersLookTable: A94B972D88365440AA36CD881A9C6524
- LookParametersProcessVersion: 11.0
- LookParametersToneCurvePV2012: 0, 20, 62, 42, 206, 211, 255, 230
- LookParametersToneCurvePV2012Blue: 0, 0, 255, 255
- LookParametersToneCurvePV2012Green: 0, 0, 255, 255
- LookParametersToneCurvePV2012Red: 0, 0, 255, 255
- LookParametersVersion: 11.2
- LookSortName: B&W 12
- LookSupportsMonochrome: false
- LuminanceSmoothing: 0
- OverrideLookVignette: False
- ParametricDarks: 0
- ParametricHighlightSplit: 75
- ParametricHighlights: 0
- ParametricLights: 0
- ParametricMidtoneSplit: 50
- ParametricShadowSplit: 25
- ParametricShadows: 0
- PerspectiveAspect: 0
- PerspectiveHorizontal: 0
- PerspectiveRotate: 0.0
- PerspectiveScale: 100
- PerspectiveUpright: 0
- PerspectiveVertical: 0
- PerspectiveX: 0.00
- PerspectiveY: 0.00
- PostCropVignetteAmount: 0
- ProcessVersion: 11.0
- RawFileName: DSCF0908.RAF
- RedHue: 0
- RedSaturation: 0
- ShadowTint: 0
- Shadows2012: 0
- SharpenDetail: 25
- SharpenEdgeMasking: 0
- SharpenRadius: +1.0
- Sharpness: 40
- SplitToningBalance: 0
- SplitToningHighlightHue: 0
- SplitToningHighlightSaturation: 0
- SplitToningShadowHue: 0
- SplitToningShadowSaturation: 0
- Tint: +8
- ToneCurve: 0, 0, 32, 22, 64, 56, 128, 128, 192, 196, 255, 255
- ToneCurveBlue: 0, 0, 255, 255
- ToneCurveGreen: 0, 0, 255, 255
- ToneCurveName: Medium Contrast
- ToneCurveName2012: Linear
- ToneCurvePV2012: 0, 0, 255, 255
- ToneCurvePV2012Blue: 0, 0, 255, 255
- ToneCurvePV2012Green: 0, 0, 255, 255
- ToneCurvePV2012Red: 0, 0, 255, 255
- ToneCurveRed: 0, 0, 255, 255
- ToneMapStrength: 0
- Version: 11.2
- VignetteAmount: 0
- WhiteBalance: Custom
- Whites2012: 0
- XMP-dc
- Creator: Eegene Gavrilov
- Format: image/jpeg
- XMP-xmp
- ModifyDate: 2020:04:13 21:13:03+03:00
- Rating: 0
- XMP-xmpMM
- Просмотров: 88
- Рейтинг: голосов еще нет
- Отзывов: 0