- Раздел: Другое, разное
- Дата съёмки: неизвестно
- Дата загрузки фото: 12.05.2020 19:40
- Оригинальная фотография: 2600 x 4634 (4,9 Мб)
- Технические характеристики:
- Фотоаппарат: google ONEPLUS A3010
- Выдержка: 0,0
- Гиперфокальное расстояние: inf m
- Диафрагма: 2,0
- Светочувствительность: 100
- Фокусное расстояние: 4,0 mm (35 mm equivalent: 28,0 mm)
- Полный EXIF
- Adobe
- ColorTransform: YCbCr
- Composite
- Aperture: 2,0
- CircleOfConfusion: 0,004 mm
- DOF: inf (0,00 m - inf)
- FOV: 65,0 deg
- FocalLength35efl: 4,0 mm (35 mm equivalent: 28,0 mm)
- GPSAltitude: 158 m Above Sea Level
- GPSDateTime: 2020:05:08 09:04:18Z
- GPSLatitude: 57 deg 56' 53,00" N
- GPSLongitude: 39 deg 58' 58,00" E
- GPSPosition: 57 deg 56' 53,00" N, 39 deg 58' 58,00" E
- HyperfocalDistance: inf m
- Megapixels: 12,0
- ScaleFactor35efl: 7,0
- ShutterSpeed: 0,0
- ExifIFD
- ApertureValue: 2,0
- BrightnessValue: 7,726287842
- CFAPattern: [Red,Green][Green,Blue]
- ColorSpace: sRGB
- CreateDate: 2020:05:08 12:04:27
- DateTimeOriginal: 2020:05:08 12:04:27
- DigitalZoomRatio: 0
- ExifImageHeight: 4634
- ExifImageWidth: 2600
- ExposureCompensation: 0
- ExposureTime: 0,0
- FNumber: 2,0
- Flash: Off, Did not fire
- FocalLength: 4,0 mm
- FocalLengthIn35mmFormat: 28 mm
- ISO: 100
- MaxApertureValue: 2,0
- ShutterSpeedValue: 1/1024
- SubjectDistance: 4294967295 m
- SubjectDistanceRange: Distant
- WhiteBalance: Auto
- GPS
- GPSAltitude: 158,7 m
- GPSAltitudeRef: Above Sea Level
- GPSDOP: 33,254
- GPSDateStamp: 2020:05:08
- GPSLatitude: 57 deg 56' 53,00"
- GPSLatitudeRef: North
- GPSLongitude: 39 deg 58' 58,00"
- GPSLongitudeRef: East
- GPSProcessingMethod: fused
- GPSTimeStamp: 09:04:18
- GPSVersionID: 2.2.0.0
- ICC-header
- ICC-meas
- ICC-view
- IFD0
- Make: google
- MakerNoteSafety: Safe
- Model: ONEPLUS A3010
- ModifyDate: 2020:05:12 16:39:40
- Orientation: Horizontal (normal)
- IFD1
- IPTC
- DateCreated: 2020:05:08
- System
- XMP-aux
- ApproximateFocusDistance: 4294967295
- LateralChromaticAberrationCorrectionAlreadyApplied: True
- XMP-crs
- AlreadyApplied: True
- AutoLateralCA: 1
- Blacks2012: 0
- BlueHue: 0
- BlueSaturation: 0
- Clarity2012: 0
- ColorNoiseReduction: 25
- ColorNoiseReductionDetail: 50
- ColorNoiseReductionSmoothness: 50
- ColorTemperature: 5900
- Contrast2012: 0
- ConvertToGrayscale: False
- DefringeGreenAmount: 0
- DefringeGreenHueHi: 60
- DefringeGreenHueLo: 40
- DefringePurpleAmount: 0
- DefringePurpleHueHi: 70
- DefringePurpleHueLo: 30
- Dehaze: 0
- Exposure2012: 0.00
- GrainAmount: 0
- GreenHue: 0
- GreenSaturation: 0
- HasCrop: False
- HasSettings: True
- Highlights2012: 0
- HueAdjustmentAqua: 0
- HueAdjustmentBlue: 0
- HueAdjustmentGreen: 0
- HueAdjustmentMagenta: 0
- HueAdjustmentOrange: 0
- HueAdjustmentPurple: 0
- HueAdjustmentRed: 0
- HueAdjustmentYellow: 0
- LensManualDistortionAmount: 0
- LensProfileEnable: 1
- LensProfileSetup: LensDefaults
- LookAmount: 1.000000
- LookGroup: Profiles
- LookParametersClarity2012: +10
- LookParametersConvertToGrayscale: False
- LookParametersLookTable: 2FE663AB0D3CE5DA7B9F657BBCD66DFE
- LookParametersProcessVersion: 11.0
- LookParametersToneCurvePV2012: 0, 0, 32, 22, 64, 56, 128, 128, 224, 232, 240, 246, 255, 255
- LookParametersVersion: 11.2
- LookSupportsAmount: false
- LookSupportsMonochrome: false
- LookSupportsOutputReferred: false
- LuminanceAdjustmentAqua: 0
- LuminanceAdjustmentBlue: 0
- LuminanceAdjustmentGreen: 0
- LuminanceAdjustmentMagenta: 0
- LuminanceAdjustmentOrange: 0
- LuminanceAdjustmentPurple: 0
- LuminanceAdjustmentRed: 0
- LuminanceAdjustmentYellow: 0
- LuminanceSmoothing: 0
- OverrideLookVignette: False
- ParametricDarks: 0
- ParametricHighlightSplit: 75
- ParametricHighlights: 0
- ParametricLights: 0
- ParametricMidtoneSplit: 50
- ParametricShadowSplit: 25
- ParametricShadows: 0
- PerspectiveAspect: 0
- PerspectiveHorizontal: 0
- PerspectiveRotate: 0.0
- PerspectiveScale: 100
- PerspectiveUpright: 0
- PerspectiveVertical: 0
- PerspectiveX: 0.00
- PerspectiveY: 0.00
- PostCropVignetteAmount: 0
- ProcessVersion: 11.0
- RawFileName: IMG_20200508_120427.dng
- RedHue: 0
- RedSaturation: 0
- Saturation: +7
- SaturationAdjustmentAqua: 0
- SaturationAdjustmentBlue: 0
- SaturationAdjustmentGreen: 0
- SaturationAdjustmentMagenta: 0
- SaturationAdjustmentOrange: 0
- SaturationAdjustmentPurple: 0
- SaturationAdjustmentRed: 0
- SaturationAdjustmentYellow: 0
- ShadowTint: 0
- Shadows2012: 0
- SharpenDetail: 25
- SharpenEdgeMasking: 0
- SharpenRadius: +1.0
- Sharpness: 40
- SplitToningBalance: 0
- SplitToningHighlightHue: 0
- SplitToningHighlightSaturation: 0
- SplitToningShadowHue: 0
- SplitToningShadowSaturation: 0
- Tint: +150
- ToneCurve: 0, 0, 32, 22, 64, 56, 128, 128, 192, 196, 255, 255
- ToneCurveBlue: 0, 0, 255, 255
- ToneCurveGreen: 0, 0, 255, 255
- ToneCurveName: Medium Contrast
- ToneCurveName2012: Custom
- ToneCurvePV2012: 0, 0, 26, 12, 121, 107, 221, 195, 255, 255
- ToneCurvePV2012Blue: 0, 0, 255, 255
- ToneCurvePV2012Green: 0, 0, 255, 255
- ToneCurvePV2012Red: 0, 0, 255, 255
- ToneCurveRed: 0, 0, 255, 255
- ToneMapStrength: 0
- Version: 11.2
- Vibrance: +39
- VignetteAmount: 0
- WhiteBalance: Custom
- Whites2012: 0
- XMP-dc
- XMP-exifEX
- PhotographicSensitivity: 100
- XMP-xmp
- CreatorTool: HDR+ 1.0.276119539nd
- ModifyDate: 2020:05:12 16:39:40Z
- Rating: 0
- XMP-xmpMM
- Просмотров: 151
- Рейтинг: голосов еще нет
- Отзывов: отключены