- Раздел: Другое, разное
- Дата съёмки: неизвестно
- Дата загрузки фото: 22.07.2020 20:07
- Оригинальная фотография: 4215 x 2810 (2,7 Мб)
- Технические характеристики:
- Фотоаппарат: Canon EOS 5D
- Выдержка: 0,0
- Гиперфокальное расстояние: inf m
- Диафрагма: 9,0
- Светочувствительность: 100
- Фокусное расстояние: 50,0 mm (35 mm equivalent: 50,0 mm)
- Полный EXIF
- Adobe
- ColorTransform: YCbCr
- Composite
- Aperture: 9,0
- CircleOfConfusion: 0,030 mm
- FOV: 39,0 deg
- FocalLength35efl: 50,0 mm (35 mm equivalent: 50,0 mm)
- HyperfocalDistance: inf m
- LensID: Canon EF 28-70mm f/2.8L or Sigma or Tamron Lens
- Megapixels: 11,8
- ScaleFactor35efl: 1,0
- ShutterSpeed: 0,0
- ExifIFD
- ApertureValue: 8,0
- ColorSpace: sRGB
- CreateDate: 2020:07:22 19:25:30
- CustomRendered: Normal
- DateTimeOriginal: 2020:07:22 19:25:30
- ExifImageHeight: 2810
- ExifImageWidth: 4215
- ExposureCompensation: 0
- ExposureMode: Auto
- ExposureProgram: Aperture-priority AE
- ExposureTime: 0,0
- FNumber: 9,0
- Flash: Off, Did not fire
- FocalLength: 50,0 mm
- ISO: 100
- LensInfo: 28-75mm f/?
- LensModel: 28.0-75.0 mm
- MaxApertureValue: 2,8
- MeteringMode: Unknown
- SceneCaptureType: Standard
- SerialNumber: 920601645
- ShutterSpeedValue: 1/64
- WhiteBalance: Auto
- ICC-header
- ICC-meas
- ICC-view
- IFD0
- BitsPerSample: 8 8 8
- ImageHeight: 2810
- ImageWidth: 4215
- Make: Canon
- Model: Canon EOS 5D
- ModifyDate: 2020:07:22 20:00:48
- Orientation: Horizontal (normal)
- PhotometricInterpretation: RGB
- SamplesPerPixel: 3
- IFD1
- IPTC
- DateCreated: 2020:07:22
- System
- XMP-aux
- Firmware: 1.1.1
- FlashCompensation: 0
- ImageNumber: 3
- Lens: 28.0-75.0 mm
- LensID: 161
- XMP-crs
- AlreadyApplied: True
- AutoLateralCA: 0
- AutoWhiteVersion: 134348800
- Blacks2012: -7
- BlueHue: 0
- BlueSaturation: 0
- CameraProfile: Camera Standard
- Clarity2012: 0
- ColorNoiseReduction: 25
- ColorNoiseReductionDetail: 50
- ColorNoiseReductionSmoothness: 50
- ColorTemperature: 5700
- Contrast2012: +1
- ConvertToGrayscale: False
- CropAngle: 1.14109
- CropBottom: 0.996831
- CropConstrainToWarp: 0
- CropLeft: 0.023989
- CropRight: 0.976011
- CropTop: 0.003169
- DefringeGreenAmount: 0
- DefringeGreenHueHi: 60
- DefringeGreenHueLo: 40
- DefringePurpleAmount: 0
- DefringePurpleHueHi: 70
- DefringePurpleHueLo: 30
- Dehaze: 0
- Exposure2012: +0.16
- GradientBasedCorrActive: true
- GradientBasedCorrAmount: 1.000000
- GradientBasedCorrBrightness: 0.000000
- GradientBasedCorrClarity2012: 0.276600
- GradientBasedCorrContrast2012: 0.170210
- GradientBasedCorrDefringe: 0.000000
- GradientBasedCorrExposure2012: -0.085000
- GradientBasedCorrHighlights2012: 0.276600
- GradientBasedCorrHue: 0.000000
- GradientBasedCorrLocalBlacks2012: 0.000000
- GradientBasedCorrLocalWhites2012: 0.000000
- GradientBasedCorrLuminanceNoise: 0.000000
- GradientBasedCorrMaskFullX: 0.506422
- GradientBasedCorrMaskFullY: 0.328351
- GradientBasedCorrMaskValue: 1.000000
- GradientBasedCorrMaskWhat: Mask/Gradient
- GradientBasedCorrMaskZeroX: 0.505915
- GradientBasedCorrMaskZeroY: 0.371154
- GradientBasedCorrMoire: 0.000000
- GradientBasedCorrSaturation: 0.000000
- GradientBasedCorrShadows2012: 0.212770
- GradientBasedCorrSharpness: 0.297870
- GradientBasedCorrTemperature: 0.000000
- GradientBasedCorrTint: 0.000000
- GradientBasedCorrWhat: Correction
- GrainAmount: 0
- GreenHue: 0
- GreenSaturation: 0
- HasCrop: True
- HasSettings: True
- Highlights2012: -77
- HueAdjustmentAqua: 0
- HueAdjustmentBlue: 0
- HueAdjustmentGreen: 0
- HueAdjustmentMagenta: 0
- HueAdjustmentOrange: 0
- HueAdjustmentPurple: 0
- HueAdjustmentRed: 0
- HueAdjustmentYellow: 0
- LensManualDistortionAmount: 0
- LensProfileChromaticAberrationScale: 100
- LensProfileDistortionScale: 100
- LensProfileEnable: 1
- LensProfileFilename: Canon EOS-1Ds Mark III (Tamron Di 28-75mm f2.8 SP XR LD IF) - RAW.lcp
- LensProfileSetup: LensDefaults
- LensProfileVignettingScale: 100
- LuminanceAdjustmentAqua: 0
- LuminanceAdjustmentBlue: 0
- LuminanceAdjustmentGreen: 0
- LuminanceAdjustmentMagenta: 0
- LuminanceAdjustmentOrange: 0
- LuminanceAdjustmentPurple: 0
- LuminanceAdjustmentRed: 0
- LuminanceAdjustmentYellow: 0
- LuminanceSmoothing: 0
- ParametricDarks: 0
- ParametricHighlightSplit: 75
- ParametricHighlights: 0
- ParametricLights: 0
- ParametricMidtoneSplit: 50
- ParametricShadowSplit: 25
- ParametricShadows: 0
- PerspectiveAspect: 0
- PerspectiveHorizontal: 0
- PerspectiveRotate: 0.0
- PerspectiveScale: 100
- PerspectiveUpright: 0
- PerspectiveVertical: 0
- PostCropVignetteAmount: 0
- ProcessVersion: 6.7
- RedHue: 0
- RedSaturation: 0
- Saturation: 0
- SaturationAdjustmentAqua: 0
- SaturationAdjustmentBlue: 0
- SaturationAdjustmentGreen: 0
- SaturationAdjustmentMagenta: 0
- SaturationAdjustmentOrange: 0
- SaturationAdjustmentPurple: 0
- SaturationAdjustmentRed: 0
- SaturationAdjustmentYellow: 0
- ShadowTint: 0
- Shadows2012: +71
- SharpenDetail: 25
- SharpenEdgeMasking: 0
- SharpenRadius: +1.0
- Sharpness: 25
- SplitToningBalance: 0
- SplitToningHighlightHue: 0
- SplitToningHighlightSaturation: 0
- SplitToningShadowHue: 0
- SplitToningShadowSaturation: 0
- Tint: +16
- ToneCurve: 0, 0, 255, 255
- ToneCurveBlue: 0, 0, 255, 255
- ToneCurveGreen: 0, 0, 255, 255
- ToneCurveName: Linear
- ToneCurveName2012: Linear
- ToneCurvePV2012: 0, 0, 255, 255
- ToneCurvePV2012Blue: 0, 0, 255, 255
- ToneCurvePV2012Green: 0, 0, 255, 255
- ToneCurvePV2012Red: 0, 0, 255, 255
- ToneCurveRed: 0, 0, 255, 255
- ToneMapStrength: 0
- Version: 9.1.1
- Vibrance: 0
- VignetteAmount: 0
- WhiteBalance: As Shot
- Whites2012: +52
- XMP-dc
- XMP-xmp
- ModifyDate: 2020:07:22 20:00:48+03:00
- XMP-xmpMM
- Просмотров: 121
- Рейтинг: голосов еще нет
- Отзывов: отключены