» Участники » МаксМикс » Разное » Где уж мне угнаться за вами, молодежь! |
Где уж мне угнаться за вами, молодежь! |
![](img/title-line.gif) |
![](img/title-shadow.gif) | |
Где уж мне угнаться за вами, молодежь!
- Раздел: Другое, разное
- Дата съёмки: 03.08.2007 16:34
- Дата загрузки фото: 09.10.2007 19:08
- Оригинальная фотография: 2129 x 1287 (486 Кб)
- Технические характеристики:
- Фотоаппарат: FujiFilm FinePix S6500fd
- Выдержка: 1/220
- Гиперфокальное расстояние: 12,39 m
- Диафрагма: 5,0
- Светочувствительность: 100
- Фокусное расстояние: 17,0mm (35mm эквивалент: 109,5mm)
- Экспокоррекция: -0,67
- Полный EXIF
- ColorTransform: YCbCr
- Composite
- Aperture: 5,0
- CircleOfConfusion: 0,005 mm
- EV: 12,4
- FocalLength35efl: 17,0mm (35mm equivalent: 109,5mm)
- HyperfocalDistance: 12,39 m
- ScaleFactor35efl: 6,4
- ShutterSpeed: 1/220
- ExifIFD
- ApertureValue: 5,0
- BrightnessValue: 6,82
- CreateDate: 2007:08:03 16:34:39
- CustomRendered: Normal
- DateTimeOriginal: 2007:08:03 16:34:39
- ExposureCompensation: -0,67
- ExposureMode: Auto
- ExposureProgram: Aperture-priority AE
- ExposureTime: 1/220
- FNumber: 5,0
- Flash: Off
- FocalLength: 17,0mm
- ISO: 100
- LightSource: Unknown (0)
- MaxApertureValue: 2,8
- MeteringMode: Spot
- SceneCaptureType: Standard
- SceneType: Directly photographed
- SensingMethod: One-chip color area
- Sharpness: Soft
- ShutterSpeedValue: 1/220
- WhiteBalance: Manual
- ICC-header
- IFD0
- Make: FUJIFILM
- Model: FinePix S6500fd
- ModifyDate: 2007:10:09 21:36:29
- Software: Digital Camera FinePix S6500fd Ver1.00
- TimeZoneOffset: 7 7
- XMP-crs
- AlreadyApplied: True
- BlueHue: 0
- BlueSaturation: 0
- Brightness: +21
- CameraProfile: Embedded
- ChromaticAberrationB: 0
- ChromaticAberrationR: 0
- Clarity: 26
- ColorNoiseReduction: 0
- Contrast: +68
- ConvertToGrayscale: False
- CropAngle: 0
- CropBottom: 0.795252
- CropHeight: 1287
- CropLeft: 0.058954
- CropRight: 0.806452
- CropTop: 0.192878
- CropUnit: 0
- CropWidth: 2129
- Defringe: 0
- Exposure: +0.50
- FillLight: 29
- GreenHue: 0
- GreenSaturation: 0
- HasCrop: True
- HasSettings: True
- HighlightRecovery: 30
- HueAdjustmentAqua: 0
- HueAdjustmentBlue: 0
- HueAdjustmentGreen: 0
- HueAdjustmentMagenta: 0
- HueAdjustmentOrange: 0
- HueAdjustmentPurple: 0
- HueAdjustmentRed: 0
- HueAdjustmentYellow: 0
- IncrementalTemperature: -10
- IncrementalTint: 0
- LuminanceAdjustmentAqua: 0
- LuminanceAdjustmentBlue: 0
- LuminanceAdjustmentGreen: 0
- LuminanceAdjustmentMagenta: 0
- LuminanceAdjustmentOrange: 0
- LuminanceAdjustmentPurple: 0
- LuminanceAdjustmentRed: 0
- LuminanceAdjustmentYellow: 0
- LuminanceSmoothing: 0
- ParametricDarks: 0
- ParametricHighlightSplit: 75
- ParametricHighlights: -41
- ParametricLights: -14
- ParametricMidtoneSplit: 50
- ParametricShadowSplit: 25
- ParametricShadows: -14
- RedHue: 0
- RedSaturation: 0
- Saturation: 0
- SaturationAdjustmentAqua: 0
- SaturationAdjustmentBlue: 0
- SaturationAdjustmentGreen: 0
- SaturationAdjustmentMagenta: 0
- SaturationAdjustmentOrange: 0
- SaturationAdjustmentPurple: 0
- SaturationAdjustmentRed: 0
- SaturationAdjustmentYellow: 0
- ShadowTint: 0
- Shadows: 0
- SharpenDetail: 25
- SharpenEdgeMasking: 0
- SharpenRadius: +1.0
- Sharpness: 0
- SplitToningBalance: 0
- SplitToningHighlightHue: 0
- SplitToningHighlightSaturation: 0
- SplitToningShadowHue: 0
- SplitToningShadowSaturation: 0
- ToneCurve: 0, 0, 255, 255
- ToneCurveName: Linear
- Version: 1.0
- Vibrance: +29
- VignetteAmount: 0
- WhiteBalance: Custom
- XMP-exif
- DateTimeDigitized: 2007:08:03 16:34:39+07:00
- DateTimeOriginal: 2007:08:03 16:34:39+07:00
- FlashFired: False
- FlashFunction: False
- FlashMode: Off
- FlashRedEyeMode: False
- FlashReturn: No return detection
- SubjectDistanceRange: Unknown
- XMP-tiff
- ImageHeight: 1287
- ImageWidth: 2129
- XMP-xmp
- ModifyDate: 2007:10:09 21:36:29+07:00
- Просмотров: 277
- Рейтинг: голосов еще нет
- Отзывов: 0
Получить код для блога
Вставка фотографии в текущем разрешении |
Вставка миниатюры |
HTML (для вставки в блог):
BBCode (для вставки в форум):
Ссылка на фото:
Ссылка на миниатюру:
- Послать ссылку другу
Комментарии к фотографии |