- Раздел: Другое, разное
- Дата съёмки: неизвестно
- Дата загрузки фото: 06.08.2020 18:38
- Оригинальная фотография: 4551 x 2964 (2,5 Мб)
- Технические характеристики:
- Фотоаппарат: Samsung NX100
- Выдержка: 0,0
- Гиперфокальное расстояние: inf m
- Диафрагма: 7,1
- Светочувствительность: 200
- Фокусное расстояние: 20,0 mm (35 mm equivalent: 20,0 mm)
- Полный EXIF
- Adobe
- ColorTransform: YCbCr
- Composite
- Aperture: 7,1
- CircleOfConfusion: 0,019 mm
- FOV: 83,0 deg
- FocalLength35efl: 20,0 mm (35 mm equivalent: 20,0 mm)
- HyperfocalDistance: inf m
- LensID: Samsung NX 20-50mm F3.5-5.6 ED
- Megapixels: 13,5
- ScaleFactor35efl: 1,6
- ShutterSpeed: 0,0
- ExifIFD
- ApertureValue: 5,7
- CFAPattern: [Blue,Green][Green,Red]
- ColorSpace: sRGB
- DateTimeOriginal: 2020:08:05 17:28:06
- ExifImageHeight: 2964
- ExifImageWidth: 4551
- ExposureCompensation: 0
- ExposureProgram: Aperture-priority AE
- ExposureTime: 0,0
- FNumber: 7,1
- Flash: Off, Did not fire
- FocalLength: 20,0 mm
- FocalLengthIn35mmFormat: 31 mm
- ISO: 200
- LensInfo: 20-50mm f/3.5-5.6
- LensModel: Samsung 20-50mm f/3.5-5.6 ED
- LensSerialNumber: 237100020764
- LightSource: Other
- MeteringMode: Multi-segment
- SceneCaptureType: Standard
- SerialNumber: 0
- ShutterSpeedValue: 1/256
- WhiteBalance: Auto
- ICC-header
- ICC-meas
- ICC-view
- IFD0
- BitsPerSample: 8 8 8
- ImageHeight: 2964
- ImageWidth: 4551
- Make: SAMSUNG
- Model: NX100
- ModifyDate: 2020:08:06 18:23:41
- Orientation: Horizontal (normal)
- PhotometricInterpretation: RGB
- SamplesPerPixel: 3
- IFD1
- IPTC
- DateCreated: 2020:08:05
- System
- XMP-aux
- Firmware: NX100_FW_X_F1211281
- Lens: Samsung 20-50mm f/3.5-5.6 ED
- LensID: 4
- XMP-crs
- AlreadyApplied: True
- AutoLateralCA: 0
- AutoWhiteVersion: 134348800
- Blacks2012: -14
- BlueHue: 0
- BlueSaturation: 0
- Clarity2012: +18
- ColorNoiseReduction: 25
- ColorNoiseReductionDetail: 50
- ColorNoiseReductionSmoothness: 50
- ColorTemperature: 6000
- Contrast2012: -1
- ConvertToGrayscale: False
- CropAngle: -0.343848
- CropBottom: 0.991063
- CropConstrainToWarp: 0
- CropLeft: 0.002574
- CropRight: 0.997511
- CropTop: 0.030264
- DefringeGreenAmount: 0
- DefringeGreenHueHi: 60
- DefringeGreenHueLo: 40
- DefringePurpleAmount: 0
- DefringePurpleHueHi: 70
- DefringePurpleHueLo: 30
- Dehaze: 0
- Exposure2012: +0.05
- GrainAmount: 0
- GreenHue: 0
- GreenSaturation: 0
- HasCrop: True
- HasSettings: True
- Highlights2012: -87
- HueAdjustmentAqua: 0
- HueAdjustmentBlue: 0
- HueAdjustmentGreen: 0
- HueAdjustmentMagenta: 0
- HueAdjustmentOrange: 0
- HueAdjustmentPurple: 0
- HueAdjustmentRed: 0
- HueAdjustmentYellow: 0
- LensManualDistortionAmount: 0
- LensProfileChromaticAberrationScale: 100
- LensProfileDistortionScale: 100
- LensProfileEnable: 1
- LensProfileFilename: Samsung NX10 (Samsung 30mm f2) - RAW.lcp
- LensProfileSetup: Custom
- LensProfileVignettingScale: 100
- LuminanceAdjustmentAqua: 0
- LuminanceAdjustmentBlue: -7
- LuminanceAdjustmentGreen: 0
- LuminanceAdjustmentMagenta: 0
- LuminanceAdjustmentOrange: 0
- LuminanceAdjustmentPurple: 0
- LuminanceAdjustmentRed: 0
- LuminanceAdjustmentYellow: 0
- LuminanceSmoothing: 0
- ParametricDarks: 0
- ParametricHighlightSplit: 75
- ParametricHighlights: 0
- ParametricLights: 0
- ParametricMidtoneSplit: 50
- ParametricShadowSplit: 25
- ParametricShadows: 0
- PerspectiveAspect: 0
- PerspectiveHorizontal: 0
- PerspectiveRotate: 0.0
- PerspectiveScale: 100
- PerspectiveUpright: 0
- PerspectiveVertical: 0
- PostCropVignetteAmount: 0
- ProcessVersion: 6.7
- RedHue: 0
- RedSaturation: 0
- Saturation: 0
- SaturationAdjustmentAqua: 0
- SaturationAdjustmentBlue: 0
- SaturationAdjustmentGreen: 0
- SaturationAdjustmentMagenta: 0
- SaturationAdjustmentOrange: 0
- SaturationAdjustmentPurple: 0
- SaturationAdjustmentRed: 0
- SaturationAdjustmentYellow: 0
- ShadowTint: 0
- Shadows2012: +56
- SharpenDetail: 25
- SharpenEdgeMasking: 0
- SharpenRadius: +1.0
- Sharpness: 25
- SplitToningBalance: 0
- SplitToningHighlightHue: 0
- SplitToningHighlightSaturation: 0
- SplitToningShadowHue: 0
- SplitToningShadowSaturation: 0
- Tint: -5
- ToneCurve: 0, 0, 255, 255
- ToneCurveBlue: 0, 0, 255, 255
- ToneCurveGreen: 0, 0, 255, 255
- ToneCurveName: Linear
- ToneCurveName2012: Linear
- ToneCurvePV2012: 0, 0, 255, 255
- ToneCurvePV2012Blue: 0, 0, 255, 255
- ToneCurvePV2012Green: 0, 0, 255, 255
- ToneCurvePV2012Red: 0, 0, 255, 255
- ToneCurveRed: 0, 0, 255, 255
- ToneMapStrength: 0
- Version: 9.1.1
- Vibrance: 0
- VignetteAmount: 0
- WhiteBalance: As Shot
- Whites2012: +24
- XMP-dc
- XMP-xmp
- CreateDate: 2020:08:05 17:28:06
- ModifyDate: 2020:08:06 18:23:41+03:00
- XMP-xmpMM
- Просмотров: 188
- Рейтинг: голосов еще нет
- Отзывов: отключены