- Раздел: Животные
- Дата съёмки: неизвестно
- Дата загрузки фото: 20.09.2020 10:31
- Оригинальная фотография: 2169 x 1467 (3,4 Мб)
- Технические характеристики:
- Фотоаппарат: Canon EOS 30D
- Выдержка: 0,0
- Гиперфокальное расстояние: inf m
- Диафрагма: 7,1
- Светочувствительность: 400
- Фокусное расстояние: 43,0 mm (35 mm equivalent: 43,0 mm)
- Экспокоррекция: -1
- Полный EXIF
- Adobe
- ColorTransform: YCbCr
- Composite
- Aperture: 7,1
- CircleOfConfusion: 0,019 mm
- FOV: 45,0 deg
- FocalLength35efl: 43,0 mm (35 mm equivalent: 43,0 mm)
- HyperfocalDistance: inf m
- Megapixels: 3,2
- ScaleFactor35efl: 1,6
- ShutterSpeed: 0,0
- ExifIFD
- ApertureValue: 5,7
- ColorSpace: sRGB
- CreateDate: 2020:09:20 12:07:32
- CustomRendered: Normal
- DateTimeOriginal: 2020:09:20 12:07:32
- ExifImageHeight: 1467
- ExifImageWidth: 2169
- ExposureCompensation: -1
- ExposureMode: Auto
- ExposureProgram: Program AE
- ExposureTime: 0,0
- FNumber: 7,1
- Flash: On, Red-eye reduction
- FocalLength: 43,0 mm
- ISO: 400
- MaxApertureValue: 2,0
- MeteringMode: Average
- SceneCaptureType: Standard
- ShutterSpeedValue: 1/32
- WhiteBalance: Auto
- ICC-header
- ICC-meas
- ICC-view
- IFD0
- Artist: unknown
- Make: Canon
- Model: Canon EOS 30D
- ModifyDate: 2020:09:20 12:28:48
- Orientation: Horizontal (normal)
- IFD1
- IPTC
- By-line: unknown
- DateCreated: 2020:09:20
- System
- XMP-aux
- Firmware: 1.0.5
- FlashCompensation: -0,333333333333333
- ImageNumber: 160
- LateralChromaticAberrationCorrectionAlreadyApplied: True
- Lens: 17.0-50.0 mm
- LensInfo: 17-50mm f/?
- OwnerName: unknown
- SerialNumber: 1120815595
- XMP-crs
- AlreadyApplied: True
- AutoLateralCA: 1
- Blacks2012: -35
- BlueHue: 0
- BlueSaturation: 0
- CameraProfile: Camera Standard
- Clarity2012: 0
- ColorNoiseReduction: 25
- ColorNoiseReductionDetail: 50
- ColorNoiseReductionSmoothness: 50
- ColorTemperature: 5700
- Contrast2012: +15
- ConvertToGrayscale: False
- DefringeGreenAmount: 0
- DefringeGreenHueHi: 60
- DefringeGreenHueLo: 40
- DefringePurpleAmount: 0
- DefringePurpleHueHi: 70
- DefringePurpleHueLo: 30
- Dehaze: 0
- Exposure2012: +1.25
- GrainAmount: 0
- GreenHue: 0
- GreenSaturation: 0
- HasCrop: False
- HasSettings: True
- Highlights2012: -78
- HueAdjustmentAqua: 0
- HueAdjustmentBlue: 0
- HueAdjustmentGreen: 0
- HueAdjustmentMagenta: 0
- HueAdjustmentOrange: 0
- HueAdjustmentPurple: 0
- HueAdjustmentRed: 0
- HueAdjustmentYellow: 0
- LensManualDistortionAmount: 0
- LensProfileEnable: 1
- LensProfileSetup: Auto
- LuminanceAdjustmentAqua: 0
- LuminanceAdjustmentBlue: 0
- LuminanceAdjustmentGreen: 0
- LuminanceAdjustmentMagenta: 0
- LuminanceAdjustmentOrange: 0
- LuminanceAdjustmentPurple: 0
- LuminanceAdjustmentRed: 0
- LuminanceAdjustmentYellow: 0
- LuminanceNoiseReductionContrast: 34
- LuminanceNoiseReductionDetail: 50
- LuminanceSmoothing: 36
- OverrideLookVignette: False
- ParametricDarks: 0
- ParametricHighlightSplit: 75
- ParametricHighlights: 0
- ParametricLights: 0
- ParametricMidtoneSplit: 50
- ParametricShadowSplit: 25
- ParametricShadows: 0
- PerspectiveAspect: 0
- PerspectiveHorizontal: 0
- PerspectiveRotate: 0.0
- PerspectiveScale: 100
- PerspectiveUpright: 1
- PerspectiveVertical: 0
- PerspectiveX: 0.00
- PerspectiveY: 0.00
- PostCropVignetteAmount: 0
- ProcessVersion: 11.0
- RedHue: 0
- RedSaturation: 0
- Saturation: -4
- SaturationAdjustmentAqua: 0
- SaturationAdjustmentBlue: 0
- SaturationAdjustmentGreen: 0
- SaturationAdjustmentMagenta: 0
- SaturationAdjustmentOrange: 0
- SaturationAdjustmentPurple: 0
- SaturationAdjustmentRed: 0
- SaturationAdjustmentYellow: 0
- ShadowTint: 0
- Shadows2012: +75
- SharpenDetail: 25
- SharpenEdgeMasking: 0
- SharpenRadius: +1.0
- Sharpness: 40
- SplitToningBalance: 0
- SplitToningHighlightHue: 0
- SplitToningHighlightSaturation: 0
- SplitToningShadowHue: 0
- SplitToningShadowSaturation: 0
- Texture: 0
- Tint: -3
- ToneCurve: 0, 0, 32, 22, 64, 56, 128, 128, 192, 196, 255, 255
- ToneCurveBlue: 0, 0, 255, 255
- ToneCurveGreen: 0, 0, 255, 255
- ToneCurveName: Medium Contrast
- ToneCurveName2012: Linear
- ToneCurvePV2012: 0, 0, 255, 255
- ToneCurvePV2012Blue: 0, 0, 255, 255
- ToneCurvePV2012Green: 0, 0, 255, 255
- ToneCurvePV2012Red: 0, 0, 255, 255
- ToneCurveRed: 0, 0, 255, 255
- ToneMapStrength: 0
- Version: 12.2.1
- Vibrance: -4
- VignetteAmount: 0
- WhiteBalance: Custom
- Whites2012: -10
- XMP-dc
- Creator: unknown
- Format: image/jpeg
- XMP-xmp
- ModifyDate: 2020:09:20 12:28:48+05:00
- XMP-xmpMM