- Раздел: Животные
- Дата съёмки: неизвестно
- Дата загрузки фото: 20.10.2020 21:29
- Оригинальная фотография: 4477 x 2985 (9,7 Мб)
- Технические характеристики:
- Фотоаппарат: Canon EOS 6D
- Выдержка: 0,0
- Гиперфокальное расстояние: inf m
- Диафрагма: 3,2
- Светочувствительность: 250
- Фокусное расстояние: 38,0 mm (35 mm equivalent: 38,0 mm)
- Полный EXIF
- Adobe
- ColorTransform: YCbCr
- Composite
- Aperture: 3,2
- CircleOfConfusion: 0,025 mm
- FOV: 50,0 deg
- FocalLength35efl: 38,0 mm (35 mm equivalent: 38,0 mm)
- HyperfocalDistance: inf m
- LensID: Canon EF 85mm f/1.2L or Sigma or Tamron Lens
- Megapixels: 13,4
- ScaleFactor35efl: 1,2
- ShutterSpeed: 0,0
- ExifIFD
- ApertureValue: 2,8
- ColorSpace: sRGB
- CreateDate: 2020:09:27 09:49:59
- CustomRendered: Normal
- DateTimeOriginal: 2020:09:27 09:49:59
- ExposureCompensation: 0
- ExposureMode: Manual
- ExposureProgram: Manual
- ExposureTime: 0,0
- FNumber: 3,2
- Flash: Off, Did not fire
- FocalLength: 38,0 mm
- ISO: 250
- LensInfo: 24-70mm f/?
- LensModel: 24-70mm
- LensSerialNumber: 0000000000
- MaxApertureValue: 2,8
- MeteringMode: Multi-segment
- RecommendedExposureIndex: 250
- SceneCaptureType: Standard
- SensitivityType: Recommended Exposure Index
- SerialNumber: 121053001942
- ShutterSpeedValue: 1/256
- WhiteBalance: Manual
- ICC-header
- ICC-meas
- ICC-view
- IFD0
- Make: Canon
- Model: Canon EOS 6D
- ModifyDate: 2020:09:29 08:20:09
- IFD1
- IPTC
- DateCreated: 2020:09:27
- System
- XMP-aux
- ApproximateFocusDistance: 3,97
- Firmware: 1.1.7
- FlashCompensation: 0
- ImageNumber: 0
- Lens: 24-70mm
- LensID: 137
- XMP-crs
- AlreadyApplied: True
- AutoLateralCA: 0
- AutoWhiteVersion: 134348800
- Blacks2012: -58
- BlueHue: 0
- BlueSaturation: 0
- CameraProfile: Camera Standard
- Clarity2012: +4
- ColorNoiseReduction: 25
- ColorNoiseReductionDetail: 50
- ColorNoiseReductionSmoothness: 50
- ColorTemperature: 4690
- Contrast2012: +15
- ConvertToGrayscale: False
- CropAngle: 0
- CropBottom: 0.940928
- CropConstrainToWarp: 0
- CropLeft: 0.001874
- CropRight: 0.820056
- CropTop: 0.122746
- DefringeGreenAmount: 0
- DefringeGreenHueHi: 60
- DefringeGreenHueLo: 40
- DefringePurpleAmount: 0
- DefringePurpleHueHi: 70
- DefringePurpleHueLo: 30
- Exposure2012: +0.62
- GrainAmount: 0
- GreenHue: 0
- GreenSaturation: 0
- HasCrop: True
- HasSettings: True
- Highlights2012: -58
- HueAdjustmentAqua: 0
- HueAdjustmentBlue: 0
- HueAdjustmentGreen: -38
- HueAdjustmentMagenta: 0
- HueAdjustmentOrange: -12
- HueAdjustmentPurple: 0
- HueAdjustmentRed: +6
- HueAdjustmentYellow: -15
- LensManualDistortionAmount: 0
- LensProfileChromaticAberrationScale: 100
- LensProfileDistortionScale: 0
- LensProfileEnable: 1
- LensProfileFilename: Canon (TAMRON SP 24-70mm F2.8 Di VC USD A007E) - RAW.lcp
- LensProfileSetup: Custom
- LensProfileVignettingScale: 58
- LuminanceAdjustmentAqua: -3
- LuminanceAdjustmentBlue: -6
- LuminanceAdjustmentGreen: -49
- LuminanceAdjustmentMagenta: 0
- LuminanceAdjustmentOrange: +6
- LuminanceAdjustmentPurple: 0
- LuminanceAdjustmentRed: +5
- LuminanceAdjustmentYellow: +2
- LuminanceSmoothing: 0
- ParametricDarks: 0
- ParametricHighlightSplit: 75
- ParametricHighlights: 0
- ParametricLights: 0
- ParametricMidtoneSplit: 50
- ParametricShadowSplit: 25
- ParametricShadows: 0
- PerspectiveAspect: 0
- PerspectiveHorizontal: 0
- PerspectiveRotate: 0.0
- PerspectiveScale: 100
- PerspectiveUpright: 0
- PerspectiveVertical: 0
- PostCropVignetteAmount: 0
- ProcessVersion: 6.7
- RedHue: 0
- RedSaturation: 0
- Saturation: 0
- SaturationAdjustmentAqua: +8
- SaturationAdjustmentBlue: +5
- SaturationAdjustmentGreen: +5
- SaturationAdjustmentMagenta: 0
- SaturationAdjustmentOrange: -3
- SaturationAdjustmentPurple: 0
- SaturationAdjustmentRed: -3
- SaturationAdjustmentYellow: -9
- ShadowTint: 0
- Shadows2012: +21
- SharpenDetail: 25
- SharpenEdgeMasking: 0
- SharpenRadius: +1.0
- Sharpness: 25
- SplitToningBalance: 0
- SplitToningHighlightHue: 0
- SplitToningHighlightSaturation: 0
- SplitToningShadowHue: 0
- SplitToningShadowSaturation: 0
- Tint: 0
- ToneCurve: 0, 0, 255, 255
- ToneCurveBlue: 0, 0, 255, 255
- ToneCurveGreen: 0, 0, 255, 255
- ToneCurveName: Linear
- ToneCurveName2012: Linear
- ToneCurvePV2012: 0, 0, 255, 255
- ToneCurvePV2012Blue: 0, 0, 255, 255
- ToneCurvePV2012Green: 0, 0, 255, 255
- ToneCurvePV2012Red: 0, 0, 255, 255
- ToneCurveRed: 0, 0, 255, 255
- Version: 8.6
- Vibrance: +8
- VignetteAmount: 0
- WhiteBalance: Custom
- Whites2012: -33
- XMP-dc
- XMP-xmp
- CreateDate: 2020:09:27 09:49:59.71
- ModifyDate: 2020:09:29 08:20:09+03:00
- XMP-xmpMM
- Просмотров: 23
- Рейтинг: голосов еще нет
- Отзывов: 0