- Раздел: Другое, разное
- Дата съёмки: неизвестно
- Дата загрузки фото: 04.11.2020 21:07
- Оригинальная фотография: 4528 x 2995 (10,7 Мб)
- Технические характеристики:
- Фотоаппарат: Olympus E-PL6
- Выдержка: 0,0
- Гиперфокальное расстояние: inf m
- Диафрагма: 4,5
- Светочувствительность: 200
- Фокусное расстояние: 12,0 mm (35 mm equivalent: 24,0 mm)
- Полный EXIF
- Adobe
- ColorTransform: YCbCr
- Composite
- Aperture: 4,5
- CircleOfConfusion: 0,015 mm
- FOV: 73,0 deg
- FocalLength35efl: 12,0 mm (35 mm equivalent: 24,0 mm)
- HyperfocalDistance: inf m
- Megapixels: 13,6
- ScaleFactor35efl: 2,0
- ShutterSpeed: 0,0
- ExifIFD
- ApertureValue: 4,0
- CFAPattern: [Red,Green][Green,Blue]
- ColorSpace: sRGB
- Contrast: Normal
- CreateDate: 2020:11:04 09:30:24
- CustomRendered: Normal
- DateTimeOriginal: 2020:11:04 09:30:24
- DigitalZoomRatio: 1
- ExifImageHeight: 2995
- ExifImageWidth: 4528
- ExposureCompensation: 0
- ExposureMode: Manual
- ExposureProgram: Aperture-priority AE
- ExposureTime: 0,0
- FNumber: 4,5
- Flash: On, Did not fire
- FocalLength: 12,0 mm
- FocalLengthIn35mmFormat: 24 mm
- GainControl: Low gain up
- ISO: 200
- LensInfo: 12-32mm f/3.5-5.6
- LensModel: LUMIX G VARIO 12-32/F3.5-5.6
- LensSerialNumber: 08JX2250514A
- LightSource: Unknown
- MaxApertureValue: 2,8
- MeteringMode: Multi-segment
- Saturation: Normal
- SceneCaptureType: Standard
- SensitivityType: Standard Output Sensitivity
- SerialNumber: V5TF41167
- Sharpness: Normal
- ShutterSpeedValue: 1/128
- WhiteBalance: Auto
- ICC-header
- ICC-meas
- ICC-view
- IFD0
- BitsPerSample: 8 8 8
- ImageDescription: OLYMPUS DIGITAL CAMERA
- ImageHeight: 2995
- ImageWidth: 4528
- Make: OLYMPUS IMAGING CORP.
- Model: E-PL6
- ModifyDate: 2020:11:04 19:52:59
- Orientation: Horizontal (normal)
- PhotometricInterpretation: RGB
- SamplesPerPixel: 3
- IFD1
- IPTC
- Caption-Abstract: OLYMPUS DIGITAL CAMERA
- DateCreated: 2020:11:04
- System
- XMP-aux
- ApproximateFocusDistance: 1,42
- DistortionCorrectionAlreadyApplied: True
- FlashCompensation: 0
- Lens: LUMIX G VARIO 12-32/F3.5-5.6
- XMP-crs
- AlreadyApplied: True
- AutoLateralCA: 0
- Blacks2012: -5
- BlueHue: 0
- BlueSaturation: 0
- Clarity2012: 0
- ColorNoiseReduction: 25
- ColorNoiseReductionDetail: 50
- ColorNoiseReductionSmoothness: 50
- ColorTemperature: 5350
- Contrast2012: +5
- ConvertToGrayscale: False
- CropAngle: 1.14996
- CropBottom: 0.892526
- CropConstrainToWarp: 0
- CropLeft: 0.017629
- CropRight: 0.986959
- CropTop: 0
- DefringeGreenAmount: 0
- DefringeGreenHueHi: 60
- DefringeGreenHueLo: 40
- DefringePurpleAmount: 8
- DefringePurpleHueHi: 70
- DefringePurpleHueLo: 30
- Dehaze: 0
- Exposure2012: +0.17
- GrainAmount: 0
- GreenHue: 0
- GreenSaturation: 0
- HasCrop: True
- HasSettings: True
- Highlights2012: -68
- HueAdjustmentAqua: 0
- HueAdjustmentBlue: 0
- HueAdjustmentGreen: 0
- HueAdjustmentMagenta: 0
- HueAdjustmentOrange: 0
- HueAdjustmentPurple: 0
- HueAdjustmentRed: 0
- HueAdjustmentYellow: 0
- LensManualDistortionAmount: 0
- LensProfileEnable: 0
- LensProfileSetup: LensDefaults
- LookAmount: 1.000000
- LookGroup: Profiles
- LookParametersClarity2012: +10
- LookParametersConvertToGrayscale: False
- LookParametersHighlights2012: -12
- LookParametersLookTable: 0B3BFB5CFB7DBF7FF175E98F24D316B0
- LookParametersProcessVersion: 11.0
- LookParametersShadows2012: +12
- LookParametersToneCurvePV2012: 0, 0, 64, 60, 128, 128, 192, 196, 255, 255
- LookParametersVersion: 12.4
- LookSupportsAmount: false
- LookSupportsMonochrome: false
- LookSupportsOutputReferred: false
- LuminanceAdjustmentAqua: 0
- LuminanceAdjustmentBlue: 0
- LuminanceAdjustmentGreen: 0
- LuminanceAdjustmentMagenta: 0
- LuminanceAdjustmentOrange: 0
- LuminanceAdjustmentPurple: 0
- LuminanceAdjustmentRed: 0
- LuminanceAdjustmentYellow: 0
- LuminanceSmoothing: 0
- OverrideLookVignette: False
- ParametricDarks: 0
- ParametricHighlightSplit: 75
- ParametricHighlights: 0
- ParametricLights: 0
- ParametricMidtoneSplit: 50
- ParametricShadowSplit: 25
- ParametricShadows: 0
- PerspectiveAspect: 0
- PerspectiveHorizontal: 0
- PerspectiveRotate: 0.0
- PerspectiveScale: 100
- PerspectiveUpright: 0
- PerspectiveVertical: 0
- PerspectiveX: 0.00
- PerspectiveY: 0.00
- PostCropVignetteAmount: 0
- ProcessVersion: 11.0
- RawFileName: PB042613.ORF
- RedHue: 0
- RedSaturation: 0
- Saturation: -2
- SaturationAdjustmentAqua: 0
- SaturationAdjustmentBlue: 0
- SaturationAdjustmentGreen: 0
- SaturationAdjustmentMagenta: 0
- SaturationAdjustmentOrange: 0
- SaturationAdjustmentPurple: 0
- SaturationAdjustmentRed: 0
- SaturationAdjustmentYellow: 0
- ShadowTint: 0
- Shadows2012: +35
- SharpenDetail: 25
- SharpenEdgeMasking: 0
- SharpenRadius: +1.0
- Sharpness: 40
- SplitToningBalance: 0
- SplitToningHighlightHue: 0
- SplitToningHighlightSaturation: 0
- SplitToningShadowHue: 0
- SplitToningShadowSaturation: 0
- Texture: 0
- Tint: +5
- ToneCurve: 0, 0, 255, 255
- ToneCurveBlue: 0, 0, 255, 255
- ToneCurveGreen: 0, 0, 255, 255
- ToneCurveName: Linear
- ToneCurveName2012: Linear
- ToneCurvePV2012: 0, 0, 255, 255
- ToneCurvePV2012Blue: 0, 0, 255, 255
- ToneCurvePV2012Green: 0, 0, 255, 255
- ToneCurvePV2012Red: 0, 0, 255, 255
- ToneCurveRed: 0, 0, 255, 255
- ToneMapStrength: 0
- Version: 12.4
- Vibrance: +15
- VignetteAmount: 0
- WhiteBalance: As Shot
- Whites2012: +7
- XMP-dc
- Description: OLYMPUS DIGITAL CAMERA
- Format: image/jpeg
- XMP-exifEX
- XMP-xmp
- ModifyDate: 2020:11:04 19:52:59+02:00
- XMP-xmpMM
- PreservedFileName: PB042613.ORF
- Просмотров: 63
- Рейтинг: голосов еще нет
- Отзывов: отключены