- Раздел: Отдых, развлечения
- Дата съёмки: 08.07.2010 19:50
- Дата загрузки фото: 23.01.2021 03:37
- Оригинальная фотография: 1200 x 804 (234 Кб)
- Технические характеристики:
- Фотоаппарат: Canon EOS 30D
- Выдержка: 0,0
- Светочувствительность: 400
- Полный EXIF
- Adobe
- ColorTransform: YCbCr
- Composite
- CircleOfConfusion: 0,019 mm
- Flash: Off, Did not fire
- LensID: n/a
- Megapixels: 0,965
- ScaleFactor35efl: 1,6
- ShutterSpeed: 0,0
- ExifIFD
- ColorSpace: sRGB
- CreateDate: 2010:07:08 19:50:33
- CustomRendered: Normal
- DateTimeOriginal: 2010:07:08 19:50:33
- ExifImageHeight: 804
- ExifImageWidth: 1200
- ExposureCompensation: 0
- ExposureMode: Auto
- ExposureProgram: Aperture-priority AE
- ExposureTime: 0,0
- ISO: 400
- MaxApertureValue: 1,4
- MeteringMode: Average
- SceneCaptureType: Standard
- ShutterSpeedValue: 1/32
- WhiteBalance: Manual
- ICC-header
- ICC-meas
- ICC-view
- IFD0
- Artist: Yepanchintcev Aleksey
- Make: Canon
- Model: Canon EOS 30D
- ModifyDate: 2010:07:09 23:29:35
- Orientation: Horizontal (normal)
- IFD1
- IPTC
- By-line: Yepanchintcev Aleksey
- System
- XMP-aux
- Firmware: 1.0.5
- FlashCompensation: -2
- ImageNumber: 128
- LensID: 65535
- OwnerName: Yepanchintcev Aleksey
- SerialNumber: 1630900046
- XMP-crs
- AlreadyApplied: True
- BlueHue: 0
- BlueSaturation: +86
- Brightness: +104
- CameraProfile: ACR 4.4
- ChromaticAberrationB: 0
- ChromaticAberrationR: 0
- Clarity: 0
- ColorNoiseReduction: 100
- ColorTemperature: 5929
- Contrast: +68
- ConvertToGrayscale: False
- Defringe: 0
- Exposure: -0.38
- FillLight: 17
- GreenHue: 0
- GreenSaturation: -2
- HasCrop: False
- HasSettings: True
- HighlightRecovery: 43
- HueAdjustmentAqua: +67
- HueAdjustmentBlue: 0
- HueAdjustmentGreen: 0
- HueAdjustmentMagenta: 0
- HueAdjustmentOrange: 0
- HueAdjustmentPurple: 0
- HueAdjustmentRed: +29
- HueAdjustmentYellow: 0
- LuminanceAdjustmentAqua: +7
- LuminanceAdjustmentBlue: -31
- LuminanceAdjustmentGreen: -14
- LuminanceAdjustmentMagenta: 0
- LuminanceAdjustmentOrange: 0
- LuminanceAdjustmentPurple: 0
- LuminanceAdjustmentRed: -43
- LuminanceAdjustmentYellow: 0
- LuminanceSmoothing: 39
- PaintCorrectionActive: true
- PaintCorrectionAmount: 1.000000
- PaintCorrectionBrightness: 0.000000
- PaintCorrectionClarity: 0.000000
- PaintCorrectionContrast: 0.000000
- PaintCorrectionExposure: 0.000000
- PaintCorrectionHue: 230.000000
- PaintCorrectionMaskCenterWeight: 0.000000
- PaintCorrectionMaskFlow: 0.500000
- PaintCorrectionMaskRadius: 0.011094
- PaintCorrectionMaskValue: 1.000000
- PaintCorrectionMaskWhat: Mask/Paint
- PaintCorrectionSaturation: 1.000000
- PaintCorrectionSharpness: 0.000000
- PaintCorrectionWhat: Correction
- ParametricDarks: +5
- ParametricHighlightSplit: 75
- ParametricHighlights: -21
- ParametricLights: -17
- ParametricMidtoneSplit: 50
- ParametricShadowSplit: 25
- ParametricShadows: -25
- PostCropVignetteAmount: 0
- RedHue: 0
- RedSaturation: +26
- Saturation: +19
- SaturationAdjustmentAqua: -17
- SaturationAdjustmentBlue: -71
- SaturationAdjustmentGreen: -17
- SaturationAdjustmentMagenta: -100
- SaturationAdjustmentOrange: -36
- SaturationAdjustmentPurple: -100
- SaturationAdjustmentRed: +2
- SaturationAdjustmentYellow: -60
- ShadowTint: 0
- Shadows: 17
- SharpenDetail: 69
- SharpenEdgeMasking: 0
- SharpenRadius: +1.0
- Sharpness: 21
- SplitToningBalance: +100
- SplitToningHighlightHue: 0
- SplitToningHighlightSaturation: 0
- SplitToningShadowHue: 266
- SplitToningShadowSaturation: 73
- Tint: -25
- ToneCurve: 0, 0, 32, 22, 64, 56, 128, 128, 192, 196, 255, 255
- ToneCurveName: Medium Contrast
- Version: 5.6.1
- Vibrance: +38
- VignetteAmount: -100
- VignetteMidpoint: 46
- WhiteBalance: Custom
- XMP-dc
- Creator: Yepanchintcev Aleksey
- Format: image/jpeg
- XMP-exif
- DateTimeDigitized: 2010:07:08 19:50:33+07:00
- DateTimeOriginal: 2010:07:08 19:50:33+07:00
- ExposureTime: 1/60
- FlashFired: False
- FlashFunction: False
- FlashMode: Off
- FlashRedEyeMode: False
- FlashReturn: No return detection
- MaxApertureValue: 1,8
- ShutterSpeedValue: 1/60
- XMP-tiff
- ImageHeight: 2336
- ImageWidth: 3504
- XMP-xmp
- CreateDate: 2010:07:08 19:50:33+07:00
- ModifyDate: 2010:07:09 23:29:35+07:00
- Rating: 1
- XMP-xmpMM
- Просмотров: 203
- Рейтинг: голосов еще нет
- Отзывов: 0