- Раздел: Отдых, развлечения
- Дата съёмки: 08.07.2010 20:29
- Дата загрузки фото: 23.01.2021 03:37
- Оригинальная фотография: 1200 x 804 (193 Кб)
- Технические характеристики:
- Фотоаппарат: Canon EOS 30D
- Выдержка: 0,0
- Светочувствительность: 400
- Полный EXIF
- Adobe
- ColorTransform: YCbCr
- Composite
- CircleOfConfusion: 0,019 mm
- Flash: Off, Did not fire
- LensID: n/a
- Megapixels: 0,965
- ScaleFactor35efl: 1,6
- ShutterSpeed: 0,0
- ExifIFD
- ColorSpace: sRGB
- CreateDate: 2010:07:08 20:29:55
- CustomRendered: Normal
- DateTimeOriginal: 2010:07:08 20:29:55
- ExifImageHeight: 804
- ExifImageWidth: 1200
- ExposureCompensation: 0
- ExposureMode: Manual
- ExposureProgram: Manual
- ExposureTime: 0,0
- ISO: 400
- MaxApertureValue: 1,4
- MeteringMode: Average
- SceneCaptureType: Standard
- ShutterSpeedValue: 1/32
- WhiteBalance: Auto
- ICC-header
- ICC-meas
- ICC-view
- IFD0
- Artist: Yepanchintcev Aleksey
- Make: Canon
- Model: Canon EOS 30D
- ModifyDate: 2010:07:09 23:09:22
- Orientation: Horizontal (normal)
- IFD1
- IPTC
- By-line: Yepanchintcev Aleksey
- System
- XMP-aux
- Firmware: 1.0.5
- FlashCompensation: -2
- ImageNumber: 48
- LensID: 65535
- OwnerName: Yepanchintcev Aleksey
- SerialNumber: 1630900046
- XMP-crs
- AlreadyApplied: True
- BlueHue: 0
- BlueSaturation: +86
- Brightness: +104
- CameraProfile: ACR 4.4
- ChromaticAberrationB: 0
- ChromaticAberrationR: 0
- Clarity: 0
- ColorNoiseReduction: 100
- ColorTemperature: 5810
- Contrast: +68
- ConvertToGrayscale: False
- Defringe: 0
- Exposure: -0.76
- FillLight: 29
- GreenHue: 0
- GreenSaturation: -2
- HasCrop: False
- HasSettings: True
- HighlightRecovery: 43
- HueAdjustmentAqua: 0
- HueAdjustmentBlue: 0
- HueAdjustmentGreen: 0
- HueAdjustmentMagenta: 0
- HueAdjustmentOrange: 0
- HueAdjustmentPurple: 0
- HueAdjustmentRed: +29
- HueAdjustmentYellow: 0
- LuminanceAdjustmentAqua: +7
- LuminanceAdjustmentBlue: -31
- LuminanceAdjustmentGreen: 0
- LuminanceAdjustmentMagenta: 0
- LuminanceAdjustmentOrange: 0
- LuminanceAdjustmentPurple: 0
- LuminanceAdjustmentRed: -43
- LuminanceAdjustmentYellow: 0
- LuminanceSmoothing: 39
- ParametricDarks: +5
- ParametricHighlightSplit: 75
- ParametricHighlights: -21
- ParametricLights: -17
- ParametricMidtoneSplit: 50
- ParametricShadowSplit: 25
- ParametricShadows: -25
- PostCropVignetteAmount: 0
- RedHue: 0
- RedSaturation: +26
- Saturation: +10
- SaturationAdjustmentAqua: -19
- SaturationAdjustmentBlue: +26
- SaturationAdjustmentGreen: -100
- SaturationAdjustmentMagenta: -100
- SaturationAdjustmentOrange: -36
- SaturationAdjustmentPurple: -100
- SaturationAdjustmentRed: -7
- SaturationAdjustmentYellow: -43
- ShadowTint: 0
- Shadows: 15
- SharpenDetail: 69
- SharpenEdgeMasking: 0
- SharpenRadius: +1.0
- Sharpness: 21
- SplitToningBalance: +100
- SplitToningHighlightHue: 0
- SplitToningHighlightSaturation: 0
- SplitToningShadowHue: 266
- SplitToningShadowSaturation: 100
- Tint: -18
- ToneCurve: 0, 0, 32, 22, 64, 56, 128, 128, 192, 196, 255, 255
- ToneCurveName: Medium Contrast
- Version: 5.6.1
- Vibrance: +38
- VignetteAmount: -100
- VignetteMidpoint: 46
- WhiteBalance: Custom
- XMP-dc
- Creator: Yepanchintcev Aleksey
- Format: image/jpeg
- XMP-exif
- DateTimeDigitized: 2010:07:08 20:29:55+07:00
- DateTimeOriginal: 2010:07:08 20:29:55+07:00
- ExposureTime: 1/50
- FlashFired: False
- FlashFunction: False
- FlashMode: Off
- FlashRedEyeMode: False
- FlashReturn: No return detection
- MaxApertureValue: 1,8
- ShutterSpeedValue: 1/50
- XMP-tiff
- ImageHeight: 2336
- ImageWidth: 3504
- XMP-xmp
- CreateDate: 2010:07:08 20:29:55+07:00
- ModifyDate: 2010:07:09 23:09:22+07:00
- Rating: 1
- XMP-xmpMM
- Просмотров: 193
- Рейтинг: голосов еще нет
- Отзывов: 0