- Раздел: Отдых, развлечения
- Дата съёмки: 08.07.2011 21:30
- Дата загрузки фото: 23.01.2021 03:37
- Оригинальная фотография: 803 x 1200 (204 Кб)
- Технические характеристики:
- Фотоаппарат: Canon EOS 30D
- Выдержка: 0,0
- Гиперфокальное расстояние: inf m
- Диафрагма: 1,8
- Светочувствительность: 100
- Фокусное расстояние: 50,0 mm (35 mm equivalent: 50,0 mm)
- Экспокоррекция: -1/3
- Полный EXIF
- Adobe
- ColorTransform: YCbCr
- Composite
- Aperture: 1,8
- CircleOfConfusion: 0,019 mm
- FOV: 39,0 deg
- Flash: Off, Did not fire
- FocalLength35efl: 50,0 mm (35 mm equivalent: 50,0 mm)
- HyperfocalDistance: inf m
- Megapixels: 0,964
- ScaleFactor35efl: 1,6
- ShutterSpeed: 0,0
- ExifIFD
- ApertureValue: 1,4
- ColorSpace: sRGB
- CreateDate: 2011:07:08 21:30:38
- CustomRendered: Normal
- DateTimeOriginal: 2011:07:08 21:30:38
- ExifImageHeight: 1200
- ExifImageWidth: 803
- ExposureCompensation: 0
- ExposureMode: Auto
- ExposureProgram: Aperture-priority AE
- ExposureTime: 0,0
- FNumber: 1,8
- FocalLength: 50,0 mm
- ISO: 100
- MaxApertureValue: 1,0
- MeteringMode: Multi-segment
- SceneCaptureType: Standard
- ShutterSpeedValue: 1/256
- WhiteBalance: Auto
- ICC-header
- ICC-meas
- ICC-view
- IFD0
- Artist: Yepanchintcev Aleksey
- Make: Canon
- Model: Canon EOS 30D
- ModifyDate: 2011:07:19 00:03:57
- Orientation: Horizontal (normal)
- IFD1
- IPTC
- By-line: Yepanchintcev Aleksey
- System
- XMP-aux
- Firmware: 1.0.5
- FlashCompensation: 2
- ImageNumber: 160
- Lens: EF50mm f/1.4 USM
- LensInfo: 50mm f/?
- OwnerName: Yepanchintcev Aleksey
- SerialNumber: 1630900046
- XMP-crs
- AlreadyApplied: True
- BlueHue: 0
- BlueSaturation: +86
- Brightness: +102
- CameraProfile: ACR 4.4
- ChromaticAberrationB: 0
- ChromaticAberrationR: 0
- Clarity: +63
- ColorNoiseReduction: 33
- ColorNoiseReductionDetail: 50
- ColorTemperature: 5908
- Contrast: +40
- ConvertToGrayscale: False
- CropAngle: 0
- CropBottom: 0.941818
- CropConstrainToWarp: 0
- CropHeight: 2200
- CropLeft: 0
- CropRight: 0.941818
- CropTop: 0
- CropUnit: pixels
- CropWidth: 3300
- Defringe: 0
- Exposure: 0.00
- FillLight: 39
- GrainAmount: 0
- GreenHue: 0
- GreenSaturation: -2
- HasCrop: True
- HasSettings: True
- HighlightRecovery: 56
- HueAdjustmentAqua: +67
- HueAdjustmentBlue: 0
- HueAdjustmentGreen: 0
- HueAdjustmentMagenta: 0
- HueAdjustmentOrange: 0
- HueAdjustmentPurple: 0
- HueAdjustmentRed: 0
- HueAdjustmentYellow: 0
- LensManualDistortionAmount: 0
- LensProfileEnable: 0
- LensProfileSetup: LensDefaults
- LuminanceAdjustmentAqua: +7
- LuminanceAdjustmentBlue: -31
- LuminanceAdjustmentGreen: -14
- LuminanceAdjustmentMagenta: 0
- LuminanceAdjustmentOrange: 0
- LuminanceAdjustmentPurple: 0
- LuminanceAdjustmentRed: 0
- LuminanceAdjustmentYellow: 0
- LuminanceNoiseReductionContrast: 50
- LuminanceNoiseReductionDetail: 50
- LuminanceSmoothing: 26
- ParametricDarks: +16
- ParametricHighlightSplit: 75
- ParametricHighlights: -21
- ParametricLights: -24
- ParametricMidtoneSplit: 50
- ParametricShadowSplit: 25
- ParametricShadows: -25
- PerspectiveHorizontal: 0
- PerspectiveRotate: 0.0
- PerspectiveScale: 100
- PerspectiveVertical: 0
- PostCropVignetteAmount: 0
- ProcessVersion: 5.7
- RedHue: 0
- RedSaturation: +26
- Saturation: +19
- SaturationAdjustmentAqua: 0
- SaturationAdjustmentBlue: 0
- SaturationAdjustmentGreen: -17
- SaturationAdjustmentMagenta: 0
- SaturationAdjustmentOrange: -32
- SaturationAdjustmentPurple: 0
- SaturationAdjustmentRed: +23
- SaturationAdjustmentYellow: -59
- ShadowTint: 0
- Shadows: 17
- SharpenDetail: 49
- SharpenEdgeMasking: 0
- SharpenRadius: +1.0
- Sharpness: 21
- SplitToningBalance: +100
- SplitToningHighlightHue: 0
- SplitToningHighlightSaturation: 0
- SplitToningShadowHue: 215
- SplitToningShadowSaturation: 72
- Tint: -25
- ToneCurve: 0, 0, 32, 22, 64, 56, 128, 128, 192, 196, 255, 255
- ToneCurveName: Medium Contrast
- Version: 6.1
- Vibrance: +38
- VignetteAmount: -100
- VignetteMidpoint: 46
- WhiteBalance: Custom
- XMP-dc
- Creator: Yepanchintcev Aleksey
- Format: image/jpeg
- XMP-exif
- ApertureValue: 1,8
- DateTimeDigitized: 2011:07:08 21:30:38+07:00
- DateTimeOriginal: 2011:07:08 21:30:38+07:00
- ExposureCompensation: -1/3
- ExposureTime: 1/320
- FlashFired: False
- FlashFunction: False
- FlashMode: Off
- FlashRedEyeMode: False
- FlashReturn: No return detection
- MaxApertureValue: 1,4
- ShutterSpeedValue: 1/320
- XMP-tiff
- ImageHeight: 3300
- ImageWidth: 2200
- XMP-xmp
- CreateDate: 2011:07:08 21:30:38+07:00
- ModifyDate: 2011:07:19 00:03:57+07:00
- XMP-xmpMM
- Просмотров: 196
- Рейтинг: голосов еще нет
- Отзывов: 0