- Раздел: Отдых, развлечения
- Дата съёмки: 09.09.2011 18:05
- Дата загрузки фото: 23.01.2021 03:37
- Оригинальная фотография: 1200 x 803 (196 Кб)
- Технические характеристики:
- Фотоаппарат: Canon EOS 30D
- Выдержка: 0,0
- Гиперфокальное расстояние: inf m
- Диафрагма: 3,2
- Светочувствительность: 100
- Фокусное расстояние: 50,0 mm (35 mm equivalent: 50,0 mm)
- Экспокоррекция: -1
- Полный EXIF
- Adobe
- ColorTransform: YCbCr
- Composite
- Aperture: 3,2
- CircleOfConfusion: 0,019 mm
- FOV: 39,0 deg
- Flash: Off, Did not fire
- FocalLength35efl: 50,0 mm (35 mm equivalent: 50,0 mm)
- HyperfocalDistance: inf m
- Megapixels: 0,964
- ScaleFactor35efl: 1,6
- ShutterSpeed: 0,0
- ExifIFD
- ApertureValue: 2,8
- ColorSpace: sRGB
- CreateDate: 2011:09:09 18:05:00
- CustomRendered: Normal
- DateTimeOriginal: 2011:09:09 18:05:00
- ExifImageHeight: 803
- ExifImageWidth: 1200
- ExposureCompensation: -1
- ExposureMode: Auto
- ExposureProgram: Aperture-priority AE
- ExposureTime: 0,0
- FNumber: 3,2
- FocalLength: 50,0 mm
- ISO: 100
- MaxApertureValue: 1,0
- MeteringMode: Partial
- SceneCaptureType: Standard
- ShutterSpeedValue: 1/128
- WhiteBalance: Auto
- ICC-header
- ICC-meas
- ICC-view
- IFD0
- Artist: Yepanchintcev Aleksey
- Make: Canon
- Model: Canon EOS 30D
- ModifyDate: 2011:09:09 23:30:21
- Orientation: Horizontal (normal)
- IFD1
- IPTC
- By-line: Yepanchintcev Aleksey
- System
- XMP-aux
- Firmware: 1.0.5
- FlashCompensation: -2
- ImageNumber: 80
- Lens: EF50mm f/1.4 USM
- LensInfo: 50mm f/?
- OwnerName: Yepanchintcev Aleksey
- SerialNumber: 1630900046
- XMP-crs
- AlreadyApplied: True
- BlueHue: 0
- BlueSaturation: +47
- Brightness: +104
- CameraProfile: ACR 4.4
- ChromaticAberrationB: 0
- ChromaticAberrationR: 0
- Clarity: 0
- ColorNoiseReduction: 63
- ColorNoiseReductionDetail: 50
- ColorTemperature: 5793
- Contrast: +68
- ConvertToGrayscale: False
- Defringe: 0
- Exposure: -0.76
- FillLight: 45
- GrainAmount: 0
- GreenHue: 0
- GreenSaturation: -20
- HasCrop: False
- HasSettings: True
- HighlightRecovery: 31
- HueAdjustmentAqua: 0
- HueAdjustmentBlue: 0
- HueAdjustmentGreen: 0
- HueAdjustmentMagenta: 0
- HueAdjustmentOrange: 0
- HueAdjustmentPurple: 0
- HueAdjustmentRed: +24
- HueAdjustmentYellow: 0
- LensManualDistortionAmount: 0
- LensProfileEnable: 0
- LensProfileSetup: LensDefaults
- LuminanceAdjustmentAqua: 0
- LuminanceAdjustmentBlue: 0
- LuminanceAdjustmentGreen: 0
- LuminanceAdjustmentMagenta: 0
- LuminanceAdjustmentOrange: 0
- LuminanceAdjustmentPurple: 0
- LuminanceAdjustmentRed: 0
- LuminanceAdjustmentYellow: 0
- LuminanceNoiseReductionContrast: 0
- LuminanceNoiseReductionDetail: 50
- LuminanceSmoothing: 39
- ParametricDarks: +17
- ParametricHighlightSplit: 75
- ParametricHighlights: +3
- ParametricLights: -19
- ParametricMidtoneSplit: 50
- ParametricShadowSplit: 25
- ParametricShadows: -25
- PerspectiveHorizontal: 0
- PerspectiveRotate: 0.0
- PerspectiveScale: 100
- PerspectiveVertical: 0
- PostCropVignetteAmount: 0
- ProcessVersion: 5.7
- RedHue: 0
- RedSaturation: 0
- Saturation: +10
- SaturationAdjustmentAqua: -60
- SaturationAdjustmentBlue: +19
- SaturationAdjustmentGreen: -100
- SaturationAdjustmentMagenta: -100
- SaturationAdjustmentOrange: -26
- SaturationAdjustmentPurple: -100
- SaturationAdjustmentRed: -7
- SaturationAdjustmentYellow: -23
- ShadowTint: 0
- Shadows: 15
- SharpenDetail: 69
- SharpenEdgeMasking: 0
- SharpenRadius: +1.0
- Sharpness: 21
- SplitToningBalance: +100
- SplitToningHighlightHue: 0
- SplitToningHighlightSaturation: 0
- SplitToningShadowHue: 223
- SplitToningShadowSaturation: 100
- Tint: -21
- ToneCurve: 0, 0, 32, 22, 64, 56, 128, 128, 192, 196, 255, 255
- ToneCurveName: Medium Contrast
- Version: 6.1
- Vibrance: +38
- VignetteAmount: 0
- WhiteBalance: Custom
- XMP-dc
- Creator: Yepanchintcev Aleksey
- Format: image/jpeg
- XMP-exif
- ApertureValue: 3,2
- DateTimeDigitized: 2011:09:09 18:05:00+07:00
- DateTimeOriginal: 2011:09:09 18:05:00+07:00
- ExposureTime: 1/200
- FlashFired: False
- FlashFunction: False
- FlashMode: Off
- FlashRedEyeMode: False
- FlashReturn: No return detection
- MaxApertureValue: 1,4
- ShutterSpeedValue: 1/200
- XMP-tiff
- ImageHeight: 2336
- ImageWidth: 3504
- XMP-xmp
- CreateDate: 2011:09:09 18:05:00+07:00
- ModifyDate: 2011:09:09 23:30:21+07:00
- XMP-xmpMM
- Просмотров: 287
- Рейтинг: голосов еще нет
- Отзывов: 0